Workbook

Sheet perkelas 7
A1: PEMERINTAH KABUPATEN JEPARA
A2: DINAS PENDIDIKAN PEMUDA DAN OLAH RAGA
A3: UNIT PELAKSANA TEKNIS
A4: SMP NEGERI 1 WELAHAN
A5: Jl. Welahan Km. 22 Jepara ' ( 0291 ) 4256295 *59464
A6: E-mail : smpn1welahan@yahoo.co.id website : www. smpn1welahan.com
A9: LAPORAN NILAI MURNI PENILAIAN TENGAH SEMESTER GASAL
A10: SMP NEGERI 1 WELAHAN
A11: TAHUN PELAJARAN 2018 / 2019
A13: NO | B13: NIS | C13: NAMA SISWA | D13: Kelas | E13: Mata Pelajaran | P13: Jumlah | Q13: Rata - rata | R13: Peringkat
E14: PAI | F14: PKn | G14: B.Ind | H14: B.Ing | I14: MTK | J14: IPA | K14: IPS | L14: S. Bud | M14: Penjas | N14: Prakarya | O14: B.JW
A15: KRITERIA KETUNTASAN MINIMAL (KKM) | E15: 75 | F15: 75 | G15: 75 | H15: 75 | I15: 75 | J15: 75 | K15: 75 | L15: 75 | M15: 75 | N15: 75 | O15: 75
A16: 1 | B16: 1818384001 | C16: ADITYA SETIAWAN | D16: 7-A | E16: 65 | F16: 80 | G16: 72 | H16: 63 | I16: 83 | J16: 47 | K16: 68 | L16: 87 | M16: 75 | N16: 74 | O16: 82 | P16: =SUM(E16:O16) -> 796 | Q16: =AVERAGE(E16:O16) -> 72.363636 | R16: =RANK(P16,$P$16:$P$47) -> 25
A17: 2 | B17: 1818384002 | C17: AINUR ROFIQ | D17: 7-A | E17: 82 | F17: 80 | G17: 72 | H17: 60 | I17: 79 | J17: 47 | K17: 75 | L17: 87 | M17: 78 | N17: 73 | O17: 85 | P17: =SUM(E17:O17) -> 818 | Q17: =AVERAGE(E17:O17) -> 74.363636 | R17: =RANK(P17,$P$16:$P$47) -> 21
A18: 3 | B18: 1818384003 | C18: AISYAH NAFIS MAULA | D18: 7-A | E18: 88 | F18: 83 | G18: 75 | H18: 87 | I18: 71 | J18: 55 | K18: 75 | L18: 88 | M18: 58 | N18: 75 | O18: 90 | P18: =SUM(E18:O18) -> 845 | Q18: =AVERAGE(E18:O18) -> 76.818182 | R18: =RANK(P18,$P$16:$P$47) -> 17
A19: 4 | B19: 1818384004 | C19: ANASTASYA IRAWATI | D19: 7-A | E19: 97 | F19: 93 | G19: 78 | H19: 78 | I19: 90 | J19: 60 | K19: 75 | L19: 98 | M19: 75 | N19: 76 | O19: 100 | P19: =SUM(E19:O19) -> 920 | Q19: =AVERAGE(E19:O19) -> 83.636364 | R19: =RANK(P19,$P$16:$P$47) -> 4
A20: 5 | B20: 1818384005 | C20: AULA AMMIMAH | D20: 7-A | E20: 85 | F20: 82 | G20: 77 | H20: 75 | I20: 83 | J20: 70 | K20: 73 | L20: 97 | M20: 71 | N20: 79 | O20: 95 | P20: =SUM(E20:O20) -> 887 | Q20: =AVERAGE(E20:O20) -> 80.636364 | R20: =RANK(P20,$P$16:$P$47) -> 10
A21: 6 | B21: 1818384006 | C21: FARIDATUL AMALIYA | D21: 7-A | E21: 92 | F21: 93 | G21: 80 | H21: 78 | I21: 83 | J21: 70 | K21: 75 | L21: 95 | M21: 82 | N21: 75 | O21: 92 | P21: =SUM(E21:O21) -> 915 | Q21: =AVERAGE(E21:O21) -> 83.181818 | R21: =RANK(P21,$P$16:$P$47) -> 5
A22: 7 | B22: 1818384007 | C22: FAUZI AHMAD ZAEKHAN | D22: 7-A | E22: 80 | F22: 80 | G22: 76 | H22: 65 | I22: 69 | J22: 37 | K22: 65 | L22: 78 | M22: 70 | N22: 70 | O22: 80 | P22: =SUM(E22:O22) -> 770 | Q22: =AVERAGE(E22:O22) -> 70 | R22: =RANK(P22,$P$16:$P$47) -> 28
A23: 8 | B23: 1818384008 | C23: FIRDA AULIA MUSTAFIDAH | D23: 7-A | E23: 90 | F23: 87 | G23: 78 | H23: 77 | I23: 88 | J23: 65 | K23: 70 | L23: 88 | M23: 71 | N23: 79 | O23: 98 | P23: =SUM(E23:O23) -> 891 | Q23: =AVERAGE(E23:O23) -> 81 | R23: =RANK(P23,$P$16:$P$47) -> 8
A24: 9 | B24: 1818384009 | C24: KHAILA AURA SABNA | D24: 7-A | E24: 90 | F24: 87 | G24: 70 | H24: 73 | I24: 89 | J24: 67 | K24: 68 | L24: 97 | M24: 70 | N24: 80 | O24: 95 | P24: =SUM(E24:O24) -> 886 | Q24: =AVERAGE(E24:O24) -> 80.545455 | R24: =RANK(P24,$P$16:$P$47) -> 11
A25: 10 | B25: 1818384010 | C25: LINA SILVIANA | D25: 7-A | E25: 92 | F25: 90 | G25: 78 | H25: 83 | I25: 86 | J25: 62 | K25: 68 | L25: 97 | M25: 58 | N25: 73 | O25: 93 | P25: =SUM(E25:O25) -> 880 | Q25: =AVERAGE(E25:O25) -> 80 | R25: =RANK(P25,$P$16:$P$47) -> 13
A26: 11 | B26: 1818384011 | C26: MARSHA DWI ANGGRAINI | D26: 7-A | E26: 82 | F26: 87 | G26: 73 | H26: 68 | I26: 83 | J26: 57 | K26: 55 | L26: 90 | M26: 58 | N26: 68 | O26: 78 | P26: =SUM(E26:O26) -> 799 | Q26: =AVERAGE(E26:O26) -> 72.636364 | R26: =RANK(P26,$P$16:$P$47) -> 24
A27: 12 | B27: 1818384012 | C27: MAZDALINA HAIFA | D27: 7-A | E27: 95 | F27: 90 | G27: 72 | H27: 92 | I27: 94 | J27: 77 | K27: 82 | L27: 97 | M27: 66 | N27: 81 | O27: 98 | P27: =SUM(E27:O27) -> 944 | Q27: =AVERAGE(E27:O27) -> 85.818182 | R27: =RANK(P27,$P$16:$P$47) -> 1
... A44: 29 | B44: 1818384029 | C44: SITI FITRIANA RAMADHANI | D44: 7-A | E44: 90 | F44: 75 | G44: 70 | H44: 82 | I44: 84 | J44: 50 | K44: 77 | L44: 90 | M44: 66 | N44: 77 | O44: 85 | P44: =SUM(E44:O44) -> 846 | Q44: =AVERAGE(E44:O44) -> 76.909091 | R44: =RANK(P44,$P$16:$P$47) -> 15
A45: 30 | B45: 1818384030 | C45: SUKMA DEWI AULIA PUTRI | D45: 7-A | E45: 90 | F45: 90 | G45: 80 | H45: 70 | I45: 91 | J45: 63 | K45: 73 | L45: 90 | M45: 70 | N45: 73 | O45: 98 | P45: =SUM(E45:O45) -> 888 | Q45: =AVERAGE(E45:O45) -> 80.727273 | R45: =RANK(P45,$P$16:$P$45) -> 9
C49: Nilai Tertinggi | E49: =MAX(E16:E45) -> 97 | F49: =MAX(F16:F45) -> 93 | G49: =MAX(G16:G45) -> 87 | H49: =MAX(H16:H45) -> 97 | I49: =MAX(I16:I45) -> 94 | J49: =MAX(J16:J45) -> 77 | K49: =MAX(K16:K45) -> 85 | L49: =MAX(L16:L45) -> 98 | ... O49: =MAX(O16:O45) -> 100
C50: Nilai Terendah | E50: =MIN(E16:E45) -> 60 | F50: =MIN(F16:F45) -> 59 | G50: =MIN(G16:G45) -> 68 | H50: =MIN(H16:H45) -> 58 | I50: =MIN(I16:I45) -> 60 | J50: =MIN(J16:J45) -> 28 | K50: =MIN(K16:K45) -> 55 | L50: =MIN(L16:L45) -> 75 | ... O50: =MIN(O16:O45) -> 72
C51: Rata - Rata | E51: =AVERAGE(E16:E45) -> 84.366667 | F51: =AVERAGE(F16:F45) -> 82.366667 | G51: =AVERAGE(G16:G45) -> 75.833333 | H51: =AVERAGE(H16:H45) -> 75.533333 | I51: =AVERAGE(I16:I45) -> 82.833333 | J51: =AVERAGE(J16:J45) -> 56.433333 | K51: =AVERAGE(K16:K45) -> 71.633333 | L51: =AVERAGE(L16:L45) -> 90.833333 | ... O51: =AVERAGE(O16:O45) -> 88.6
C53: Mengetahui , | L53: Welahan, Oktober 2018
C54: Kepala SMP Negeri 1 Welahan | E54: Orang Tua/Wali Murid | L54: Wali Kelas 7A
C57: Hadi Subeno, S.Pd. | E57: ……………………………………. | L57: Endang Usriyah, S.Pd
C58: NIP. 19620906 198302 1 003 | L58: NIP. 19671227 199512 2 002
A64: PEMERINTAH KABUPATEN JEPARA
A65: DINAS PENDIDIKAN PEMUDA DAN OLAH RAGA
A66: UNIT PELAKSANA TEKNIS
A67: SMP NEGERI 1 WELAHAN
A68: Jl. Welahan Km. 22 Jepara ' ( 0291 ) 4256295 *59464
A69: E-mail : smpn1welahan@yahoo.co.id website : www. smpn1welahan.com
A72: LAPORAN NILAI MURNI PENILAIAN TENGAH SEMESTER GASAL
...

Sheet perkelas 8
A1: PEMERINTAH KABUPATEN JEPARA
A2: DINAS PENDIDIKAN PEMUDA DAN OLAH RAGA
A3: UNIT PELAKSANA TEKNIS
A4: SMP NEGERI 1 WELAHAN
A5: Jl. Welahan Km. 22 Jepara ' ( 0291 ) 4256295 *59464
A6: E-mail : smpn1welahan@yahoo.co.id website : www. smpn1welahan.com
A9: LAPORAN NILAI MURNI PENILAIAN TENGAH SEMESTER GASAL
A10: SMP NEGERI 1 WELAHAN
A11: TAHUN PELAJARAN 2018 / 2019
A13: NO | B13: NIS | C13: NAMA SISWA | D13: Kelas | E13: Mata Pelajaran | P13: Jumlah | Q13: Rata - rata | R13: Peringkat
E14: PAI | F14: PKn | G14: B.Ind | H14: B.Ing | I14: MTK | J14: IPA | K14: IPS | L14: S. Bud | M14: Penjas | N14: Prakarya | O14: B.JW
A15: KRITERIA KETUNTASAN MINIMAL (KKM) | E15: 75 | F15: 75 | G15: 75 | H15: 75 | I15: 75 | J15: 75 | K15: 75 | L15: 75 | M15: 75 | N15: 75 | O15: 75
A16: 1 | B16: 17187518 | C16: A. KHOIRUZZAD | D16: 8-A | E16: 82 | F16: 82 | G16: 83 | H16: 67 | I16: 64 | J16: 54 | K16: 72 | L16: 77 | M16: 91 | N16: 83 | O16: 93 | P16: =SUM(E16:O16) -> 848 | Q16: =AVERAGE(E16:O16) -> 77.090909 | R16: =RANK(P16,$P$16:$P$47) -> 21
A17: 2 | B17: 17187520 | C17: AHMAD FAIZ MUNA | D17: 8-A | E17: 90 | F17: 75 | G17: 88 | H17: 78 | I17: 70 | J17: 60 | K17: 77 | L17: 82 | M17: 86 | N17: 88 | O17: 93 | P17: =SUM(E17:O17) -> 887 | Q17: =AVERAGE(E17:O17) -> 80.636364 | R17: =RANK(P17,$P$16:$P$47) -> 11
A18: 3 | B18: 17187521 | C18: AKHMAD KUSIYANTO | D18: 8-A | E18: 82 | F18: 72 | G18: 72 | H18: 57 | I18: 58 | J18: 52 | K18: 78 | L18: 67 | M18: 87 | N18: 81 | O18: 92 | P18: =SUM(E18:O18) -> 798 | Q18: =AVERAGE(E18:O18) -> 72.545455 | R18: =RANK(P18,$P$16:$P$47) -> 31
A19: 4 | B19: 17187650 | C19: ANATASYA RUQOYATUL ULFIYAH | D19: 8-A | E19: 82 | F19: 73 | G19: 68 | H19: 73 | I19: 64 | J19: 47 | K19: 83 | L19: 63 | M19: 75 | N19: 90 | O19: 83 | P19: =SUM(E19:O19) -> 801 | Q19: =AVERAGE(E19:O19) -> 72.818182 | R19: =RANK(P19,$P$16:$P$47) -> 30
A20: 5 | B20: 17187524 | C20: ANNASYA NAELA RAMADHANI | D20: 8-A | E20: 90 | F20: 82 | G20: 85 | H20: 77 | I20: 64 | J20: 62 | K20: 83 | L20: 82 | M20: 86 | N20: 85 | O20: 92 | P20: =SUM(E20:O20) -> 888 | Q20: =AVERAGE(E20:O20) -> 80.727273 | R20: =RANK(P20,$P$16:$P$47) -> 10
A21: 6 | B21: 17187555 | C21: ARIEF RAHMAN HAKIM | D21: 8-A | E21: 87 | F21: 79 | G21: 85 | H21: 62 | I21: 46 | J21: 60 | K21: 78 | L21: 83 | M21: 97 | N21: 88 | O21: 92 | P21: =SUM(E21:O21) -> 857 | Q21: =AVERAGE(E21:O21) -> 77.909091 | R21: =RANK(P21,$P$16:$P$47) -> 18
A22: 7 | B22: 17187655 | C22: DEVY SALSABILA | D22: 8-A | E22: 93 | F22: 90 | G22: 85 | H22: 78 | I22: 88 | J22: 60 | K22: 92 | L22: 83 | M22: 83 | N22: 81 | O22: 97 | P22: =SUM(E22:O22) -> 930 | Q22: =AVERAGE(E22:O22) -> 84.545455 | R22: =RANK(P22,$P$16:$P$47) -> 3
A23: 8 | B23: 17187591 | C23: DWIKI ADITYA RABBANI | D23: 8-A | E23: 90 | F23: 80 | G23: 83 | H23: 77 | I23: 70 | J23: 54 | K23: 82 | L23: 83 | M23: 89 | N23: 85 | O23: 93 | P23: =SUM(E23:O23) -> 886 | Q23: =AVERAGE(E23:O23) -> 80.545455 | R23: =RANK(P23,$P$16:$P$47) -> 12
A24: 9 | B24: 17187592 | C24: EKA ARDELIA | D24: 8-A | E24: 90 | F24: 77 | G24: 85 | H24: 91 | I24: 64 | J24: 55 | K24: 85 | L24: 70 | M24: 81 | N24: 90 | O24: 85 | P24: =SUM(E24:O24) -> 873 | Q24: =AVERAGE(E24:O24) -> 79.363636 | R24: =RANK(P24,$P$16:$P$47) -> 16
A25: 10 | B25: 17187619 | C25: EKA NUR LAILA FITRIA | D25: 8-A | E25: 88 | F25: 80 | G25: 80 | H25: 55 | I25: 64 | J25: 57 | K25: 75 | L25: 73 | M25: 83 | N25: 90 | O25: 93 | P25: =SUM(E25:O25) -> 838 | Q25: =AVERAGE(E25:O25) -> 76.181818 | R25: =RANK(P25,$P$16:$P$47) -> 24
A26: 11 | B26: 17187620 | C26: ELINDA UMI KHASANAH | D26: 8-A | E26: 92 | F26: 77 | G26: 80 | H26: 73 | I26: 79 | J26: 69 | K26: 73 | L26: 82 | M26: 85 | N26: 87 | O26: 97 | P26: =SUM(E26:O26) -> 894 | Q26: =AVERAGE(E26:O26) -> 81.272727 | R26: =RANK(P26,$P$16:$P$47) -> 9
A27: 12 | B27: 17187528 | C27: EVA NOVIA FITRIANI | D27: 8-A | E27: 88 | F27: 72 | G27: 68 | H27: 65 | I27: 58 | J27: 59 | K27: 78 | L27: 80 | M27: 74 | N27: 78 | O27: 87 | P27: =SUM(E27:O27) -> 807 | Q27: =AVERAGE(E27:O27) -> 73.363636 | R27: =RANK(P27,$P$16:$P$47) -> 29
... A47: 32 | B47: 17187645 | C47: ZANUBA ARIFAH AZZAHRA | D47: 8-A | E47: 78 | F47: 89 | G47: 88 | H47: 60 | I47: 79 | J47: 47 | K47: 78 | L47: 68 | M47: 82 | N47: 88 | O47: 93 | P47: =SUM(E47:O47) -> 850 | Q47: =AVERAGE(E47:O47) -> 77.272727 | R47: =RANK(P47,$P$16:$P$47) -> 19
C50: Nilai Tertinggi | E50: =MAX(E16:E47) -> 98 | F50: =MAX(F16:F47) -> 90 | G50: =MAX(G16:G47) -> 92 | H50: =MAX(H16:H47) -> 92 | I50: =MAX(I16:I47) -> 94 | J50: =MAX(J16:J47) -> 74 | K50: =MAX(K16:K47) -> 95 | L50: =MAX(L16:L47) -> 92 | ... O50: =MAX(O16:O47) -> 97
C51: Nilai Terendah | E51: =MIN(E16:E47) -> 78 | F51: =MIN(F16:F47) -> 67 | G51: =MIN(G16:G47) -> 68 | H51: =MIN(H16:H47) -> 53 | I51: =MIN(I16:I47) -> 46 | J51: =MIN(J16:J47) -> 44 | K51: =MIN(K16:K47) -> 70 | L51: =MIN(L16:L47) -> 63 | ... O51: =MIN(O16:O47) -> 83
C52: Rata - Rata | E52: =AVERAGE(E16:E47) -> 87.03125 | F52: =AVERAGE(F16:F47) -> 79.125 | G52: =AVERAGE(G16:G47) -> 80.8125 | H52: =AVERAGE(H16:H47) -> 69.5625 | I52: =AVERAGE(I16:I47) -> 73.84375 | J52: =AVERAGE(J16:J47) -> 59.125 | K52: =AVERAGE(K16:K47) -> 81.5625 | L52: =AVERAGE(L16:L47) -> 77.59375 | ... O52: =AVERAGE(O16:O47) -> 91.375
C54: Mengetahui , | L54: Welahan, Oktober 2018
C55: Kepala SMP Negeri 1 Welahan | E55: Orang Tua/Wali Murid | L55: Wali Kelas 8A
C58: Hadi Subeno, S.Pd. | E58: ……………………………………. | L58: AGUS TRI HARJONO, S.Pd
C59: NIP. 19620906 198302 1 003 | L59: NIP. 19640801 198803 1 006
A65: PEMERINTAH KABUPATEN JEPARA
A66: DINAS PENDIDIKAN PEMUDA DAN OLAH RAGA
A67: UNIT PELAKSANA TEKNIS
A68: SMP NEGERI 1 WELAHAN
A69: Jl. Welahan Km. 22 Jepara ' ( 0291 ) 4256295 *59464
A70: E-mail : smpn1welahan@yahoo.co.id website : www. smpn1welahan.com
A73: LAPORAN NILAI MURNI PENILAIAN TENGAH SEMESTER GASAL
A74: SMP NEGERI 1 WELAHAN
...

Sheet perkelas 9
A1: PEMERINTAH KABUPATEN JEPARA
A2: DINAS PENDIDIKAN PEMUDA DAN OLAH RAGA
A3: UNIT PELAKSANA TEKNIS
A4: SMP NEGERI 1 WELAHAN
A5: Jl. Welahan Km. 22 Jepara ' ( 0291 ) 4256295 *59464
A6: E-mail : smpn1welahan@yahoo.co.id website : www. smpn1welahan.com
A9: LAPORAN NILAI MURNI PENILAIAN TENGAH SEMESTER GASAL
A10: SMP NEGERI 1 WELAHAN
A11: TAHUN PELAJARAN 2018 / 2019
A13: NO | B13: NIS | C13: NAMA SISWA | D13: Kelas | E13: Mata Pelajaran | P13: Jumlah | Q13: Rata - rata | R13: Peringkat
E14: PAI | F14: PKn | G14: B.Ind | H14: B.Ing | I14: MTK | J14: IPA | K14: IPS | L14: S. Bud | M14: Penjas | N14: Prakarya | O14: B.JW
A15: KRITERIA KETUNTASAN MINIMAL (KKM) | E15: 75 | F15: 75 | G15: 75 | H15: 75 | I15: 75 | J15: 75 | K15: 75 | L15: 75 | M15: 75 | N15: 75 | O15: 75
A16: 1 | B16: 7451 | C16: ADINDA NAJMA ZUHRAHIDA | D16: 9-A | E16: 80 | F16: 95 | G16: 73 | H16: 77 | I16: 70 | J16: 69 | K16: 85 | L16: 92 | M16: 70 | N16: 90 | O16: 76 | P16: =SUM(E16:O16) -> 877 | Q16: =AVERAGE(E16:O16) -> 79.727273 | R16: =RANK(P16,$P$16:$P$47) -> 15
A17: 2 | B17: 7487 | C17: AHMAD NADHIF NIHALY | D17: 9-A | E17: 82 | F17: 92 | G17: 73 | H17: 82 | I17: 86 | J17: 79 | K17: 78 | L17: 98 | M17: 76 | N17: 85 | O17: 82 | P17: =SUM(E17:O17) -> 913 | Q17: =AVERAGE(E17:O17) -> 83 | R17: =RANK(P17,$P$16:$P$47) -> 10
A18: 3 | B18: 7385 | C18: AHMAD NURUL FANNY | D18: 9-A | E18: 80 | F18: 75 | G18: 78 | H18: 68 | I18: 70 | J18: 85 | K18: 77 | L18: 88 | M18: 82 | N18: 88 | O18: 83 | P18: =SUM(E18:O18) -> 874 | Q18: =AVERAGE(E18:O18) -> 79.454545 | R18: =RANK(P18,$P$16:$P$47) -> 16
A19: 4 | B19: 7419 | C19: ANANDA PUTRI AMALIA | D19: 9-A | E19: 87 | F19: 87 | G19: 87 | H19: 93 | I19: 83 | J19: 72 | K19: 92 | L19: 85 | M19: 71 | N19: 97 | O19: 82 | P19: =SUM(E19:O19) -> 936 | Q19: =AVERAGE(E19:O19) -> 85.090909 | R19: =RANK(P19,$P$16:$P$47) -> 3
A20: 5 | B20: 7356 | C20: ARUM LAROSATI | D20: 9-A | E20: 87 | F20: 87 | G20: 83 | H20: 87 | I20: 92 | J20: 87 | K20: 92 | L20: 93 | M20: 71 | N20: 97 | O20: 88 | P20: =SUM(E20:O20) -> 964 | Q20: =AVERAGE(E20:O20) -> 87.636364 | R20: =RANK(P20,$P$16:$P$47) -> 1
A21: 6 | B21: 7490 | C21: BINTUN SANIYATUS SALAMAH | D21: 9-A | E21: 78 | F21: 80 | G21: 75 | H21: 78 | I21: 70 | J21: 72 | K21: 78 | L21: 92 | M21: 63 | N21: 95 | O21: 87 | P21: =SUM(E21:O21) -> 868 | Q21: =AVERAGE(E21:O21) -> 78.909091 | R21: =RANK(P21,$P$16:$P$47) -> 19
A22: 7 | B22: 7363 | C22: DHANISKA ELFARAZ NADIA | D22: 9-A | E22: 85 | F22: 85 | G22: 72 | H22: 82 | I22: 66 | J22: 77 | K22: 75 | L22: 82 | M22: 76 | N22: 92 | O22: 76 | P22: =SUM(E22:O22) -> 868 | Q22: =AVERAGE(E22:O22) -> 78.909091 | R22: =RANK(P22,$P$16:$P$47) -> 19
A23: 8 | B23: 7457 | C23: ELLA FAUSTINA SARI | D23: 9-A | E23: 72 | F23: 79 | G23: 67 | H23: 80 | I23: 64 | J23: 79 | K23: 85 | L23: 85 | M23: 78 | N23: 88 | O23: 78 | P23: =SUM(E23:O23) -> 855 | Q23: =AVERAGE(E23:O23) -> 77.727273 | R23: =RANK(P23,$P$16:$P$47) -> 22
A24: 9 | B24: 7493 | C24: FIRDA RIANA HIDAYATUSSANI | D24: 9-A | E24: 75 | F24: 79 | G24: 70 | H24: 67 | I24: 76 | J24: 72 | K24: 71 | L24: 92 | M24: 56 | N24: 78 | O24: 76 | P24: =SUM(E24:O24) -> 812 | Q24: =AVERAGE(E24:O24) -> 73.818182 | R24: =RANK(P24,$P$16:$P$47) -> 29
A25: 10 | B25: 7494 | C25: HANIF AKMAL MAULANA | D25: 9-A | E25: 72 | F25: 80 | G25: 67 | H25: 63 | I25: 66 | J25: 75 | K25: 78 | L25: 68 | M25: 63 | N25: 72 | O25: 83 | P25: =SUM(E25:O25) -> 787 | Q25: =AVERAGE(E25:O25) -> 71.545455 | R25: =RANK(P25,$P$16:$P$47) -> 32
A26: 11 | B26: 7398 | C26: IKA NUR FITRIYANI | D26: 9-A | E26: 92 | F26: 93 | G26: 87 | H26: 93 | I26: 79 | J26: 77 | K26: 80 | L26: 97 | M26: 67 | N26: 95 | O26: 83 | P26: =SUM(E26:O26) -> 943 | Q26: =AVERAGE(E26:O26) -> 85.727273 | R26: =RANK(P26,$P$16:$P$47) -> 2
A27: 12 | B27: 7495 | C27: IKHLASUL AMAL | D27: 9-A | E27: 75 | F27: 92 | G27: 77 | H27: 88 | I27: 86 | J27: 77 | K27: 80 | L27: 95 | M27: 77 | N27: 90 | O27: 82 | P27: =SUM(E27:O27) -> 919 | Q27: =AVERAGE(E27:O27) -> 83.545455 | R27: =RANK(P27,$P$16:$P$47) -> 9
... A47: 32 | B47: 7315 | C47: ZUMI'ATUL AFIFAH | D47: 9-A | E47: 82 | F47: 83 | G47: 78 | H47: 72 | I47: 68 | J47: 77 | K47: 78 | L47: 90 | M47: 67 | N47: 92 | O47: 85 | P47: =SUM(E47:O47) -> 872 | Q47: =AVERAGE(E47:O47) -> 79.272727 | R47: =RANK(P47,$P$16:$P$47) -> 18
C50: Nilai Tertinggi | E50: =MAX(E16:E45) -> 92 | F50: =MAX(F16:F45) -> 95 | G50: =MAX(G16:G45) -> 87 | H50: =MAX(H16:H45) -> 93 | I50: =MAX(I16:I45) -> 92 | J50: =MAX(J16:J45) -> 87 | K50: =MAX(K16:K45) -> 92 | L50: =MAX(L16:L45) -> 98 | ... O50: =MAX(O16:O45) -> 90
C51: Nilai Terendah | E51: =MIN(E16:E45) -> 70 | F51: =MIN(F16:F45) -> 72 | G51: =MIN(G16:G45) -> 60 | H51: =MIN(H16:H45) -> 55 | I51: =MIN(I16:I45) -> 54 | J51: =MIN(J16:J45) -> 64 | K51: =MIN(K16:K45) -> 60 | L51: =MIN(L16:L45) -> 68 | ... O51: =MIN(O16:O45) -> 76
C52: Rata - Rata | E52: =AVERAGE(E16:E45) -> 81.6 | F52: =AVERAGE(F16:F45) -> 84.066667 | G52: =AVERAGE(G16:G45) -> 72.766667 | H52: =AVERAGE(H16:H45) -> 76.233333 | I52: =AVERAGE(I16:I45) -> 74.933333 | J52: =AVERAGE(J16:J45) -> 74.6 | K52: =AVERAGE(K16:K45) -> 78.166667 | L52: =AVERAGE(L16:L45) -> 89.366667 | ... O52: =AVERAGE(O16:O45) -> 83.566667
C54: Mengetahui , | L54: Welahan, Oktober 2018
C55: Kepala SMP Negeri 1 Welahan | E55: Orang Tua/Wali Murid | L55: Wali Kelas 9A
C58: Hadi Subeno, S.Pd. | E58: ……………………………………. | L58: Dra. YANI WULANDARI
C59: NIP. 19620906 198302 1 003 | L59: NIP. 19651125 199103 2 006
A64: PEMERINTAH KABUPATEN JEPARA
A65: DINAS PENDIDIKAN PEMUDA DAN OLAH RAGA
A66: UNIT PELAKSANA TEKNIS
A67: SMP NEGERI 1 WELAHAN
A68: Jl. Welahan Km. 22 Jepara ' ( 0291 ) 4256295 *59464
A69: E-mail : smpn1welahan@yahoo.co.id website : www. smpn1welahan.com
A72: LAPORAN NILAI MURNI PENILAIAN TENGAH SEMESTER GASAL
A73: SMP NEGERI 1 WELAHAN
...

Sheet 7
A1: PEMERINTAH KABUPATEN JEPARA
A2: DINAS PENDIDIKAN PEMUDA DAN OLAH RAGA
A3: UNIT PELAKSANA TEKNIS
A4: SMP NEGERI 1 WELAHAN
A5: Jl. Welahan Km. 22 Jepara ' ( 0291 ) 4256295 *59464
A6: E-mail : smpn1welahan@yahoo.co.id website : www. smpn1welahan.com
A9: LAPORAN NILAI MURNI ULANGAN/PENILAIAN TENGAH SEMESTER GENAP
A10: SMP NEGERI 1 WELAHAN
A11: TAHUN PELAJARAN 2017/2018
A13: NO | B13: NIS | C13: NAMA SISWA | D13: Kelas 7 | E13: Mata Pelajaran | P13: Jumlah | Q13: Rata - rata | R13: Peringkat
E14: PAI | F14: PKn | G14: B.Ind | H14: B.Ing | I14: MTK | J14: IPA | K14: IPS | L14: S. Bud | M14: Penjas | N14: Prakarya | O14: B.JW
A15: KRITERIA KETUNTASAN MINIMAL (KKM) | E15: 75 | F15: 75 | G15: 75 | H15: 75 | I15: 75 | J15: 75 | K15: 75 | L15: 75 | M15: 75 | N15: 75 | O15: 75
A16: 1 | B16: ='perkelas 7'!B16 -> 1818384001 | C16: ='perkelas 7'!C16 -> ADITYA SETIAWAN | D16: ='perkelas 7'!D16 -> 7-A | E16: ='perkelas 7'!E16 -> 65 | F16: ='perkelas 7'!F16 -> 80 | G16: ='perkelas 7'!G16 -> 72 | H16: ='perkelas 7'!H16 -> 63 | I16: ='perkelas 7'!I16 -> 83 | ... O16: ='perkelas 7'!O16 -> 82 | P16: =SUM(E16:O16) -> 796 | Q16: =AVERAGE(E16:O16) -> 72.363636 | R16: 76
A17: 2 | B17: ='perkelas 7'!B17 -> 1818384002 | C17: ='perkelas 7'!C17 -> AINUR ROFIQ | D17: ='perkelas 7'!D17 -> 7-A | E17: ='perkelas 7'!E17 -> 82 | F17: ='perkelas 7'!F17 -> 80 | G17: ='perkelas 7'!G17 -> 72 | H17: ='perkelas 7'!H17 -> 60 | I17: ='perkelas 7'!I17 -> 79 | ... O17: ='perkelas 7'!O17 -> 85 | P17: =SUM(E17:O17) -> 818 | Q17: =AVERAGE(E17:O17) -> 74.363636 | R17: 53
A18: 3 | B18: ='perkelas 7'!B18 -> 1818384003 | C18: ='perkelas 7'!C18 -> AISYAH NAFIS MAULA | D18: ='perkelas 7'!D18 -> 7-A | E18: ='perkelas 7'!E18 -> 88 | F18: ='perkelas 7'!F18 -> 83 | G18: ='perkelas 7'!G18 -> 75 | H18: ='perkelas 7'!H18 -> 87 | I18: ='perkelas 7'!I18 -> 71 | ... O18: ='perkelas 7'!O18 -> 90 | P18: =SUM(E18:O18) -> 845 | Q18: =AVERAGE(E18:O18) -> 76.818182 | R18: 36
A19: 4 | B19: ='perkelas 7'!B19 -> 1818384004 | C19: ='perkelas 7'!C19 -> ANASTASYA IRAWATI | D19: ='perkelas 7'!D19 -> 7-A | E19: ='perkelas 7'!E19 -> 97 | F19: ='perkelas 7'!F19 -> 93 | G19: ='perkelas 7'!G19 -> 78 | H19: ='perkelas 7'!H19 -> 78 | I19: ='perkelas 7'!I19 -> 90 | ... O19: ='perkelas 7'!O19 -> 100 | P19: =SUM(E19:O19) -> 920 | Q19: =AVERAGE(E19:O19) -> 83.636364 | R19: 5
A20: 5 | B20: ='perkelas 7'!B20 -> 1818384005 | C20: ='perkelas 7'!C20 -> AULA AMMIMAH | D20: ='perkelas 7'!D20 -> 7-A | E20: ='perkelas 7'!E20 -> 85 | F20: ='perkelas 7'!F20 -> 82 | G20: ='perkelas 7'!G20 -> 77 | H20: ='perkelas 7'!H20 -> 75 | I20: ='perkelas 7'!I20 -> 83 | ... O20: ='perkelas 7'!O20 -> 95 | P20: =SUM(E20:O20) -> 887 | Q20: =AVERAGE(E20:O20) -> 80.636364 | R20: 14
A21: 6 | B21: ='perkelas 7'!B21 -> 1818384006 | C21: ='perkelas 7'!C21 -> FARIDATUL AMALIYA | D21: ='perkelas 7'!D21 -> 7-A | E21: ='perkelas 7'!E21 -> 92 | F21: ='perkelas 7'!F21 -> 93 | G21: ='perkelas 7'!G21 -> 80 | H21: ='perkelas 7'!H21 -> 78 | I21: ='perkelas 7'!I21 -> 83 | ... O21: ='perkelas 7'!O21 -> 92 | P21: =SUM(E21:O21) -> 915 | Q21: =AVERAGE(E21:O21) -> 83.181818 | R21: 6
A22: 7 | B22: ='perkelas 7'!B22 -> 1818384007 | C22: ='perkelas 7'!C22 -> FAUZI AHMAD ZAEKHAN | D22: ='perkelas 7'!D22 -> 7-A | E22: ='perkelas 7'!E22 -> 80 | F22: ='perkelas 7'!F22 -> 80 | G22: ='perkelas 7'!G22 -> 76 | H22: ='perkelas 7'!H22 -> 65 | I22: ='perkelas 7'!I22 -> 69 | ... O22: ='perkelas 7'!O22 -> 80 | P22: =SUM(E22:O22) -> 770 | Q22: =AVERAGE(E22:O22) -> 70 | R22: 95
A23: 8 | B23: ='perkelas 7'!B23 -> 1818384008 | C23: ='perkelas 7'!C23 -> FIRDA AULIA MUSTAFIDAH | D23: ='perkelas 7'!D23 -> 7-A | E23: ='perkelas 7'!E23 -> 90 | F23: ='perkelas 7'!F23 -> 87 | G23: ='perkelas 7'!G23 -> 78 | H23: ='perkelas 7'!H23 -> 77 | I23: ='perkelas 7'!I23 -> 88 | ... O23: ='perkelas 7'!O23 -> 98 | P23: =SUM(E23:O23) -> 891 | Q23: =AVERAGE(E23:O23) -> 81 | R23: 12
A24: 9 | B24: ='perkelas 7'!B24 -> 1818384009 | C24: ='perkelas 7'!C24 -> KHAILA AURA SABNA | D24: ='perkelas 7'!D24 -> 7-A | E24: ='perkelas 7'!E24 -> 90 | F24: ='perkelas 7'!F24 -> 87 | G24: ='perkelas 7'!G24 -> 70 | H24: ='perkelas 7'!H24 -> 73 | I24: ='perkelas 7'!I24 -> 89 | ... O24: ='perkelas 7'!O24 -> 95 | P24: =SUM(E24:O24) -> 886 | Q24: =AVERAGE(E24:O24) -> 80.545455 | R24: 15
A25: 10 | B25: ='perkelas 7'!B25 -> 1818384010 | C25: ='perkelas 7'!C25 -> LINA SILVIANA | D25: ='perkelas 7'!D25 -> 7-A | E25: ='perkelas 7'!E25 -> 92 | F25: ='perkelas 7'!F25 -> 90 | G25: ='perkelas 7'!G25 -> 78 | H25: ='perkelas 7'!H25 -> 83 | I25: ='perkelas 7'!I25 -> 86 | ... O25: ='perkelas 7'!O25 -> 93 | P25: =SUM(E25:O25) -> 880 | Q25: =AVERAGE(E25:O25) -> 80 | R25: 19
A26: 11 | B26: ='perkelas 7'!B26 -> 1818384011 | C26: ='perkelas 7'!C26 -> MARSHA DWI ANGGRAINI | D26: ='perkelas 7'!D26 -> 7-A | E26: ='perkelas 7'!E26 -> 82 | F26: ='perkelas 7'!F26 -> 87 | G26: ='perkelas 7'!G26 -> 73 | H26: ='perkelas 7'!H26 -> 68 | I26: ='perkelas 7'!I26 -> 83 | ... O26: ='perkelas 7'!O26 -> 78 | P26: =SUM(E26:O26) -> 799 | Q26: =AVERAGE(E26:O26) -> 72.636364 | R26: 71
A27: 12 | B27: ='perkelas 7'!B27 -> 1818384012 | C27: ='perkelas 7'!C27 -> MAZDALINA HAIFA | D27: ='perkelas 7'!D27 -> 7-A | E27: ='perkelas 7'!E27 -> 95 | F27: ='perkelas 7'!F27 -> 90 | G27: ='perkelas 7'!G27 -> 72 | H27: ='perkelas 7'!H27 -> 92 | I27: ='perkelas 7'!I27 -> 94 | ... O27: ='perkelas 7'!O27 -> 98 | P27: =SUM(E27:O27) -> 944 | Q27: =AVERAGE(E27:O27) -> 85.818182 | R27: 1
... A45: 30 | B45: ='perkelas 7'!B45 -> 1818384030 | C45: ='perkelas 7'!C45 -> SUKMA DEWI AULIA PUTRI | D45: ='perkelas 7'!D45 -> 7-A | E45: ='perkelas 7'!E45 -> 90 | F45: ='perkelas 7'!F45 -> 90 | G45: ='perkelas 7'!G45 -> 80 | H45: ='perkelas 7'!H45 -> 70 | I45: ='perkelas 7'!I45 -> 91 | ... O45: ='perkelas 7'!O45 -> 98 | P45: =SUM(E45:O45) -> 888 | Q45: =AVERAGE(E45:O45) -> 80.727273 | R45: 13
A46: 33 | B46: ='perkelas 7'!B79 -> 1818384031 | C46: ='perkelas 7'!C79 -> AISAHTUL KHASANAH | D46: ='perkelas 7'!D79 -> 7-B | E46: ='perkelas 7'!E79 -> 57 | F46: ='perkelas 7'!F79 -> 63 | G46: ='perkelas 7'!G79 -> 62 | H46: ='perkelas 7'!H79 -> 57 | I46: ='perkelas 7'!I79 -> 50 | ... O46: ='perkelas 7'!O79 -> 63 | P46: =SUM(E46:O46) -> 639 | Q46: =AVERAGE(E46:O46) -> 58.090909 | R46: 185
A47: 34 | B47: ='perkelas 7'!B80 -> 1818384032 | C47: ='perkelas 7'!C80 -> ALVIN FAUZI RAMADHAN | D47: ='perkelas 7'!D80 -> 7-B | E47: ='perkelas 7'!E80 -> 78 | F47: ='perkelas 7'!F80 -> 73 | G47: ='perkelas 7'!G80 -> 62 | H47: ='perkelas 7'!H80 -> 53 | I47: ='perkelas 7'!I80 -> 68 | ... O47: ='perkelas 7'!O80 -> 75 | P47: =SUM(E47:O47) -> 703 | Q47: =AVERAGE(E47:O47) -> 63.909091 | R47: 150
A48: 35 | B48: ='perkelas 7'!B81 -> 1818384033 | C48: ='perkelas 7'!C81 -> BAGUS HARIS PRATAMA | D48: ='perkelas 7'!D81 -> 7-B | E48: ='perkelas 7'!E81 -> 43 | F48: ='perkelas 7'!F81 -> 60 | G48: ='perkelas 7'!G81 -> 63 | H48: ='perkelas 7'!H81 -> 50 | I48: ='perkelas 7'!I81 -> 63 | ... O48: ='perkelas 7'!O81 -> 68 | P48: =SUM(E48:O48) -> 665 | Q48: =AVERAGE(E48:O48) -> 60.454545 | R48: 173
A49: 36 | B49: ='perkelas 7'!B82 -> 1818384034 | C49: ='perkelas 7'!C82 -> Bandung ADITYA | D49: ='perkelas 7'!D82 -> 7-B | E49: ='perkelas 7'!E82 -> 37 | F49: ='perkelas 7'!F82 -> 52 | G49: ='perkelas 7'!G82 -> 60 | H49: ='perkelas 7'!H82 -> 45 | I49: ='perkelas 7'!I82 -> 62 | ... O49: ='perkelas 7'!O82 -> 75 | P49: =SUM(E49:O49) -> 594 | Q49: =AVERAGE(E49:O49) -> 54 | R49: 208
A50: 37 | B50: ='perkelas 7'!B83 -> 1818384035 | C50: ='perkelas 7'!C83 -> BONITA SRI WAHYUNINGTYAS | D50: ='perkelas 7'!D83 -> 7-B | E50: ='perkelas 7'!E83 -> 62 | F50: ='perkelas 7'!F83 -> 53 | G50: ='perkelas 7'!G83 -> 68 | H50: ='perkelas 7'!H83 -> 65 | I50: ='perkelas 7'!I83 -> 66 | ... O50: ='perkelas 7'!O83 -> 85 | P50: =SUM(E50:O50) -> 705 | Q50: =AVERAGE(E50:O50) -> 64.090909 | R50: 149
A51: 38 | B51: ='perkelas 7'!B84 -> 1818384036 | C51: ='perkelas 7'!C84 -> INDI CISTIA MAHARANI | D51: ='perkelas 7'!D84 -> 7-B | E51: ='perkelas 7'!E84 -> 63 | F51: ='perkelas 7'!F84 -> 73 | G51: ='perkelas 7'!G84 -> 73 | H51: ='perkelas 7'!H84 -> 78 | I51: ='perkelas 7'!I84 -> 65 | ... O51: ='perkelas 7'!O84 -> 87 | P51: =SUM(E51:O51) -> 778 | Q51: =AVERAGE(E51:O51) -> 70.727273 | R51: 87
A52: 39 | B52: ='perkelas 7'!B85 -> 1818384037 | C52: ='perkelas 7'!C85 -> INTAN SELVIA | D52: ='perkelas 7'!D85 -> 7-B | E52: ='perkelas 7'!E85 -> 67 | F52: ='perkelas 7'!F85 -> 77 | G52: ='perkelas 7'!G85 -> 75 | H52: ='perkelas 7'!H85 -> 70 | I52: ='perkelas 7'!I85 -> 58 | ... O52: ='perkelas 7'!O85 -> 82 | P52: =SUM(E52:O52) -> 748 | Q52: =AVERAGE(E52:O52) -> 68 | R52: 117
A53: 40 | B53: ='perkelas 7'!B86 -> 1818384038 | C53: ='perkelas 7'!C86 -> JULIA DWI RAHAYU | D53: ='perkelas 7'!D86 -> 7-B | E53: ='perkelas 7'!E86 -> 51 | F53: ='perkelas 7'!F86 -> 43 | G53: ='perkelas 7'!G86 -> 52 | H53: ='perkelas 7'!H86 -> 58 | I53: ='perkelas 7'!I86 -> 41 | ... O53: ='perkelas 7'!O86 -> 58 | P53: =SUM(E53:O53) -> 538 | Q53: =AVERAGE(E53:O53) -> 48.909091 | R53: 217
A54: 41 | B54: ='perkelas 7'!B87 -> 1818384039 | C54: ='perkelas 7'!C87 -> KHOLILATUR ROHMANIA | D54: ='perkelas 7'!D87 -> 7-B | E54: ='perkelas 7'!E87 -> 68 | F54: ='perkelas 7'!F87 -> 87 | G54: ='perkelas 7'!G87 -> 65 | H54: ='perkelas 7'!H87 -> 62 | I54: ='perkelas 7'!I87 -> 62 | ... O54: ='perkelas 7'!O87 -> 90 | P54: =SUM(E54:O54) -> 754 | Q54: =AVERAGE(E54:O54) -> 68.545455 | R54: 112
A55: 42 | B55: ='perkelas 7'!B88 -> 1818384040 | C55: ='perkelas 7'!C88 -> LAILA ALFI SYAHRINA | D55: ='perkelas 7'!D88 -> 7-B | E55: ='perkelas 7'!E88 -> 67 | F55: ='perkelas 7'!F88 -> 65 | G55: ='perkelas 7'!G88 -> 80 | H55: ='perkelas 7'!H88 -> 60 | I55: ='perkelas 7'!I88 -> 71 | ... O55: ='perkelas 7'!O88 -> 93 | P55: =SUM(E55:O55) -> 747 | Q55: =AVERAGE(E55:O55) -> 67.909091 | R55: 118
A56: 43 | B56: ='perkelas 7'!B89 -> 1818384041 | C56: ='perkelas 7'!C89 -> LINDA MEIRANI | D56: ='perkelas 7'!D89 -> 7-B | E56: ='perkelas 7'!E89 -> 92 | F56: ='perkelas 7'!F89 -> 72 | G56: ='perkelas 7'!G89 -> 77 | H56: ='perkelas 7'!H89 -> 82 | I56: ='perkelas 7'!I89 -> 94 | ... O56: ='perkelas 7'!O89 -> 88 | P56: =SUM(E56:O56) -> 856 | Q56: =AVERAGE(E56:O56) -> 77.818182 | R56: 27
A57: 44 | B57: ='perkelas 7'!B90 -> 1818384042 | C57: ='perkelas 7'!C90 -> MAULANA AKBAR | D57: ='perkelas 7'!D90 -> 7-B | E57: ='perkelas 7'!E90 -> 77 | F57: ='perkelas 7'!F90 -> 82 | G57: ='perkelas 7'!G90 -> 68 | H57: ='perkelas 7'!H90 -> 78 | I57: ='perkelas 7'!I90 -> 50 | ... O57: ='perkelas 7'!O90 -> 88 | P57: =SUM(E57:O57) -> 777 | Q57: =AVERAGE(E57:O57) -> 70.636364 | R57: 89
... A77: 64 | B77: ='perkelas 7'!B110 -> 1818384062 | C77: ='perkelas 7'!C110 -> YULIANA RAHWATI | D77: ='perkelas 7'!D110 -> 7-B | E77: ='perkelas 7'!E110 -> 32 | F77: ='perkelas 7'!F110 -> 42 | G77: ='perkelas 7'!G110 -> 38 | H77: ='perkelas 7'!H110 -> 50 | I77: ='perkelas 7'!I110 -> 50 | ... O77: ='perkelas 7'!O110 -> 60 | P77: =SUM(E77:O77) -> 516 | Q77: =AVERAGE(E77:O77) -> 46.909091 | R77: 218
A78: 65 | B78: ='perkelas 7'!B145 -> 1818384063 | C78: ='perkelas 7'!C145 -> ADINDA TALIA SALSA BELLA | D78: ='perkelas 7'!D145 -> 7-C | E78: ='perkelas 7'!E145 -> 72 | F78: ='perkelas 7'!F145 -> 79 | G78: ='perkelas 7'!G145 -> 77 | H78: ='perkelas 7'!H145 -> 68 | I78: ='perkelas 7'!I145 -> 57 | ... O78: ='perkelas 7'!O145 -> 77 | P78: =SUM(E78:O78) -> 770 | Q78: =AVERAGE(E78:O78) -> 70 | R78: 95
A79: 66 | B79: ='perkelas 7'!B146 -> 1818384064 | C79: ='perkelas 7'!C146 -> AHMAD KHARIS NUR FADLI | D79: ='perkelas 7'!D146 -> 7-C | E79: ='perkelas 7'!E146 -> 65 | F79: ='perkelas 7'!F146 -> 77 | G79: ='perkelas 7'!G146 -> 70 | H79: ='perkelas 7'!H146 -> 50 | I79: ='perkelas 7'!I146 -> 41 | ... O79: ='perkelas 7'!O146 -> 77 | P79: =SUM(E79:O79) -> 709 | Q79: =AVERAGE(E79:O79) -> 64.454545 | R79: 147
...

Sheet 8
A1: PEMERINTAH KABUPATEN JEPARA
A2: DINAS PENDIDIKAN PEMUDA DAN OLAH RAGA
A3: UNIT PELAKSANA TEKNIS
A4: SMP NEGERI 1 WELAHAN
A5: Jl. Welahan Km. 22 Jepara ' ( 0291 ) 4256295 *59464
A6: E-mail : smpn1welahan@yahoo.co.id website : www. smpn1welahan.com
A9: LAPORAN NILAI MURNI ULANGAN/PENILAIAN TENGAH SEMESTER GENAP
A10: SMP NEGERI 1 WELAHAN
A11: TAHUN PELAJARAN 2017/2018
A13: NO | B13: NIS | C13: NAMA SISWA | D13: Kelas 8 | E13: Mata Pelajaran | P13: Jumlah | Q13: Rata - rata | R13: Peringkat
E14: PAI | F14: PKn | G14: B.Ind | H14: B.Ing | I14: MTK | J14: IPA | K14: IPS | L14: S. Bud | M14: Penjas | N14: B.JW | O14: PRAKAR
A15: KRITERIA KETUNTASAN MINIMAL (KKM) | E15: 75 | F15: 75 | G15: 75 | H15: 75 | I15: 75 | J15: 75 | K15: 75 | L15: 75 | M15: 75 | N15: 75 | O15: 75
A16: 1 | B16: ='perkelas 8'!B16 -> 17187518 | C16: ='perkelas 8'!C16 -> A. KHOIRUZZAD | D16: ='perkelas 8'!D16 -> 8-A | E16: ='perkelas 8'!E16 -> 82 | F16: ='perkelas 8'!F16 -> 82 | G16: ='perkelas 8'!G16 -> 83 | H16: ='perkelas 8'!H16 -> 67 | I16: ='perkelas 8'!I16 -> 64 | ... O16: ='perkelas 8'!O16 -> 93 | P16: =SUM(E16:O16) -> 848 | Q16: =AVERAGE(E16:O16) -> 77.090909 | R16: =RANK(P16,$P$16:$P$237) -> 50
A17: 2 | B17: ='perkelas 8'!B17 -> 17187520 | C17: ='perkelas 8'!C17 -> AHMAD FAIZ MUNA | D17: ='perkelas 8'!D17 -> 8-A | E17: ='perkelas 8'!E17 -> 90 | F17: ='perkelas 8'!F17 -> 75 | G17: ='perkelas 8'!G17 -> 88 | H17: ='perkelas 8'!H17 -> 78 | I17: ='perkelas 8'!I17 -> 70 | ... O17: ='perkelas 8'!O17 -> 93 | P17: =SUM(E17:O17) -> 887 | Q17: =AVERAGE(E17:O17) -> 80.636364 | R17: 24
A18: 3 | B18: ='perkelas 8'!B18 -> 17187521 | C18: ='perkelas 8'!C18 -> AKHMAD KUSIYANTO | D18: ='perkelas 8'!D18 -> 8-A | E18: ='perkelas 8'!E18 -> 82 | F18: ='perkelas 8'!F18 -> 72 | G18: ='perkelas 8'!G18 -> 72 | H18: ='perkelas 8'!H18 -> 57 | I18: ='perkelas 8'!I18 -> 58 | ... O18: ='perkelas 8'!O18 -> 92 | P18: =SUM(E18:O18) -> 798 | Q18: =AVERAGE(E18:O18) -> 72.545455 | R18: 81
A19: 4 | B19: ='perkelas 8'!B19 -> 17187650 | C19: ='perkelas 8'!C19 -> ANATASYA RUQOYATUL ULFIYAH | D19: ='perkelas 8'!D19 -> 8-A | E19: ='perkelas 8'!E19 -> 82 | F19: ='perkelas 8'!F19 -> 73 | G19: ='perkelas 8'!G19 -> 68 | H19: ='perkelas 8'!H19 -> 73 | I19: ='perkelas 8'!I19 -> 64 | ... O19: ='perkelas 8'!O19 -> 83 | P19: =SUM(E19:O19) -> 801 | Q19: =AVERAGE(E19:O19) -> 72.818182 | R19: 79
A20: 5 | B20: ='perkelas 8'!B20 -> 17187524 | C20: ='perkelas 8'!C20 -> ANNASYA NAELA RAMADHANI | D20: ='perkelas 8'!D20 -> 8-A | E20: ='perkelas 8'!E20 -> 90 | F20: ='perkelas 8'!F20 -> 82 | G20: ='perkelas 8'!G20 -> 85 | H20: ='perkelas 8'!H20 -> 77 | I20: ='perkelas 8'!I20 -> 64 | ... O20: ='perkelas 8'!O20 -> 92 | P20: =SUM(E20:O20) -> 888 | Q20: =AVERAGE(E20:O20) -> 80.727273 | R20: 23
A21: 6 | B21: ='perkelas 8'!B21 -> 17187555 | C21: ='perkelas 8'!C21 -> ARIEF RAHMAN HAKIM | D21: ='perkelas 8'!D21 -> 8-A | E21: ='perkelas 8'!E21 -> 87 | F21: ='perkelas 8'!F21 -> 79 | G21: ='perkelas 8'!G21 -> 85 | H21: ='perkelas 8'!H21 -> 62 | I21: ='perkelas 8'!I21 -> 46 | ... O21: ='perkelas 8'!O21 -> 92 | P21: =SUM(E21:O21) -> 857 | Q21: =AVERAGE(E21:O21) -> 77.909091 | R21: 45
A22: 7 | B22: ='perkelas 8'!B22 -> 17187655 | C22: ='perkelas 8'!C22 -> DEVY SALSABILA | D22: ='perkelas 8'!D22 -> 8-A | E22: ='perkelas 8'!E22 -> 93 | F22: ='perkelas 8'!F22 -> 90 | G22: ='perkelas 8'!G22 -> 85 | H22: ='perkelas 8'!H22 -> 78 | I22: ='perkelas 8'!I22 -> 88 | ... O22: ='perkelas 8'!O22 -> 97 | P22: =SUM(E22:O22) -> 930 | Q22: =AVERAGE(E22:O22) -> 84.545455 | R22: 7
A23: 8 | B23: ='perkelas 8'!B23 -> 17187591 | C23: ='perkelas 8'!C23 -> DWIKI ADITYA RABBANI | D23: ='perkelas 8'!D23 -> 8-A | E23: ='perkelas 8'!E23 -> 90 | F23: ='perkelas 8'!F23 -> 80 | G23: ='perkelas 8'!G23 -> 83 | H23: ='perkelas 8'!H23 -> 77 | I23: ='perkelas 8'!I23 -> 70 | ... O23: ='perkelas 8'!O23 -> 93 | P23: =SUM(E23:O23) -> 886 | Q23: =AVERAGE(E23:O23) -> 80.545455 | R23: 25
A24: 9 | B24: ='perkelas 8'!B24 -> 17187592 | C24: ='perkelas 8'!C24 -> EKA ARDELIA | D24: ='perkelas 8'!D24 -> 8-A | E24: ='perkelas 8'!E24 -> 90 | F24: ='perkelas 8'!F24 -> 77 | G24: ='perkelas 8'!G24 -> 85 | H24: ='perkelas 8'!H24 -> 91 | I24: ='perkelas 8'!I24 -> 64 | ... O24: ='perkelas 8'!O24 -> 85 | P24: =SUM(E24:O24) -> 873 | Q24: =AVERAGE(E24:O24) -> 79.363636 | R24: 36
A25: 10 | B25: ='perkelas 8'!B25 -> 17187619 | C25: ='perkelas 8'!C25 -> EKA NUR LAILA FITRIA | D25: ='perkelas 8'!D25 -> 8-A | E25: ='perkelas 8'!E25 -> 88 | F25: ='perkelas 8'!F25 -> 80 | G25: ='perkelas 8'!G25 -> 80 | H25: ='perkelas 8'!H25 -> 55 | I25: ='perkelas 8'!I25 -> 64 | ... O25: ='perkelas 8'!O25 -> 93 | P25: =SUM(E25:O25) -> 838 | Q25: =AVERAGE(E25:O25) -> 76.181818 | R25: 59
A26: 11 | B26: ='perkelas 8'!B26 -> 17187620 | C26: ='perkelas 8'!C26 -> ELINDA UMI KHASANAH | D26: ='perkelas 8'!D26 -> 8-A | E26: ='perkelas 8'!E26 -> 92 | F26: ='perkelas 8'!F26 -> 77 | G26: ='perkelas 8'!G26 -> 80 | H26: ='perkelas 8'!H26 -> 73 | I26: ='perkelas 8'!I26 -> 79 | ... O26: ='perkelas 8'!O26 -> 97 | P26: =SUM(E26:O26) -> 894 | Q26: =AVERAGE(E26:O26) -> 81.272727 | R26: 22
A27: 12 | B27: ='perkelas 8'!B27 -> 17187528 | C27: ='perkelas 8'!C27 -> EVA NOVIA FITRIANI | D27: ='perkelas 8'!D27 -> 8-A | E27: ='perkelas 8'!E27 -> 88 | F27: ='perkelas 8'!F27 -> 72 | G27: ='perkelas 8'!G27 -> 68 | H27: ='perkelas 8'!H27 -> 65 | I27: ='perkelas 8'!I27 -> 58 | ... O27: ='perkelas 8'!O27 -> 87 | P27: =SUM(E27:O27) -> 807 | Q27: =AVERAGE(E27:O27) -> 73.363636 | R27: 74
A28: 13 | B28: ='perkelas 8'!B28 -> 17187558 | C28: ='perkelas 8'!C28 -> FARIKHUL LAILI FITRIANI | D28: ='perkelas 8'!D28 -> 8-A | E28: ='perkelas 8'!E28 -> 97 | F28: ='perkelas 8'!F28 -> 82 | G28: ='perkelas 8'!G28 -> 85 | H28: ='perkelas 8'!H28 -> 87 | I28: ='perkelas 8'!I28 -> 82 | ... O28: ='perkelas 8'!O28 -> 97 | P28: =SUM(E28:O28) -> 965 | Q28: =AVERAGE(E28:O28) -> 87.727273 | R28: 4
... A47: 32 | B47: ='perkelas 8'!B47 -> 17187645 | C47: ='perkelas 8'!C47 -> ZANUBA ARIFAH AZZAHRA | D47: ='perkelas 8'!D47 -> 8-A | E47: ='perkelas 8'!E47 -> 78 | F47: ='perkelas 8'!F47 -> 89 | G47: ='perkelas 8'!G47 -> 88 | H47: ='perkelas 8'!H47 -> 60 | I47: ='perkelas 8'!I47 -> 79 | ... O47: ='perkelas 8'!O47 -> 93 | P47: =SUM(E47:O47) -> 850 | Q47: =AVERAGE(E47:O47) -> 77.272727 | R47: 48
A48: 33 | B48: ='perkelas 8'!B80 -> 17187743 | C48: ='perkelas 8'!C80 -> AHMAD PRAMBODO ADI SAPUTRO | D48: ='perkelas 8'!D80 -> 8-B | E48: ='perkelas 8'!E80 -> 48 | F48: ='perkelas 8'!F80 -> 63 | G48: ='perkelas 8'!G80 -> 60 | H48: ='perkelas 8'!H80 -> 37 | I48: ='perkelas 8'!I80 -> 43 | ... O48: ='perkelas 8'!O80 -> 60 | P48: =SUM(E48:O48) -> 606 | Q48: =AVERAGE(E48:O48) -> 55.090909 | R48: 211
A49: 34 | B49: ='perkelas 8'!B81 -> 17187553 | C49: ='perkelas 8'!C81 -> ALYA FEBI ANDRIANI | D49: ='perkelas 8'!D81 -> 8-B | E49: ='perkelas 8'!E81 -> 65 | F49: ='perkelas 8'!F81 -> 77 | G49: ='perkelas 8'!G81 -> 68 | H49: ='perkelas 8'!H81 -> 62 | I49: ='perkelas 8'!I81 -> 55 | ... O49: ='perkelas 8'!O81 -> 82 | P49: =SUM(E49:O49) -> 722 | Q49: =AVERAGE(E49:O49) -> 65.636364 | R49: 158
A50: 35 | B50: ='perkelas 8'!B82 -> 17187525 | C50: ='perkelas 8'!C82 -> ANNISA MEIDIANI | D50: ='perkelas 8'!D82 -> 8-B | E50: ='perkelas 8'!E82 -> 48 | F50: ='perkelas 8'!F82 -> 62 | G50: ='perkelas 8'!G82 -> 60 | H50: ='perkelas 8'!H82 -> 53 | I50: ='perkelas 8'!I82 -> 46 | ... O50: ='perkelas 8'!O82 -> 73 | P50: =SUM(E50:O50) -> 601 | Q50: =AVERAGE(E50:O50) -> 54.636364 | R50: 213
A51: 36 | B51: ='perkelas 8'!B83 -> 17187713 | C51: ='perkelas 8'!C83 -> ARYA FADLI NARENDRA | D51: ='perkelas 8'!D83 -> 8-B | E51: ='perkelas 8'!E83 -> 73 | F51: ='perkelas 8'!F83 -> 70 | G51: ='perkelas 8'!G83 -> 80 | H51: ='perkelas 8'!H83 -> 48 | I51: ='perkelas 8'!I83 -> 55 | ... O51: ='perkelas 8'!O83 -> 70 | P51: =SUM(E51:O51) -> 752 | Q51: =AVERAGE(E51:O51) -> 68.363636 | R51: 135
A52: 37 | B52: ='perkelas 8'!B84 -> 17187682 | C52: ='perkelas 8'!C84 -> AURIL ILHAM FAJAR | D52: ='perkelas 8'!D84 -> 8-B | E52: ='perkelas 8'!E84 -> 67 | F52: ='perkelas 8'!F84 -> 63 | G52: ='perkelas 8'!G84 -> 75 | H52: ='perkelas 8'!H84 -> 53 | I52: ='perkelas 8'!I84 -> 61 | ... O52: ='perkelas 8'!O84 -> 83 | P52: =SUM(E52:O52) -> 741 | Q52: =AVERAGE(E52:O52) -> 67.363636 | R52: 145
A53: 38 | B53: ='perkelas 8'!B85 -> 17187683 | C53: ='perkelas 8'!C85 -> DIAH IKA SETIYOWATI | D53: ='perkelas 8'!D85 -> 8-B | E53: ='perkelas 8'!E85 -> 63 | F53: ='perkelas 8'!F85 -> 85 | G53: ='perkelas 8'!G85 -> 73 | H53: ='perkelas 8'!H85 -> 57 | I53: ='perkelas 8'!I85 -> 49 | ... O53: ='perkelas 8'!O85 -> 77 | P53: =SUM(E53:O53) -> 755 | Q53: =AVERAGE(E53:O53) -> 68.636364 | R53: 129
A54: 39 | B54: ='perkelas 8'!B86 -> 17187588 | C54: ='perkelas 8'!C86 -> DIAJENG AYUNING TIAS | D54: ='perkelas 8'!D86 -> 8-B | E54: ='perkelas 8'!E86 -> 63 | F54: ='perkelas 8'!F86 -> 80 | G54: ='perkelas 8'!G86 -> 67 | H54: ='perkelas 8'!H86 -> 47 | I54: ='perkelas 8'!I86 -> 49 | ... O54: ='perkelas 8'!O86 -> 77 | P54: =SUM(E54:O54) -> 714 | Q54: =AVERAGE(E54:O54) -> 64.909091 | R54: 165
A55: 40 | B55: ='perkelas 8'!B87 -> 17187686 | C55: ='perkelas 8'!C87 -> DWI AYU SAFITRI | D55: ='perkelas 8'!D87 -> 8-B | E55: ='perkelas 8'!E87 -> 48 | F55: ='perkelas 8'!F87 -> 60 | G55: ='perkelas 8'!G87 -> 52 | H55: ='perkelas 8'!H87 -> 48 | I55: ='perkelas 8'!I87 -> 49 | ... O55: ='perkelas 8'!O87 -> 67 | P55: =SUM(E55:O55) -> 587 | Q55: =AVERAGE(E55:O55) -> 53.363636 | R55: 218
A56: 41 | B56: ='perkelas 8'!B88 -> 17187594 | C56: ='perkelas 8'!C88 -> ELISA AULIA SAFITRI | D56: ='perkelas 8'!D88 -> 8-B | E56: ='perkelas 8'!E88 -> 75 | F56: ='perkelas 8'!F88 -> 82 | G56: ='perkelas 8'!G88 -> 73 | H56: ='perkelas 8'!H88 -> 67 | I56: ='perkelas 8'!I88 -> 67 | ... O56: ='perkelas 8'!O88 -> 77 | P56: =SUM(E56:O56) -> 786 | Q56: =AVERAGE(E56:O56) -> 71.454545 | R56: 93
A57: 42 | B57: ='perkelas 8'!B89 -> 17187596 | C57: ='perkelas 8'!C89 -> ERLINA DWI FIRDAYANI | D57: ='perkelas 8'!D89 -> 8-B | E57: ='perkelas 8'!E89 -> 80 | F57: ='perkelas 8'!F89 -> 79 | G57: ='perkelas 8'!G89 -> 68 | H57: ='perkelas 8'!H89 -> 60 | I57: ='perkelas 8'!I89 -> 55 | ... O57: ='perkelas 8'!O89 -> 76 | P57: =SUM(E57:O57) -> 781 | Q57: =AVERAGE(E57:O57) -> 71 | R57: 99
A58: 43 | B58: ='perkelas 8'!B90 -> 17187742 | C58: ='perkelas 8'!C90 -> HANDIKA AYUHAN | D58: ='perkelas 8'!D90 -> 8-B | E58: ='perkelas 8'!E90 -> 73 | F58: ='perkelas 8'!F90 -> 72 | G58: ='perkelas 8'!G90 -> 67 | H58: ='perkelas 8'!H90 -> 45 | I58: ='perkelas 8'!I90 -> 43 | ... O58: ='perkelas 8'!O90 -> 77 | P58: =SUM(E58:O58) -> 713 | Q58: =AVERAGE(E58:O58) -> 64.818182 | R58: 166
A59: 44 | B59: ='perkelas 8'!B91 -> 17187624 | C59: ='perkelas 8'!C91 -> IKFINA AMALIA | D59: ='perkelas 8'!D91 -> 8-B | E59: ='perkelas 8'!E91 -> 73 | F59: ='perkelas 8'!F91 -> 70 | G59: ='perkelas 8'!G91 -> 63 | H59: ='perkelas 8'!H91 -> 50 | I59: ='perkelas 8'!I91 -> 49 | ... O59: ='perkelas 8'!O91 -> 77 | P59: =SUM(E59:O59) -> 713 | Q59: =AVERAGE(E59:O59) -> 64.818182 | R59: 166
... A79: 64 | B79: ='perkelas 8'!B111 -> 17187677 | C79: ='perkelas 8'!C111 -> ZAHRA MAYADA | D79: ='perkelas 8'!D111 -> 8-B | E79: ='perkelas 8'!E111 -> 77 | F79: ='perkelas 8'!F111 -> 77 | G79: ='perkelas 8'!G111 -> 72 | H79: ='perkelas 8'!H111 -> 58 | I79: ='perkelas 8'!I111 -> 43 | ... O79: ='perkelas 8'!O111 -> 83 | P79: =SUM(E79:O79) -> 771 | Q79: =AVERAGE(E79:O79) -> 70.090909 | R79: 109
A80: 65 | B80: ='perkelas 8'!B146 -> 17187647 | C80: ='perkelas 8'!C146 -> AHMAD FADLI | D80: ='perkelas 8'!D146 -> 8-C | E80: ='perkelas 8'!E146 -> 70 | F80: ='perkelas 8'!F146 -> 87 | G80: ='perkelas 8'!G146 -> 80 | H80: ='perkelas 8'!H146 -> 53 | I80: ='perkelas 8'!I146 -> 49 | ... O80: ='perkelas 8'!O146 -> 70 | P80: =SUM(E80:O80) -> 772 | Q80: =AVERAGE(E80:O80) -> 70.181818 | R80: 107
...

Sheet 9
A1: PEMERINTAH KABUPATEN JEPARA
A2: DINAS PENDIDIKAN PEMUDA DAN OLAH RAGA
A3: UNIT PELAKSANA TEKNIS
A4: SMP NEGERI 1 WELAHAN
A5: Jl. Welahan Km. 22 Jepara ' ( 0291 ) 4256295 *59464
A6: E-mail : smpn1welahan@yahoo.co.id website : www. smpn1welahan.com
A9: LAPORAN NILAI MURNI ULANGAN/PENILAIAN TENGAH SEMESTER GENAP
A10: SMP NEGERI 1 WELAHAN
A11: TAHUN PELAJARAN 2017/2018
A13: NO | B13: NIS | C13: NAMA SISWA | D13: Kelas 9 | E13: Mata Pelajaran | P13: Jumlah | Q13: Rata - rata | R13: Peringkat
E14: PAI | F14: PKn | G14: B.Ind | H14: B.Ing | I14: MTK | J14: IPA | K14: IPS | L14: S. Bud | M14: Penjas | N14: B.JW | O14: PRAKAR
A15: KRITERIA KETUNTASAN MINIMAL (KKM) | E15: 75 | F15: 75 | G15: 75 | H15: 75 | I15: 75 | J15: 75 | K15: 75 | L15: 75 | M15: 75 | N15: 75 | O15: 75
A16: 215 | B16: ='perkelas 9'!B417 -> 7306 | C16: ='perkelas 9'!C417 -> NABILA ULLYANA | D16: ='perkelas 9'!D417 -> 9-G | E16: ='perkelas 9'!E417 -> 95 | F16: ='perkelas 9'!F417 -> 92 | G16: ='perkelas 9'!G417 -> 83 | H16: ='perkelas 9'!H417 -> 87 | I16: ='perkelas 9'!I417 -> 96 | ... O16: ='perkelas 9'!O417 -> 87 | P16: =SUM(E16:O16) -> 992 | Q16: =AVERAGE(E16:O16) -> 90.181818 | R16: =RANK(P16,$P$16:$P$244) -> 1
A17: 5 | B17: ='perkelas 9'!B20 -> 7356 | C17: ='perkelas 9'!C20 -> ARUM LAROSATI | D17: ='perkelas 9'!D20 -> 9-A | E17: ='perkelas 9'!E20 -> 87 | F17: ='perkelas 9'!F20 -> 87 | G17: ='perkelas 9'!G20 -> 83 | H17: ='perkelas 9'!H20 -> 87 | I17: ='perkelas 9'!I20 -> 92 | ... O17: ='perkelas 9'!O20 -> 88 | P17: =SUM(E17:O17) -> 964 | Q17: =AVERAGE(E17:O17) -> 87.636364 | R17: =RANK(P17,$P$16:$P$244) -> 2
A18: 217 | B18: ='perkelas 9'!B419 -> 7506 | C18: ='perkelas 9'!C419 -> NOR UNSA AKMAL | D18: ='perkelas 9'!D419 -> 9-G | E18: ='perkelas 9'!E419 -> 82 | F18: ='perkelas 9'!F419 -> 93 | G18: ='perkelas 9'!G419 -> 91 | H18: ='perkelas 9'!H419 -> 88 | I18: ='perkelas 9'!I419 -> 87 | ... O18: ='perkelas 9'!O419 -> 88 | P18: =SUM(E18:O18) -> 964 | Q18: =AVERAGE(E18:O18) -> 87.636364 | R18: =RANK(P18,$P$16:$P$244) -> 2
A19: 11 | B19: ='perkelas 9'!B26 -> 7398 | C19: ='perkelas 9'!C26 -> IKA NUR FITRIYANI | D19: ='perkelas 9'!D26 -> 9-A | E19: ='perkelas 9'!E26 -> 92 | F19: ='perkelas 9'!F26 -> 93 | G19: ='perkelas 9'!G26 -> 87 | H19: ='perkelas 9'!H26 -> 93 | I19: ='perkelas 9'!I26 -> 79 | ... O19: ='perkelas 9'!O26 -> 83 | P19: =SUM(E19:O19) -> 943 | Q19: =AVERAGE(E19:O19) -> 85.727273 | R19: =RANK(P19,$P$16:$P$244) -> 4
A20: 220 | B20: ='perkelas 9'!B422 -> 7379 | C20: ='perkelas 9'!C422 -> RAFIDA AMANA | D20: ='perkelas 9'!D422 -> 9-G | E20: ='perkelas 9'!E422 -> 88 | F20: ='perkelas 9'!F422 -> 89 | G20: ='perkelas 9'!G422 -> 87 | H20: ='perkelas 9'!H422 -> 83 | I20: ='perkelas 9'!I422 -> 99 | ... O20: ='perkelas 9'!O422 -> 82 | P20: =SUM(E20:O20) -> 943 | Q20: =AVERAGE(E20:O20) -> 85.727273 | R20: =RANK(P20,$P$16:$P$244) -> 4
A21: 4 | B21: ='perkelas 9'!B19 -> 7419 | C21: ='perkelas 9'!C19 -> ANANDA PUTRI AMALIA | D21: ='perkelas 9'!D19 -> 9-A | E21: ='perkelas 9'!E19 -> 87 | F21: ='perkelas 9'!F19 -> 87 | G21: ='perkelas 9'!G19 -> 87 | H21: ='perkelas 9'!H19 -> 93 | I21: ='perkelas 9'!I19 -> 83 | ... O21: ='perkelas 9'!O19 -> 82 | P21: =SUM(E21:O21) -> 936 | Q21: =AVERAGE(E21:O21) -> 85.090909 | R21: =RANK(P21,$P$16:$P$244) -> 6
A22: 28 | B22: ='perkelas 9'!B43 -> 7514 | C22: ='perkelas 9'!C43 -> THALISA NAFISA IDYA | D22: ='perkelas 9'!D43 -> 9-A | E22: ='perkelas 9'!E43 -> 90 | F22: ='perkelas 9'!F43 -> 89 | G22: ='perkelas 9'!G43 -> 65 | H22: ='perkelas 9'!H43 -> 82 | I22: ='perkelas 9'!I43 -> 84 | ... O22: ='perkelas 9'!O43 -> 85 | P22: =SUM(E22:O22) -> 933 | Q22: =AVERAGE(E22:O22) -> 84.818182 | R22: =RANK(P22,$P$16:$P$244) -> 7
A23: 22 | B23: ='perkelas 9'!B37 -> 7503 | C23: ='perkelas 9'!C37 -> NAJLA ZAHRA KHAIRUNISA | D23: ='perkelas 9'!D37 -> 9-A | E23: ='perkelas 9'!E37 -> 87 | F23: ='perkelas 9'!F37 -> 90 | G23: ='perkelas 9'!G37 -> 75 | H23: ='perkelas 9'!H37 -> 82 | I23: ='perkelas 9'!I37 -> 81 | ... O23: ='perkelas 9'!O37 -> 87 | P23: =SUM(E23:O23) -> 926 | Q23: =AVERAGE(E23:O23) -> 84.181818 | R23: =RANK(P23,$P$16:$P$244) -> 8
A24: 31 | B24: ='perkelas 9'!B46 -> 7515 | C24: ='perkelas 9'!C46 -> YULIA ANANDA SAFITRI | D24: ='perkelas 9'!D46 -> 9-A | E24: ='perkelas 9'!E46 -> 92 | F24: ='perkelas 9'!F46 -> 93 | G24: ='perkelas 9'!G46 -> 77 | H24: ='perkelas 9'!H46 -> 88 | I24: ='perkelas 9'!I46 -> 74 | ... O24: ='perkelas 9'!O46 -> 87 | P24: =SUM(E24:O24) -> 926 | Q24: =AVERAGE(E24:O24) -> 84.181818 | R24: =RANK(P24,$P$16:$P$244) -> 8
A25: 15 | B25: ='perkelas 9'!B30 -> 7367 | C25: ='perkelas 9'!C30 -> LAILIFIDARIS SA'ADAH | D25: ='perkelas 9'!D30 -> 9-A | E25: ='perkelas 9'!E30 -> 87 | F25: ='perkelas 9'!F30 -> 90 | G25: ='perkelas 9'!G30 -> 73 | H25: ='perkelas 9'!H30 -> 85 | I25: ='perkelas 9'!I30 -> 78 | ... O25: ='perkelas 9'!O30 -> 88 | P25: =SUM(E25:O25) -> 925 | Q25: =AVERAGE(E25:O25) -> 84.090909 | R25: =RANK(P25,$P$16:$P$244) -> 10
A26: 23 | B26: ='perkelas 9'!B38 -> 7339 | C26: ='perkelas 9'!C38 -> NOVITA WIDIANTI | D26: ='perkelas 9'!D38 -> 9-A | E26: ='perkelas 9'!E38 -> 88 | F26: ='perkelas 9'!F38 -> 92 | G26: ='perkelas 9'!G38 -> 78 | H26: ='perkelas 9'!H38 -> 78 | I26: ='perkelas 9'!I38 -> 76 | ... O26: ='perkelas 9'!O38 -> 87 | P26: =SUM(E26:O26) -> 923 | Q26: =AVERAGE(E26:O26) -> 83.909091 | R26: =RANK(P26,$P$16:$P$244) -> 11
A27: 12 | B27: ='perkelas 9'!B27 -> 7495 | C27: ='perkelas 9'!C27 -> IKHLASUL AMAL | D27: ='perkelas 9'!D27 -> 9-A | E27: ='perkelas 9'!E27 -> 75 | F27: ='perkelas 9'!F27 -> 92 | G27: ='perkelas 9'!G27 -> 77 | H27: ='perkelas 9'!H27 -> 88 | I27: ='perkelas 9'!I27 -> 86 | ... O27: ='perkelas 9'!O27 -> 82 | P27: =SUM(E27:O27) -> 919 | Q27: =AVERAGE(E27:O27) -> 83.545455 | R27: =RANK(P27,$P$16:$P$244) -> 12
A28: 203 | B28: ='perkelas 9'!B405 -> 7322 | C28: ='perkelas 9'!C405 -> CLEVERISH RAVENKA PUTRI | D28: ='perkelas 9'!D405 -> 9-G | E28: ='perkelas 9'!E405 -> 82 | F28: ='perkelas 9'!F405 -> 85 | G28: ='perkelas 9'!G405 -> 82 | H28: ='perkelas 9'!H405 -> 97 | I28: ='perkelas 9'!I405 -> 87 | ... O28: ='perkelas 9'!O405 -> 85 | P28: =SUM(E28:O28) -> 915 | Q28: =AVERAGE(E28:O28) -> 83.181818 | R28: =RANK(P28,$P$16:$P$244) -> 13
A29: 2 | B29: ='perkelas 9'!B17 -> 7487 | C29: ='perkelas 9'!C17 -> AHMAD NADHIF NIHALY | D29: ='perkelas 9'!D17 -> 9-A | E29: ='perkelas 9'!E17 -> 82 | F29: ='perkelas 9'!F17 -> 92 | G29: ='perkelas 9'!G17 -> 73 | H29: ='perkelas 9'!H17 -> 82 | I29: ='perkelas 9'!I17 -> 86 | ... O29: ='perkelas 9'!O17 -> 82 | P29: =SUM(E29:O29) -> 913 | Q29: =AVERAGE(E29:O29) -> 83 | R29: =RANK(P29,$P$16:$P$244) -> 14
A30: 19 | B30: ='perkelas 9'!B34 -> 7373 | C30: ='perkelas 9'!C34 -> MIFTAH UBAYDILLA | D30: ='perkelas 9'!D34 -> 9-A | E30: ='perkelas 9'!E34 -> 83 | F30: ='perkelas 9'!F34 -> 83 | G30: ='perkelas 9'!G34 -> 75 | H30: ='perkelas 9'!H34 -> 92 | I30: ='perkelas 9'!I34 -> 80 | ... O30: ='perkelas 9'!O34 -> 87 | P30: =SUM(E30:O30) -> 908 | Q30: =AVERAGE(E30:O30) -> 82.545455 | R30: =RANK(P30,$P$16:$P$244) -> 15
A31: 21 | B31: ='perkelas 9'!B36 -> 7436 | C31: ='perkelas 9'!C36 -> NADIA ULFAH NUR JANNAH | D31: ='perkelas 9'!D36 -> 9-A | E31: ='perkelas 9'!E36 -> 87 | F31: ='perkelas 9'!F36 -> 85 | G31: ='perkelas 9'!G36 -> 68 | H31: ='perkelas 9'!H36 -> 75 | I31: ='perkelas 9'!I36 -> 81 | ... O31: ='perkelas 9'!O36 -> 87 | P31: =SUM(E31:O31) -> 901 | Q31: =AVERAGE(E31:O31) -> 81.909091 | R31: =RANK(P31,$P$16:$P$244) -> 16
A32: 224 | B32: ='perkelas 9'!B426 -> 7382 | C32: ='perkelas 9'!C426 -> SYARIFATUL KHISOL SALSABILA | D32: ='perkelas 9'!D426 -> 9-G | E32: ='perkelas 9'!E426 -> 80 | F32: ='perkelas 9'!F426 -> 90 | G32: ='perkelas 9'!G426 -> 88 | H32: ='perkelas 9'!H426 -> 87 | I32: ='perkelas 9'!I426 -> 62 | ... O32: ='perkelas 9'!O426 -> 83 | P32: =SUM(E32:O32) -> 896 | Q32: =AVERAGE(E32:O32) -> 81.454545 | R32: =RANK(P32,$P$16:$P$244) -> 17
A33: 221 | B33: ='perkelas 9'!B423 -> 7343 | C33: ='perkelas 9'!C423 -> RIZQYA PUTRI SANI NURUSSOLIKHIN | D33: ='perkelas 9'!D423 -> 9-G | E33: ='perkelas 9'!E423 -> 63 | F33: ='perkelas 9'!F423 -> 73 | G33: ='perkelas 9'!G423 -> 82 | H33: ='perkelas 9'!H423 -> 93 | I33: ='perkelas 9'!I423 -> 88 | ... O33: ='perkelas 9'!O423 -> 82 | P33: =SUM(E33:O33) -> 895 | Q33: =AVERAGE(E33:O33) -> 81.363636 | R33: =RANK(P33,$P$16:$P$244) -> 18
A34: 198 | B34: ='perkelas 9'!B400 -> 7284 | C34: ='perkelas 9'!C400 -> AKHMAD ROBITH RIZQI | D34: ='perkelas 9'!D400 -> 9-G | E34: ='perkelas 9'!E400 -> 78 | F34: ='perkelas 9'!F400 -> 85 | G34: ='perkelas 9'!G400 -> 73 | H34: ='perkelas 9'!H400 -> 90 | I34: ='perkelas 9'!I400 -> 95 | ... O34: ='perkelas 9'!O400 -> 76 | P34: =SUM(E34:O34) -> 894 | Q34: =AVERAGE(E34:O34) -> 81.272727 | R34: =RANK(P34,$P$16:$P$244) -> 19
A35: 212 | B35: ='perkelas 9'!B414 -> 7467 | C35: ='perkelas 9'!C414 -> LULUK TAZKIA KAMILA | D35: ='perkelas 9'!D414 -> 9-G | E35: ='perkelas 9'!E414 -> 88 | F35: ='perkelas 9'!F414 -> 83 | G35: ='perkelas 9'!G414 -> 83 | H35: ='perkelas 9'!H414 -> 90 | I35: ='perkelas 9'!I414 -> 57 | ... O35: ='perkelas 9'!O414 -> 88 | P35: =SUM(E35:O35) -> 893 | Q35: =AVERAGE(E35:O35) -> 81.181818 | R35: =RANK(P35,$P$16:$P$244) -> 20
A36: 18 | B36: ='perkelas 9'!B33 -> 7331 | C36: ='perkelas 9'!C33 -> MAYLANI AYU WULANDARI | D36: ='perkelas 9'!D33 -> 9-A | E36: ='perkelas 9'!E33 -> 92 | F36: ='perkelas 9'!F33 -> 80 | G36: ='perkelas 9'!G33 -> 75 | H36: ='perkelas 9'!H33 -> 80 | I36: ='perkelas 9'!I33 -> 74 | ... O36: ='perkelas 9'!O33 -> 85 | P36: =SUM(E36:O36) -> 890 | Q36: =AVERAGE(E36:O36) -> 80.909091 | R36: =RANK(P36,$P$16:$P$244) -> 21
A37: 25 | B37: ='perkelas 9'!B40 -> 7311 | C37: ='perkelas 9'!C40 -> RIVA NUR ROKHMAH | D37: ='perkelas 9'!D40 -> 9-A | E37: ='perkelas 9'!E40 -> 80 | F37: ='perkelas 9'!F40 -> 80 | G37: ='perkelas 9'!G40 -> 70 | H37: ='perkelas 9'!H40 -> 90 | I37: ='perkelas 9'!I40 -> 80 | ... O37: ='perkelas 9'!O40 -> 87 | P37: =SUM(E37:O37) -> 889 | Q37: =AVERAGE(E37:O37) -> 80.818182 | R37: =RANK(P37,$P$16:$P$244) -> 22
A38: 206 | B38: ='perkelas 9'!B408 -> 7393 | C38: ='perkelas 9'!C408 -> DIYAH WAHYU RETNO | D38: ='perkelas 9'!D408 -> 9-G | E38: ='perkelas 9'!E408 -> 83 | F38: ='perkelas 9'!F408 -> 80 | G38: ='perkelas 9'!G408 -> 87 | H38: ='perkelas 9'!H408 -> 80 | I38: ='perkelas 9'!I408 -> 92 | ... O38: ='perkelas 9'!O408 -> 87 | P38: =SUM(E38:O38) -> 888 | Q38: =AVERAGE(E38:O38) -> 80.727273 | R38: =RANK(P38,$P$16:$P$244) -> 23
A39: 200 | B39: ='perkelas 9'!B402 -> 7353 | C39: ='perkelas 9'!C402 -> ALYA WAHYU KARTIKA | D39: ='perkelas 9'!D402 -> 9-G | E39: ='perkelas 9'!E402 -> 75 | F39: ='perkelas 9'!F402 -> 83 | G39: ='perkelas 9'!G402 -> 85 | H39: ='perkelas 9'!H402 -> 77 | I39: ='perkelas 9'!I402 -> 76 | ... O39: ='perkelas 9'!O402 -> 83 | P39: =SUM(E39:O39) -> 884 | Q39: =AVERAGE(E39:O39) -> 80.363636 | R39: =RANK(P39,$P$16:$P$244) -> 24
A40: 226 | B40: ='perkelas 9'!B428 -> 7414 | C40: ='perkelas 9'!C428 -> TRIANA SHEILA KAMALIA | D40: ='perkelas 9'!D428 -> 9-G | E40: ='perkelas 9'!E428 -> 70 | F40: ='perkelas 9'!F428 -> 82 | G40: ='perkelas 9'!G428 -> 80 | H40: ='perkelas 9'!H428 -> 78 | I40: ='perkelas 9'!I428 -> 89 | ... O40: ='perkelas 9'!O428 -> 82 | P40: =SUM(E40:O40) -> 880 | Q40: =AVERAGE(E40:O40) -> 80 | R40: =RANK(P40,$P$16:$P$244) -> 25
A41: 207 | B41: ='perkelas 9'!B409 -> 7297 | C41: ='perkelas 9'!C409 -> FRISKA AMEYLIA | D41: ='perkelas 9'!D409 -> 9-G | E41: ='perkelas 9'!E409 -> 80 | F41: ='perkelas 9'!F409 -> 79 | G41: ='perkelas 9'!G409 -> 78 | H41: ='perkelas 9'!H409 -> 80 | I41: ='perkelas 9'!I409 -> 83 | ... O41: ='perkelas 9'!O409 -> 85 | P41: =SUM(E41:O41) -> 879 | Q41: =AVERAGE(E41:O41) -> 79.909091 | R41: =RANK(P41,$P$16:$P$244) -> 26
A42: 1 | B42: ='perkelas 9'!B16 -> 7451 | C42: ='perkelas 9'!C16 -> ADINDA NAJMA ZUHRAHIDA | D42: ='perkelas 9'!D16 -> 9-A | E42: ='perkelas 9'!E16 -> 80 | F42: ='perkelas 9'!F16 -> 95 | G42: ='perkelas 9'!G16 -> 73 | H42: ='perkelas 9'!H16 -> 77 | I42: ='perkelas 9'!I16 -> 70 | ... O42: ='perkelas 9'!O16 -> 76 | P42: =SUM(E42:O42) -> 877 | Q42: =AVERAGE(E42:O42) -> 79.727273 | R42: =RANK(P42,$P$16:$P$244) -> 27
A43: 3 | B43: ='perkelas 9'!B18 -> 7385 | C43: ='perkelas 9'!C18 -> AHMAD NURUL FANNY | D43: ='perkelas 9'!D18 -> 9-A | E43: ='perkelas 9'!E18 -> 80 | F43: ='perkelas 9'!F18 -> 75 | G43: ='perkelas 9'!G18 -> 78 | H43: ='perkelas 9'!H18 -> 68 | I43: ='perkelas 9'!I18 -> 70 | ... O43: ='perkelas 9'!O18 -> 83 | P43: =SUM(E43:O43) -> 874 | Q43: =AVERAGE(E43:O43) -> 79.454545 | R43: =RANK(P43,$P$16:$P$244) -> 28
...
