Workbook

Sheet perkelas 7
A1: PEMERINTAH KABUPATEN JEPARA
A2: DINAS PENDIDIKAN PEMUDA DAN OLAH RAGA
A3: UNIT PELAKSANA TEKNIS
A4: SMP NEGERI 1 WELAHAN
A5: Jl. Welahan Km. 22 Jepara ' ( 0291 ) 4256295 *59464
A6: E-mail : smpn1welahan@yahoo.co.id website : www. smpn1welahan.com
A9: LAPORAN NILAI MURNI PENILAIAN TENGAH SEMESTER GASAL
A10: SMP NEGERI 1 WELAHAN
A11: TAHUN PELAJARAN 2018 / 2019
A13: NO | B13: NIS | C13: NAMA SISWA | D13: Kelas | E13: Mata Pelajaran | P13: Jumlah | Q13: Rata - rata | R13: Peringkat
E14: PAI | F14: PKn | G14: B.Ind | H14: B.Ing | I14: MTK | J14: IPA | K14: IPS | L14: S. Bud | M14: Penjas | N14: Prakarya | O14: B.JW
A15: KRITERIA KETUNTASAN MINIMAL (KKM) | E15: 75 | F15: 75 | G15: 75 | H15: 75 | I15: 75 | J15: 75 | K15: 75 | L15: 75 | M15: 75 | N15: 75 | O15: 75
A16: 1 | B16: 1818384001 | C16: ADITYA SETIAWAN | D16: 7-A | E16: 65 | F16: 80 | G16: 72 | H16: 63 | I16: 83 | J16: 47 | K16: 68 | L16: 87 | M16: 75 | N16: 74 | O16: 82 | P16: =SUM(E16:O16) -> 796 | Q16: =AVERAGE(E16:O16) -> 72.363636 | R16: =RANK(P16,$P$16:$P$47) -> 25
A17: 2 | B17: 1818384002 | C17: AINUR ROFIQ | D17: 7-A | E17: 82 | F17: 80 | G17: 72 | H17: 60 | I17: 79 | J17: 47 | K17: 75 | L17: 87 | M17: 78 | N17: 73 | O17: 85 | P17: =SUM(E17:O17) -> 818 | Q17: =AVERAGE(E17:O17) -> 74.363636 | R17: =RANK(P17,$P$16:$P$47) -> 21
A18: 3 | B18: 1818384003 | C18: AISYAH NAFIS MAULA | D18: 7-A | E18: 88 | F18: 83 | G18: 75 | H18: 87 | I18: 71 | J18: 55 | K18: 75 | L18: 88 | M18: 58 | N18: 75 | O18: 90 | P18: =SUM(E18:O18) -> 845 | Q18: =AVERAGE(E18:O18) -> 76.818182 | R18: =RANK(P18,$P$16:$P$47) -> 17
A19: 4 | B19: 1818384004 | C19: ANASTASYA IRAWATI | D19: 7-A | E19: 97 | F19: 93 | G19: 78 | H19: 78 | I19: 90 | J19: 60 | K19: 75 | L19: 98 | M19: 75 | N19: 76 | O19: 100 | P19: =SUM(E19:O19) -> 920 | Q19: =AVERAGE(E19:O19) -> 83.636364 | R19: =RANK(P19,$P$16:$P$47) -> 4
A20: 5 | B20: 1818384005 | C20: AULA AMMIMAH | D20: 7-A | E20: 85 | F20: 82 | G20: 77 | H20: 75 | I20: 83 | J20: 70 | K20: 73 | L20: 97 | M20: 71 | N20: 79 | O20: 95 | P20: =SUM(E20:O20) -> 887 | Q20: =AVERAGE(E20:O20) -> 80.636364 | R20: =RANK(P20,$P$16:$P$47) -> 10
A21: 6 | B21: 1818384006 | C21: FARIDATUL AMALIYA | D21: 7-A | E21: 92 | F21: 93 | G21: 80 | H21: 78 | I21: 83 | J21: 70 | K21: 75 | L21: 95 | M21: 82 | N21: 75 | O21: 92 | P21: =SUM(E21:O21) -> 915 | Q21: =AVERAGE(E21:O21) -> 83.181818 | R21: =RANK(P21,$P$16:$P$47) -> 5
A22: 7 | B22: 1818384007 | C22: FAUZI AHMAD ZAEKHAN | D22: 7-A | E22: 80 | F22: 80 | G22: 76 | H22: 65 | I22: 69 | J22: 37 | K22: 65 | L22: 78 | M22: 70 | N22: 70 | O22: 80 | P22: =SUM(E22:O22) -> 770 | Q22: =AVERAGE(E22:O22) -> 70 | R22: =RANK(P22,$P$16:$P$47) -> 28
A23: 8 | B23: 1818384008 | C23: FIRDA AULIA MUSTAFIDAH | D23: 7-A | E23: 90 | F23: 87 | G23: 78 | H23: 77 | I23: 88 | J23: 65 | K23: 70 | L23: 88 | M23: 71 | N23: 79 | O23: 98 | P23: =SUM(E23:O23) -> 891 | Q23: =AVERAGE(E23:O23) -> 81 | R23: =RANK(P23,$P$16:$P$47) -> 8
A24: 9 | B24: 1818384009 | C24: KHAILA AURA SABNA | D24: 7-A | E24: 90 | F24: 87 | G24: 70 | H24: 73 | I24: 89 | J24: 67 | K24: 68 | L24: 97 | M24: 70 | N24: 80 | O24: 95 | P24: =SUM(E24:O24) -> 886 | Q24: =AVERAGE(E24:O24) -> 80.545455 | R24: =RANK(P24,$P$16:$P$47) -> 11
A25: 10 | B25: 1818384010 | C25: LINA SILVIANA | D25: 7-A | E25: 92 | F25: 90 | G25: 78 | H25: 83 | I25: 86 | J25: 62 | K25: 68 | L25: 97 | M25: 58 | N25: 73 | O25: 93 | P25: =SUM(E25:O25) -> 880 | Q25: =AVERAGE(E25:O25) -> 80 | R25: =RANK(P25,$P$16:$P$47) -> 13
A26: 11 | B26: 1818384011 | C26: MARSHA DWI ANGGRAINI | D26: 7-A | E26: 82 | F26: 87 | G26: 73 | H26: 68 | I26: 83 | J26: 57 | K26: 55 | L26: 90 | M26: 58 | N26: 68 | O26: 78 | P26: =SUM(E26:O26) -> 799 | Q26: =AVERAGE(E26:O26) -> 72.636364 | R26: =RANK(P26,$P$16:$P$47) -> 24
A27: 12 | B27: 1818384012 | C27: MAZDALINA HAIFA | D27: 7-A | E27: 95 | F27: 90 | G27: 72 | H27: 92 | I27: 94 | J27: 77 | K27: 82 | L27: 97 | M27: 66 | N27: 81 | O27: 98 | P27: =SUM(E27:O27) -> 944 | Q27: =AVERAGE(E27:O27) -> 85.818182 | R27: =RANK(P27,$P$16:$P$47) -> 1
... A44: 29 | B44: 1818384029 | C44: SITI FITRIANA RAMADHANI | D44: 7-A | E44: 90 | F44: 75 | G44: 70 | H44: 82 | I44: 84 | J44: 50 | K44: 77 | L44: 90 | M44: 66 | N44: 77 | O44: 85 | P44: =SUM(E44:O44) -> 846 | Q44: =AVERAGE(E44:O44) -> 76.909091 | R44: =RANK(P44,$P$16:$P$47) -> 15
A45: 30 | B45: 1818384030 | C45: SUKMA DEWI AULIA PUTRI | D45: 7-A | E45: 90 | F45: 90 | G45: 80 | H45: 70 | I45: 91 | J45: 63 | K45: 73 | L45: 90 | M45: 70 | N45: 73 | O45: 98 | P45: =SUM(E45:O45) -> 888 | Q45: =AVERAGE(E45:O45) -> 80.727273 | R45: =RANK(P45,$P$16:$P$45) -> 9
C49: Nilai Tertinggi | E49: =MAX(E16:E45) -> 97 | F49: =MAX(F16:F45) -> 93 | G49: =MAX(G16:G45) -> 87 | H49: =MAX(H16:H45) -> 97 | I49: =MAX(I16:I45) -> 94 | J49: =MAX(J16:J45) -> 77 | K49: =MAX(K16:K45) -> 85 | L49: =MAX(L16:L45) -> 98 | ... O49: =MAX(O16:O45) -> 100
C50: Nilai Terendah | E50: =MIN(E16:E45) -> 60 | F50: =MIN(F16:F45) -> 59 | G50: =MIN(G16:G45) -> 68 | H50: =MIN(H16:H45) -> 58 | I50: =MIN(I16:I45) -> 60 | J50: =MIN(J16:J45) -> 28 | K50: =MIN(K16:K45) -> 55 | L50: =MIN(L16:L45) -> 75 | ... O50: =MIN(O16:O45) -> 72
C51: Rata - Rata | E51: =AVERAGE(E16:E45) -> 84.366667 | F51: =AVERAGE(F16:F45) -> 82.366667 | G51: =AVERAGE(G16:G45) -> 75.833333 | H51: =AVERAGE(H16:H45) -> 75.533333 | I51: =AVERAGE(I16:I45) -> 82.833333 | J51: =AVERAGE(J16:J45) -> 56.433333 | K51: =AVERAGE(K16:K45) -> 71.633333 | L51: =AVERAGE(L16:L45) -> 90.833333 | ... O51: =AVERAGE(O16:O45) -> 88.6
C53: Mengetahui , | L53: Welahan, Oktober 2018
C54: Kepala SMP Negeri 1 Welahan | E54: Orang Tua/Wali Murid | L54: Wali Kelas 7A
C57: Hadi Subeno, S.Pd. | E57: ……………………………………. | L57: Endang Usriyah, S.Pd
C58: NIP. 19620906 198302 1 003 | L58: NIP. 19671227 199512 2 002
A64: PEMERINTAH KABUPATEN JEPARA
A65: DINAS PENDIDIKAN PEMUDA DAN OLAH RAGA
A66: UNIT PELAKSANA TEKNIS
A67: SMP NEGERI 1 WELAHAN
A68: Jl. Welahan Km. 22 Jepara ' ( 0291 ) 4256295 *59464
A69: E-mail : smpn1welahan@yahoo.co.id website : www. smpn1welahan.com
A72: LAPORAN NILAI MURNI PENILAIAN TENGAH SEMESTER GASAL
A73: SMP NEGERI 1 WELAHAN
A74: TAHUN PELAJARAN 2018 / 2019
A76: NO | B76: NIS | C76: NAMA SISWA | D76: Kelas | E76: Mata Pelajaran | P76: Jumlah | Q76: Rata - rata | R76: Peringkat
E77: PAI | F77: PKn | G77: B.Ind | H77: B.Ing | I77: MTK | J77: IPA | K77: IPS | L77: S. Bud | M77: Penjas | N77: Prakarya | O77: B.JW
A78: KRITERIA KETUNTASAN MINIMAL (KKM) | E78: 75 | F78: 75 | G78: 75 | H78: 75 | I78: 75 | J78: 75 | K78: 75 | L78: 75 | M78: 75 | N78: 75 | O78: 75
A79: 1 | B79: 1818384031 | C79: AISAHTUL KHASANAH | D79: 7-B | E79: 57 | F79: 63 | G79: 62 | H79: 57 | I79: 50 | J79: 43 | K79: 51 | L79: 77 | M79: 50 | N79: 66 | O79: 63 | P79: =SUM(E79:O79) -> 639 | Q79: =AVERAGE(E79:O79) -> 58.090909 | R79: =RANK(P79,$P$79:$P$110) -> 28
A80: 2 | B80: 1818384032 | C80: ALVIN FAUZI RAMADHAN | D80: 7-B | E80: 78 | F80: 73 | G80: 62 | H80: 53 | I80: 68 | J80: 40 | K80: 73 | L80: 63 | M80: 53 | N80: 65 | O80: 75 | P80: =SUM(E80:O80) -> 703 | Q80: =AVERAGE(E80:O80) -> 63.909091 | R80: =RANK(P80,$P$79:$P$110) -> 24
A81: 3 | B81: 1818384033 | C81: BAGUS HARIS PRATAMA | D81: 7-B | E81: 43 | F81: 60 | G81: 63 | H81: 50 | I81: 63 | J81: 45 | K81: 64 | L81: 82 | M81: 58 | N81: 69 | O81: 68 | P81: =SUM(E81:O81) -> 665 | Q81: =AVERAGE(E81:O81) -> 60.454545 | R81: =RANK(P81,$P$79:$P$110) -> 26
A82: 4 | B82: 1818384034 | C82: Bandung ADITYA | D82: 7-B | E82: 37 | F82: 52 | G82: 60 | H82: 45 | I82: 62 | J82: 33 | K82: 47 | L82: 73 | M82: 46 | N82: 64 | O82: 75 | P82: =SUM(E82:O82) -> 594 | Q82: =AVERAGE(E82:O82) -> 54 | R82: =RANK(P82,$P$79:$P$110) -> 30
A83: 5 | B83: 1818384035 | C83: BONITA SRI WAHYUNINGTYAS | D83: 7-B | E83: 62 | F83: 53 | G83: 68 | H83: 65 | I83: 66 | J83: 35 | K83: 62 | L83: 95 | M83: 50 | N83: 64 | O83: 85 | P83: =SUM(E83:O83) -> 705 | Q83: =AVERAGE(E83:O83) -> 64.090909 | R83: =RANK(P83,$P$79:$P$110) -> 23
A84: 6 | B84: 1818384036 | C84: INDI CISTIA MAHARANI | D84: 7-B | E84: 63 | F84: 73 | G84: 73 | H84: 78 | I84: 65 | J84: 47 | K84: 73 | L84: 85 | M84: 56 | N84: 78 | O84: 87 | P84: =SUM(E84:O84) -> 778 | Q84: =AVERAGE(E84:O84) -> 70.727273 | R84: =RANK(P84,$P$79:$P$110) -> 10
A85: 7 | B85: 1818384037 | C85: INTAN SELVIA | D85: 7-B | E85: 67 | F85: 77 | G85: 75 | H85: 70 | I85: 58 | J85: 47 | K85: 67 | L85: 80 | M85: 58 | N85: 67 | O85: 82 | P85: =SUM(E85:O85) -> 748 | Q85: =AVERAGE(E85:O85) -> 68 | R85: =RANK(P85,$P$79:$P$110) -> 15
A86: 8 | B86: 1818384038 | C86: JULIA DWI RAHAYU | D86: 7-B | E86: 51 | F86: 43 | G86: 52 | H86: 58 | I86: 41 | J86: 30 | K86: 42 | L86: 63 | M86: 40 | N86: 60 | O86: 58 | P86: =SUM(E86:O86) -> 538 | Q86: =AVERAGE(E86:O86) -> 48.909091 | R86: =RANK(P86,$P$79:$P$110) -> 31
A87: 9 | B87: 1818384039 | C87: KHOLILATUR ROHMANIA | D87: 7-B | E87: 68 | F87: 87 | G87: 65 | H87: 62 | I87: 62 | J87: 42 | K87: 67 | L87: 80 | M87: 53 | N87: 78 | O87: 90 | P87: =SUM(E87:O87) -> 754 | Q87: =AVERAGE(E87:O87) -> 68.545455 | R87: =RANK(P87,$P$79:$P$110) -> 14
A88: 10 | B88: 1818384040 | C88: LAILA ALFI SYAHRINA | D88: 7-B | E88: 67 | F88: 65 | G88: 80 | H88: 60 | I88: 71 | J88: 40 | K88: 69 | L88: 83 | M88: 56 | N88: 63 | O88: 93 | P88: =SUM(E88:O88) -> 747 | Q88: =AVERAGE(E88:O88) -> 67.909091 | R88: =RANK(P88,$P$79:$P$110) -> 16
A89: 11 | B89: 1818384041 | C89: LINDA MEIRANI | D89: 7-B | E89: 92 | F89: 72 | G89: 77 | H89: 82 | I89: 94 | J89: 48 | K89: 83 | L89: 95 | M89: 56 | N89: 69 | O89: 88 | P89: =SUM(E89:O89) -> 856 | Q89: =AVERAGE(E89:O89) -> 77.818182 | R89: =RANK(P89,$P$79:$P$110) -> 2
A90: 12 | B90: 1818384042 | C90: MAULANA AKBAR | D90: 7-B | E90: 77 | F90: 82 | G90: 68 | H90: 78 | I90: 50 | J90: 53 | K90: 60 | L90: 85 | M90: 63 | N90: 73 | O90: 88 | P90: =SUM(E90:O90) -> 777 | Q90: =AVERAGE(E90:O90) -> 70.636364 | R90: =RANK(P90,$P$79:$P$110) -> 11
... A110: 32 | B110: 1818384062 | C110: YULIANA RAHWATI | D110: 7-B | E110: 32 | F110: 42 | G110: 38 | H110: 50 | I110: 50 | J110: 40 | K110: 40 | L110: 67 | M110: 38 | N110: 59 | O110: 60 | P110: =SUM(E110:O110) -> 516 | Q110: =AVERAGE(E110:O110) -> 46.909091 | R110: =RANK(P110,$P$79:$P$110) -> 32
C114: Nilai Tertinggi | E114: =MAX(E79:E110) -> 92 | F114: =MAX(F79:F110) -> 89 | G114: =MAX(G79:G110) -> 85 | H114: =MAX(H79:H110) -> 98 | I114: =MAX(I79:I110) -> 96 | J114: =MAX(J79:J110) -> 60 | K114: =MAX(K79:K110) -> 83 | L114: =MAX(L79:L110) -> 95 | ... O114: =MAX(O79:O110) -> 95
C115: Nilai Terendah | E115: =MIN(E79:E110) -> 32 | F115: =MIN(F79:F110) -> 42 | G115: =MIN(G79:G110) -> 38 | H115: =MIN(H79:H110) -> 40 | I115: =MIN(I79:I110) -> 41 | J115: =MIN(J79:J110) -> 30 | K115: =MIN(K79:K110) -> 40 | L115: =MIN(L79:L110) -> 63 | ... O115: =MIN(O79:O110) -> 57
C116: Rata - Rata | E116: =AVERAGE(E79:E110) -> 67.25 | F116: =AVERAGE(F79:F110) -> 69.46875 | G116: =AVERAGE(G79:G110) -> 68.8125 | H116: =AVERAGE(H79:H110) -> 65.6875 | I116: =AVERAGE(I79:I110) -> 65.5 | J116: =AVERAGE(J79:J110) -> 42.0625 | K116: =AVERAGE(K79:K110) -> 66.875 | L116: =AVERAGE(L79:L110) -> 81.1875 | ... O116: =AVERAGE(O79:O110) -> 77.125
C118: Mengetahui , | L118: Welahan, Oktober 2018
C119: Kepala SMP Negeri 1 Welahan | E119: Orang Tua/Wali Murid | L119: Wali Kelas 7B
C122: Hadi Subeno, S.Pd. | E122: ……………………………………. | L122: DWI ASRI PUJI RAHAYU, S.Pd
C123: NIP. 19620906 198302 1 003 | L123: NIP. 19741201 200701 2 009
A130: PEMERINTAH KABUPATEN JEPARA
A131: DINAS PENDIDIKAN PEMUDA DAN OLAH RAGA
A132: UNIT PELAKSANA TEKNIS
A133: SMP NEGERI 1 WELAHAN
A134: Jl. Welahan Km. 22 Jepara ' ( 0291 ) 4256295 *59464
A135: E-mail : smpn1welahan@yahoo.co.id website : www. smpn1welahan.com
A138: LAPORAN NILAI MURNI PENILAIAN TENGAH SEMESTER GASAL
A139: SMP NEGERI 1 WELAHAN
A140: TAHUN PELAJARAN 2018 / 2019
A142: NO | B142: NIS | C142: NAMA SISWA | D142: Kelas | E142: Mata Pelajaran | P142: Jumlah | Q142: Rata - rata | R142: Peringkat
E143: PAI | F143: PKn | G143: B.Ind | H143: B.Ing | I143: MTK | J143: IPA | K143: IPS | L143: S. Bud | M143: Penjas | N143: Prakarya | O143: B.JW
A144: KRITERIA KETUNTASAN MINIMAL (KKM) | E144: 75 | F144: 75 | G144: 75 | H144: 75 | I144: 75 | J144: 75 | K144: 75 | L144: 75 | M144: 75 | N144: 75 | O144: 75
A145: 1 | B145: 1818384063 | C145: ADINDA TALIA SALSA BELLA | D145: 7-C | E145: 72 | F145: 79 | G145: 77 | H145: 68 | I145: 57 | J145: 47 | K145: 71 | L145: 87 | M145: 56 | N145: 79 | O145: 77 | P145: =SUM(E145:O145) -> 770 | Q145: =AVERAGE(E145:O145) -> 70 | R145: =RANK(P145,$P$145:$P$176) -> 7
A146: 2 | B146: 1818384064 | C146: AHMAD KHARIS NUR FADLI | D146: 7-C | E146: 65 | F146: 77 | G146: 70 | H146: 50 | I146: 41 | J146: 37 | K146: 73 | L146: 75 | M146: 68 | N146: 76 | O146: 77 | P146: =SUM(E146:O146) -> 709 | Q146: =AVERAGE(E146:O146) -> 64.454545 | R146: =RANK(P146,$P$145:$P$176) -> 14
A147: 3 | B147: 1818384065 | C147: AKHMAD JAZULI RIFQI | D147: 7-C | E147: 48 | F147: 57 | G147: 51 | H147: 52 | I147: 56 | J147: 35 | K147: 53 | L147: 68 | M147: 50 | N147: 73 | O147: 58 | P147: =SUM(E147:O147) -> 601 | Q147: =AVERAGE(E147:O147) -> 54.636364 | R147: =RANK(P147,$P$145:$P$176) -> 28
A148: 4 | B148: 1818384066 | C148: ANGGA GILANG PRATAMA | D148: 7-C | E148: 57 | F148: 83 | G148: 75 | H148: 73 | I148: 68 | J148: 43 | K148: 69 | L148: 78 | M148: 55 | N148: 70 | O148: 70 | P148: =SUM(E148:O148) -> 741 | Q148: =AVERAGE(E148:O148) -> 67.363636 | R148: =RANK(P148,$P$145:$P$176) -> 10
A149: 5 | B149: 1818384067 | C149: ANGGI YAS SANDI | D149: 7-C | E149: 85 | F149: 70 | G149: 68 | H149: 60 | I149: 57 | J149: 35 | K149: 62 | L149: 78 | M149: 60 | N149: 63 | O149: 63 | P149: =SUM(E149:O149) -> 701 | Q149: =AVERAGE(E149:O149) -> 63.727273 | R149: =RANK(P149,$P$145:$P$176) -> 15
A150: 6 | B150: 1818384068 | C150: DEVI FIRDA MARLENA | D150: 7-C | E150: 60 | F150: 62 | G150: 62 | H150: 47 | I150: 65 | J150: 38 | K150: 58 | L150: 82 | M150: 53 | N150: 68 | O150: 58 | P150: =SUM(E150:O150) -> 653 | Q150: =AVERAGE(E150:O150) -> 59.363636 | R150: =RANK(P150,$P$145:$P$176) -> 21
A151: 7 | B151: 1818384069 | C151: EKA OKTAVIA | D151: 7-C | E151: 83 | F151: 79 | G151: 63 | H151: 62 | I151: 57 | J151: 43 | K151: 78 | L151: 80 | M151: 48 | N151: 62 | O151: 62 | P151: =SUM(E151:O151) -> 717 | Q151: =AVERAGE(E151:O151) -> 65.181818 | R151: =RANK(P151,$P$145:$P$176) -> 12
A152: 8 | B152: 1818384070 | C152: EVITA TRI CAHYANI | D152: 7-C | E152: 87 | F152: 83 | G152: 68 | H152: 78 | I152: 84 | J152: 53 | K152: 82 | L152: 73 | M152: 55 | N152: 66 | O152: 88 | P152: =SUM(E152:O152) -> 817 | Q152: =AVERAGE(E152:O152) -> 74.272727 | R152: =RANK(P152,$P$145:$P$176) -> 1
A153: 9 | B153: 1818384071 | C153: FARAH AGUSTINA | D153: 7-C | E153: 58 | F153: 73 | G153: 80 | H153: 62 | I153: 73 | J153: 47 | K153: 76 | L153: 80 | M153: 68 | N153: 73 | O153: 82 | P153: =SUM(E153:O153) -> 772 | Q153: =AVERAGE(E153:O153) -> 70.181818 | R153: =RANK(P153,$P$145:$P$176) -> 6
A154: 10 | B154: 1818384072 | C154: FARIZ ANIQ ALFARISI | D154: 7-C | E154: 55 | F154: 62 | G154: 60 | H154: 47 | I154: 60 | J154: 37 | K154: 53 | L154: 77 | M154: 53 | N154: 65 | O154: 70 | P154: =SUM(E154:O154) -> 639 | Q154: =AVERAGE(E154:O154) -> 58.090909 | R154: =RANK(P154,$P$145:$P$176) -> 23
A155: 11 | B155: 1818384073 | C155: FAZA NAILIA | D155: 7-C | E155: 57 | F155: 59 | G155: 58 | H155: 40 | I155: 44 | J155: 30 | K155: 49 | L155: 78 | M155: 58 | N155: 69 | O155: 58 | P155: =SUM(E155:O155) -> 600 | Q155: =AVERAGE(E155:O155) -> 54.545455 | R155: =RANK(P155,$P$145:$P$176) -> 29
A156: 12 | B156: 1818384074 | C156: FERDY ANDREAN | D156: 7-C | E156: 53 | F156: 55 | G156: 52 | H156: 40 | I156: 50 | J156: 37 | K156: 44 | L156: 70 | M156: 75 | N156: 60 | O156: 53 | P156: =SUM(E156:O156) -> 589 | Q156: =AVERAGE(E156:O156) -> 53.545455 | R156: =RANK(P156,$P$145:$P$176) -> 31
... A176: 32 | B176: 1818384094 | C176: YULIZA SILVIANI KHUSNIA AMILA | D176: 7-C | E176: 53 | F176: 50 | G176: 50 | H176: 53 | I176: 47 | J176: 37 | K176: 58 | L176: 80 | M176: 50 | N176: 66 | O176: 73 | P176: =SUM(E176:O176) -> 617 | Q176: =AVERAGE(E176:O176) -> 56.090909 | R176: =RANK(P176,$P$145:$P$176) -> 26
C180: Nilai Tertinggi | E180: =MAX(E145:E176) -> 87 | F180: =MAX(F145:F176) -> 83 | G180: =MAX(G145:G176) -> 80 | H180: =MAX(H145:H176) -> 83 | I180: =MAX(I145:I176) -> 85 | J180: =MAX(J145:J176) -> 53 | K180: =MAX(K145:K176) -> 82 | L180: =MAX(L145:L176) -> 90 | ... O180: =MAX(O145:O176) -> 90
C181: Nilai Terendah | E181: =MIN(E145:E176) -> 35 | F181: =MIN(F145:F176) -> 45 | G181: =MIN(G145:G176) -> 50 | H181: =MIN(H145:H176) -> 25 | I181: =MIN(I145:I176) -> 41 | J181: =MIN(J145:J176) -> 30 | K181: =MIN(K145:K176) -> 44 | L181: =MIN(L145:L176) -> 67 | ... O181: =MIN(O145:O176) -> 47
C182: Rata - Rata | E182: =AVERAGE(E145:E176) -> 61.59375 | F182: =AVERAGE(F145:F176) -> 66.875 | G182: =AVERAGE(G145:G176) -> 64.3125 | H182: =AVERAGE(H145:H176) -> 59.125 | I182: =AVERAGE(I145:I176) -> 59.3125 | J182: =AVERAGE(J145:J176) -> 39.3125 | K182: =AVERAGE(K145:K176) -> 65.53125 | L182: =AVERAGE(L145:L176) -> 77.59375 | ... O182: =AVERAGE(O145:O176) -> 71.1875
C184: Mengetahui , | L184: Welahan, Oktober 2018
C185: Kepala SMP Negeri 1 Welahan | E185: Orang Tua/Wali Murid | L185: Wali Kelas 7C
C188: Hadi Subeno, S.Pd. | E188: ……………………………………. | L188: KARYANTO, S.Pd
C189: NIP. 19620906 198302 1 003 | L189: NIP. 19600408 198202 1 003
A196: PEMERINTAH KABUPATEN JEPARA
A197: DINAS PENDIDIKAN PEMUDA DAN OLAH RAGA
A198: UNIT PELAKSANA TEKNIS
...

Sheet perkelas 8
A1: PEMERINTAH KABUPATEN JEPARA
A2: DINAS PENDIDIKAN PEMUDA DAN OLAH RAGA
A3: UNIT PELAKSANA TEKNIS
A4: SMP NEGERI 1 WELAHAN
A5: Jl. Welahan Km. 22 Jepara ' ( 0291 ) 4256295 *59464
A6: E-mail : smpn1welahan@yahoo.co.id website : www. smpn1welahan.com
A9: LAPORAN NILAI MURNI PENILAIAN TENGAH SEMESTER GASAL
A10: SMP NEGERI 1 WELAHAN
A11: TAHUN PELAJARAN 2018 / 2019
A13: NO | B13: NIS | C13: NAMA SISWA | D13: Kelas | E13: Mata Pelajaran | P13: Jumlah | Q13: Rata - rata | R13: Peringkat
E14: PAI | F14: PKn | G14: B.Ind | H14: B.Ing | I14: MTK | J14: IPA | K14: IPS | L14: S. Bud | M14: Penjas | N14: Prakarya | O14: B.JW
A15: KRITERIA KETUNTASAN MINIMAL (KKM) | E15: 75 | F15: 75 | G15: 75 | H15: 75 | I15: 75 | J15: 75 | K15: 75 | L15: 75 | M15: 75 | N15: 75 | O15: 75
A16: 1 | B16: 17187518 | C16: A. KHOIRUZZAD | D16: 8-A | E16: 82 | F16: 82 | G16: 83 | H16: 67 | I16: 64 | J16: 54 | K16: 72 | L16: 77 | M16: 91 | N16: 83 | O16: 93 | P16: =SUM(E16:O16) -> 848 | Q16: =AVERAGE(E16:O16) -> 77.090909 | R16: =RANK(P16,$P$16:$P$47) -> 21
A17: 2 | B17: 17187520 | C17: AHMAD FAIZ MUNA | D17: 8-A | E17: 90 | F17: 75 | G17: 88 | H17: 78 | I17: 70 | J17: 60 | K17: 77 | L17: 82 | M17: 86 | N17: 88 | O17: 93 | P17: =SUM(E17:O17) -> 887 | Q17: =AVERAGE(E17:O17) -> 80.636364 | R17: =RANK(P17,$P$16:$P$47) -> 11
A18: 3 | B18: 17187521 | C18: AKHMAD KUSIYANTO | D18: 8-A | E18: 82 | F18: 72 | G18: 72 | H18: 57 | I18: 58 | J18: 52 | K18: 78 | L18: 67 | M18: 87 | N18: 81 | O18: 92 | P18: =SUM(E18:O18) -> 798 | Q18: =AVERAGE(E18:O18) -> 72.545455 | R18: =RANK(P18,$P$16:$P$47) -> 31
A19: 4 | B19: 17187650 | C19: ANATASYA RUQOYATUL ULFIYAH | D19: 8-A | E19: 82 | F19: 73 | G19: 68 | H19: 73 | I19: 64 | J19: 47 | K19: 83 | L19: 63 | M19: 75 | N19: 90 | O19: 83 | P19: =SUM(E19:O19) -> 801 | Q19: =AVERAGE(E19:O19) -> 72.818182 | R19: =RANK(P19,$P$16:$P$47) -> 30
A20: 5 | B20: 17187524 | C20: ANNASYA NAELA RAMADHANI | D20: 8-A | E20: 90 | F20: 82 | G20: 85 | H20: 77 | I20: 64 | J20: 62 | K20: 83 | L20: 82 | M20: 86 | N20: 85 | O20: 92 | P20: =SUM(E20:O20) -> 888 | Q20: =AVERAGE(E20:O20) -> 80.727273 | R20: =RANK(P20,$P$16:$P$47) -> 10
A21: 6 | B21: 17187555 | C21: ARIEF RAHMAN HAKIM | D21: 8-A | E21: 87 | F21: 79 | G21: 85 | H21: 62 | I21: 46 | J21: 60 | K21: 78 | L21: 83 | M21: 97 | N21: 88 | O21: 92 | P21: =SUM(E21:O21) -> 857 | Q21: =AVERAGE(E21:O21) -> 77.909091 | R21: =RANK(P21,$P$16:$P$47) -> 18
A22: 7 | B22: 17187655 | C22: DEVY SALSABILA | D22: 8-A | E22: 93 | F22: 90 | G22: 85 | H22: 78 | I22: 88 | J22: 60 | K22: 92 | L22: 83 | M22: 83 | N22: 81 | O22: 97 | P22: =SUM(E22:O22) -> 930 | Q22: =AVERAGE(E22:O22) -> 84.545455 | R22: =RANK(P22,$P$16:$P$47) -> 3
A23: 8 | B23: 17187591 | C23: DWIKI ADITYA RABBANI | D23: 8-A | E23: 90 | F23: 80 | G23: 83 | H23: 77 | I23: 70 | J23: 54 | K23: 82 | L23: 83 | M23: 89 | N23: 85 | O23: 93 | P23: =SUM(E23:O23) -> 886 | Q23: =AVERAGE(E23:O23) -> 80.545455 | R23: =RANK(P23,$P$16:$P$47) -> 12
A24: 9 | B24: 17187592 | C24: EKA ARDELIA | D24: 8-A | E24: 90 | F24: 77 | G24: 85 | H24: 91 | I24: 64 | J24: 55 | K24: 85 | L24: 70 | M24: 81 | N24: 90 | O24: 85 | P24: =SUM(E24:O24) -> 873 | Q24: =AVERAGE(E24:O24) -> 79.363636 | R24: =RANK(P24,$P$16:$P$47) -> 16
A25: 10 | B25: 17187619 | C25: EKA NUR LAILA FITRIA | D25: 8-A | E25: 88 | F25: 80 | G25: 80 | H25: 55 | I25: 64 | J25: 57 | K25: 75 | L25: 73 | M25: 83 | N25: 90 | O25: 93 | P25: =SUM(E25:O25) -> 838 | Q25: =AVERAGE(E25:O25) -> 76.181818 | R25: =RANK(P25,$P$16:$P$47) -> 24
A26: 11 | B26: 17187620 | C26: ELINDA UMI KHASANAH | D26: 8-A | E26: 92 | F26: 77 | G26: 80 | H26: 73 | I26: 79 | J26: 69 | K26: 73 | L26: 82 | M26: 85 | N26: 87 | O26: 97 | P26: =SUM(E26:O26) -> 894 | Q26: =AVERAGE(E26:O26) -> 81.272727 | R26: =RANK(P26,$P$16:$P$47) -> 9
A27: 12 | B27: 17187528 | C27: EVA NOVIA FITRIANI | D27: 8-A | E27: 88 | F27: 72 | G27: 68 | H27: 65 | I27: 58 | J27: 59 | K27: 78 | L27: 80 | M27: 74 | N27: 78 | O27: 87 | P27: =SUM(E27:O27) -> 807 | Q27: =AVERAGE(E27:O27) -> 73.363636 | R27: =RANK(P27,$P$16:$P$47) -> 29
... A47: 32 | B47: 17187645 | C47: ZANUBA ARIFAH AZZAHRA | D47: 8-A | E47: 78 | F47: 89 | G47: 88 | H47: 60 | I47: 79 | J47: 47 | K47: 78 | L47: 68 | M47: 82 | N47: 88 | O47: 93 | P47: =SUM(E47:O47) -> 850 | Q47: =AVERAGE(E47:O47) -> 77.272727 | R47: =RANK(P47,$P$16:$P$47) -> 19
C50: Nilai Tertinggi | E50: =MAX(E16:E47) -> 98 | F50: =MAX(F16:F47) -> 90 | G50: =MAX(G16:G47) -> 92 | H50: =MAX(H16:H47) -> 92 | I50: =MAX(I16:I47) -> 94 | J50: =MAX(J16:J47) -> 74 | K50: =MAX(K16:K47) -> 95 | L50: =MAX(L16:L47) -> 92 | ... O50: =MAX(O16:O47) -> 97
C51: Nilai Terendah | E51: =MIN(E16:E47) -> 78 | F51: =MIN(F16:F47) -> 67 | G51: =MIN(G16:G47) -> 68 | H51: =MIN(H16:H47) -> 53 | I51: =MIN(I16:I47) -> 46 | J51: =MIN(J16:J47) -> 44 | K51: =MIN(K16:K47) -> 70 | L51: =MIN(L16:L47) -> 63 | ... O51: =MIN(O16:O47) -> 83
C52: Rata - Rata | E52: =AVERAGE(E16:E47) -> 87.03125 | F52: =AVERAGE(F16:F47) -> 79.125 | G52: =AVERAGE(G16:G47) -> 80.8125 | H52: =AVERAGE(H16:H47) -> 69.5625 | I52: =AVERAGE(I16:I47) -> 73.84375 | J52: =AVERAGE(J16:J47) -> 59.125 | K52: =AVERAGE(K16:K47) -> 81.5625 | L52: =AVERAGE(L16:L47) -> 77.59375 | ... O52: =AVERAGE(O16:O47) -> 91.375
C54: Mengetahui , | L54: Welahan, Oktober 2018
C55: Kepala SMP Negeri 1 Welahan | E55: Orang Tua/Wali Murid | L55: Wali Kelas 8A
C58: Hadi Subeno, S.Pd. | E58: ……………………………………. | L58: AGUS TRI HARJONO, S.Pd
C59: NIP. 19620906 198302 1 003 | L59: NIP. 19640801 198803 1 006
A65: PEMERINTAH KABUPATEN JEPARA
A66: DINAS PENDIDIKAN PEMUDA DAN OLAH RAGA
A67: UNIT PELAKSANA TEKNIS
A68: SMP NEGERI 1 WELAHAN
A69: Jl. Welahan Km. 22 Jepara ' ( 0291 ) 4256295 *59464
A70: E-mail : smpn1welahan@yahoo.co.id website : www. smpn1welahan.com
A73: LAPORAN NILAI MURNI PENILAIAN TENGAH SEMESTER GASAL
A74: SMP NEGERI 1 WELAHAN
A75: TAHUN PELAJARAN 2018 / 2019
A77: NO | B77: NIS | C77: NAMA SISWA | D77: Kelas | E77: Mata Pelajaran | P77: Jumlah | Q77: Rata - rata | R77: Peringkat
E78: PAI | F78: PKn | G78: B.Ind | H78: B.Ing | I78: MTK | J78: IPA | K78: IPS | L78: S. Bud | M78: Penjas | N78: Prakarya | O78: B.JW
A79: KRITERIA KETUNTASAN MINIMAL (KKM) | E79: 75 | F79: 75 | G79: 75 | H79: 75 | I79: 75 | J79: 75 | K79: 75 | L79: 75 | M79: 75 | N79: 75 | O79: 75
A80: 1 | B80: 17187743 | C80: AHMAD PRAMBODO ADI SAPUTRO | D80: 8-B | E80: 48 | F80: 63 | G80: 60 | H80: 37 | I80: 43 | J80: 53 | K80: 47 | L80: 65 | M80: 67 | N80: 63 | O80: 60 | P80: =SUM(E80:O80) -> 606 | Q80: =AVERAGE(E80:O80) -> 55.090909 | R80: =RANK(P80,$P$80:$P$111) -> 29
A81: 2 | B81: 17187553 | C81: ALYA FEBI ANDRIANI | D81: 8-B | E81: 65 | F81: 77 | G81: 68 | H81: 62 | I81: 55 | J81: 60 | K81: 65 | L81: 55 | M81: 65 | N81: 68 | O81: 82 | P81: =SUM(E81:O81) -> 722 | Q81: =AVERAGE(E81:O81) -> 65.636364 | R81: =RANK(P81,$P$80:$P$111) -> 17
A82: 3 | B82: 17187525 | C82: ANNISA MEIDIANI | D82: 8-B | E82: 48 | F82: 62 | G82: 60 | H82: 53 | I82: 46 | J82: 40 | K82: 45 | L82: 58 | M82: 71 | N82: 45 | O82: 73 | P82: =SUM(E82:O82) -> 601 | Q82: =AVERAGE(E82:O82) -> 54.636364 | R82: =RANK(P82,$P$80:$P$111) -> 31
A83: 4 | B83: 17187713 | C83: ARYA FADLI NARENDRA | D83: 8-B | E83: 73 | F83: 70 | G83: 80 | H83: 48 | I83: 55 | J83: 70 | K83: 55 | L83: 68 | M83: 82 | N83: 81 | O83: 70 | P83: =SUM(E83:O83) -> 752 | Q83: =AVERAGE(E83:O83) -> 68.363636 | R83: =RANK(P83,$P$80:$P$111) -> 12
A84: 5 | B84: 17187682 | C84: AURIL ILHAM FAJAR | D84: 8-B | E84: 67 | F84: 63 | G84: 75 | H84: 53 | I84: 61 | J84: 65 | K84: 62 | L84: 65 | M84: 71 | N84: 76 | O84: 83 | P84: =SUM(E84:O84) -> 741 | Q84: =AVERAGE(E84:O84) -> 67.363636 | R84: =RANK(P84,$P$80:$P$111) -> 14
A85: 6 | B85: 17187683 | C85: DIAH IKA SETIYOWATI | D85: 8-B | E85: 63 | F85: 85 | G85: 73 | H85: 57 | I85: 49 | J85: 55 | K85: 65 | L85: 78 | M85: 81 | N85: 72 | O85: 77 | P85: =SUM(E85:O85) -> 755 | Q85: =AVERAGE(E85:O85) -> 68.636364 | R85: =RANK(P85,$P$80:$P$111) -> 10
A86: 7 | B86: 17187588 | C86: DIAJENG AYUNING TIAS | D86: 8-B | E86: 63 | F86: 80 | G86: 67 | H86: 47 | I86: 49 | J86: 53 | K86: 72 | L86: 72 | M86: 70 | N86: 64 | O86: 77 | P86: =SUM(E86:O86) -> 714 | Q86: =AVERAGE(E86:O86) -> 64.909091 | R86: =RANK(P86,$P$80:$P$111) -> 19
A87: 8 | B87: 17187686 | C87: DWI AYU SAFITRI | D87: 8-B | E87: 48 | F87: 60 | G87: 52 | H87: 48 | I87: 49 | J87: 45 | K87: 40 | L87: 53 | M87: 65 | N87: 60 | O87: 67 | P87: =SUM(E87:O87) -> 587 | Q87: =AVERAGE(E87:O87) -> 53.363636 | R87: =RANK(P87,$P$80:$P$111) -> 32
A88: 9 | B88: 17187594 | C88: ELISA AULIA SAFITRI | D88: 8-B | E88: 75 | F88: 82 | G88: 73 | H88: 67 | I88: 67 | J88: 55 | K88: 63 | L88: 70 | M88: 87 | N88: 70 | O88: 77 | P88: =SUM(E88:O88) -> 786 | Q88: =AVERAGE(E88:O88) -> 71.454545 | R88: =RANK(P88,$P$80:$P$111) -> 3
A89: 10 | B89: 17187596 | C89: ERLINA DWI FIRDAYANI | D89: 8-B | E89: 80 | F89: 79 | G89: 68 | H89: 60 | I89: 55 | J89: 48 | K89: 75 | L89: 90 | M89: 75 | N89: 75 | O89: 76 | P89: =SUM(E89:O89) -> 781 | Q89: =AVERAGE(E89:O89) -> 71 | R89: =RANK(P89,$P$80:$P$111) -> 4
A90: 11 | B90: 17187742 | C90: HANDIKA AYUHAN | D90: 8-B | E90: 73 | F90: 72 | G90: 67 | H90: 45 | I90: 43 | J90: 55 | K90: 63 | L90: 73 | M90: 82 | N90: 63 | O90: 77 | P90: =SUM(E90:O90) -> 713 | Q90: =AVERAGE(E90:O90) -> 64.818182 | R90: =RANK(P90,$P$80:$P$111) -> 20
A91: 12 | B91: 17187624 | C91: IKFINA AMALIA | D91: 8-B | E91: 73 | F91: 70 | G91: 63 | H91: 50 | I91: 49 | J91: 43 | K91: 75 | L91: 78 | M91: 69 | N91: 66 | O91: 77 | P91: =SUM(E91:O91) -> 713 | Q91: =AVERAGE(E91:O91) -> 64.818182 | R91: =RANK(P91,$P$80:$P$111) -> 20
... A111: 32 | B111: 17187677 | C111: ZAHRA MAYADA | D111: 8-B | E111: 77 | F111: 77 | G111: 72 | H111: 58 | I111: 43 | J111: 50 | K111: 82 | L111: 80 | M111: 81 | N111: 68 | O111: 83 | P111: =SUM(E111:O111) -> 771 | Q111: =AVERAGE(E111:O111) -> 70.090909 | R111: =RANK(P111,$P$80:$P$111) -> 7
C115: Nilai Tertinggi | E115: =MAX(E80:E111) -> 83 | F115: =MAX(F80:F111) -> 87 | G115: =MAX(G80:G111) -> 82 | H115: =MAX(H80:H111) -> 67 | I115: =MAX(I80:I111) -> 70 | J115: =MAX(J80:J111) -> 80 | K115: =MAX(K80:K111) -> 83 | L115: =MAX(L80:L111) -> 90 | ... O115: =MAX(O80:O111) -> 83
C116: Nilai Terendah | E116: =MIN(E80:E111) -> 48 | F116: =MIN(F80:F111) -> 52 | G116: =MIN(G80:G111) -> 52 | H116: =MIN(H80:H111) -> 37 | I116: =MIN(I80:I111) -> 40 | J116: =MIN(J80:J111) -> 40 | K116: =MIN(K80:K111) -> 40 | L116: =MIN(L80:L111) -> 53 | ... O116: =MIN(O80:O111) -> 60
C117: Rata - Rata | E117: =AVERAGE(E80:E111) -> 66.28125 | F117: =AVERAGE(F80:F111) -> 70.34375 | G117: =AVERAGE(G80:G111) -> 69.25 | H117: =AVERAGE(H80:H111) -> 51.375 | I117: =AVERAGE(I80:I111) -> 52.375 | J117: =AVERAGE(J80:J111) -> 55.5 | K117: =AVERAGE(K80:K111) -> 66.5 | L117: =AVERAGE(L80:L111) -> 71.96875 | ... O117: =AVERAGE(O80:O111) -> 73.65625
C119: Mengetahui , | L119: Welahan, Oktober 2018
C120: Kepala SMP Negeri 1 Welahan | E120: Orang Tua/Wali Murid | L120: Wali Kelas 8B
C123: Hadi Subeno, S.Pd. | E123: ……………………………………. | L123: ZULIFAH, S.Pd
C124: NIP. 19620906 198302 1 003 | L124: NIP. 19620404 198501 2 005
A131: PEMERINTAH KABUPATEN JEPARA
A132: DINAS PENDIDIKAN PEMUDA DAN OLAH RAGA
A133: UNIT PELAKSANA TEKNIS
A134: SMP NEGERI 1 WELAHAN
A135: Jl. Welahan Km. 22 Jepara ' ( 0291 ) 4256295 *59464
A136: E-mail : smpn1welahan@yahoo.co.id website : www. smpn1welahan.com
A139: LAPORAN NILAI MURNI PENILAIAN TENGAH SEMESTER GASAL
A140: SMP NEGERI 1 WELAHAN
A141: TAHUN PELAJARAN 2018 / 2019
A143: NO | B143: NIS | C143: NAMA SISWA | D143: Kelas | E143: Mata Pelajaran | P143: Jumlah | Q143: Rata - rata | R143: Peringkat
E144: PAI | F144: PKn | G144: B.Ind | H144: B.Ing | I144: MTK | J144: IPA | K144: IPS | L144: S. Bud | M144: Penjas | N144: Prakarya | O144: B.JW
A145: KRITERIA KETUNTASAN MINIMAL (KKM) | E145: 75 | F145: 75 | G145: 75 | H145: 75 | I145: 75 | J145: 75 | K145: 75 | L145: 75 | M145: 75 | N145: 75 | O145: 75
A146: 1 | B146: 17187647 | C146: AHMAD FADLI | D146: 8-C | E146: 70 | F146: 87 | G146: 80 | H146: 53 | I146: 49 | J146: 63 | K146: 65 | L146: 77 | M146: 83 | N146: 75 | O146: 70 | P146: =SUM(E146:O146) -> 772 | Q146: =AVERAGE(E146:O146) -> 70.181818 | R146: =RANK(P146,$P$146:$P$177) -> 9
A147: 2 | B147: 17187711 | C147: AHNA ADITIO SAPUTRO | D147: 8-C | E147: 35 | F147: 52 | G147: 65 | H147: 40 | I147: 37 | J147: 47 | K147: 43 | L147: 42 | M147: 65 | N147: 48 | O147: 60 | P147: =SUM(E147:O147) -> 534 | Q147: =AVERAGE(E147:O147) -> 48.545455 | R147: =RANK(P147,$P$146:$P$177) -> 32
A148: 3 | B148: 17187585 | C148: AZFA HUWAIZA FATHANNAIL | D148: 8-C | E148: 65 | F148: 63 | G148: 77 | H148: 45 | I148: 52 | J148: 48 | K148: 58 | L148: 65 | M148: 75 | N148: 68 | O148: 70 | P148: =SUM(E148:O148) -> 686 | Q148: =AVERAGE(E148:O148) -> 62.363636 | R148: =RANK(P148,$P$146:$P$177) -> 21
A149: 4 | B149: 17187586 | C149: CANDRA DIKY PRATAMA | D149: 8-C | E149: 77 | F149: 73 | G149: 73 | H149: 70 | I149: 58 | J149: 73 | K149: 70 | L149: 55 | M149: 78 | N149: 71 | O149: 76 | P149: =SUM(E149:O149) -> 774 | Q149: =AVERAGE(E149:O149) -> 70.363636 | R149: =RANK(P149,$P$146:$P$177) -> 8
A150: 5 | B150: 17187616 | C150: DANIS ADINATA RAISSA | D150: 8-C | E150: 65 | F150: 63 | G150: 80 | H150: 48 | I150: 49 | J150: 60 | K150: 67 | L150: 68 | M150: 77 | N150: 66 | O150: 68 | P150: =SUM(E150:O150) -> 711 | Q150: =AVERAGE(E150:O150) -> 64.636364 | R150: =RANK(P150,$P$146:$P$177) -> 20
A151: 6 | B151: 17187587 | C151: DEDE RAKA BOBY SATRIA | D151: 8-C | E151: 62 | F151: 73 | G151: 78 | H151: 58 | I151: 55 | J151: 60 | K151: 75 | L151: 62 | M151: 73 | N151: 66 | O151: 67 | P151: =SUM(E151:O151) -> 729 | Q151: =AVERAGE(E151:O151) -> 66.272727 | R151: =RANK(P151,$P$146:$P$177) -> 17
A152: 7 | B152: 17187715 | C152: DELGA ARLINDA PUTRI | D152: 8-C | E152: 57 | F152: 59 | G152: 78 | H152: 55 | I152: 49 | J152: 62 | K152: 53 | L152: 57 | M152: 65 | N152: 56 | O152: 67 | P152: =SUM(E152:O152) -> 658 | Q152: =AVERAGE(E152:O152) -> 59.818182 | R152: =RANK(P152,$P$146:$P$177) -> 27
A153: 8 | B153: 17187557 | C153: DIANA MUSTIKA | D153: 8-C | E153: 82 | F153: 69 | G153: 75 | H153: 58 | I153: 52 | J153: 63 | K153: 55 | L153: 53 | M153: 65 | N153: 71 | O153: 72 | P153: =SUM(E153:O153) -> 715 | Q153: =AVERAGE(E153:O153) -> 65 | R153: =RANK(P153,$P$146:$P$177) -> 19
A154: 9 | B154: 17187527 | C154: DINA AULIA FERNANDA | D154: 8-C | E154: 83 | F154: 92 | G154: 77 | H154: 70 | I154: 67 | J154: 63 | K154: 83 | L154: 82 | M154: 86 | N154: 92 | O154: 83 | P154: =SUM(E154:O154) -> 878 | Q154: =AVERAGE(E154:O154) -> 79.818182 | R154: =RANK(P154,$P$146:$P$177) -> 1
A155: 10 | B155: 17187717 | C155: DYAZ ARYOSENO | D155: 8-C | E155: 72 | F155: 65 | G155: 75 | H155: 55 | I155: 49 | J155: 48 | K155: 52 | L155: 60 | M155: 74 | N155: 63 | O155: 73 | P155: =SUM(E155:O155) -> 686 | Q155: =AVERAGE(E155:O155) -> 62.363636 | R155: =RANK(P155,$P$146:$P$177) -> 21
A156: 11 | B156: 17187718 | C156: ELIA NUR JANAH | D156: 8-C | E156: 58 | F156: 67 | G156: 70 | H156: 37 | I156: 52 | J156: 50 | K156: 43 | L156: 45 | M156: 64 | N156: 60 | O156: 67 | P156: =SUM(E156:O156) -> 613 | Q156: =AVERAGE(E156:O156) -> 55.727273 | R156: =RANK(P156,$P$146:$P$177) -> 30
A157: 12 | B157: 17187529 | C157: FANI RAHMA PUTRI | D157: 8-C | E157: 70 | F157: 55 | G157: 77 | H157: 48 | I157: 52 | J157: 50 | K157: 53 | L157: 62 | M157: 71 | N157: 58 | O157: 67 | P157: =SUM(E157:O157) -> 663 | Q157: =AVERAGE(E157:O157) -> 60.272727 | R157: =RANK(P157,$P$146:$P$177) -> 26
... A177: 32 | B177: 17187613 | C177: ZALFAUL JANNAH | D177: 8-C | E177: 77 | F177: 77 | G177: 80 | H177: 80 | I177: 70 | J177: 75 | K177: 75 | L177: 67 | M177: 78 | N177: 86 | O177: 76 | P177: =SUM(E177:O177) -> 841 | Q177: =AVERAGE(E177:O177) -> 76.454545 | R177: =RANK(P177,$P$146:$P$177) -> 3
C181: Nilai Tertinggi | E181: =MAX(E146:E177) -> 85 | F181: =MAX(F146:F177) -> 92 | G181: =MAX(G146:G177) -> 85 | H181: =MAX(H146:H177) -> 83 | I181: =MAX(I146:I177) -> 73 | J181: =MAX(J146:J177) -> 75 | K181: =MAX(K146:K177) -> 88 | L181: =MAX(L146:L177) -> 82 | ... O181: =MAX(O146:O177) -> 90
C182: Nilai Terendah | E182: =MIN(E146:E177) -> 35 | F182: =MIN(F146:F177) -> 52 | G182: =MIN(G146:G177) -> 65 | H182: =MIN(H146:H177) -> 37 | I182: =MIN(I146:I177) -> 37 | J182: =MIN(J146:J177) -> 47 | K182: =MIN(K146:K177) -> 43 | L182: =MIN(L146:L177) -> 42 | ... O182: =MIN(O146:O177) -> 60
C183: Rata - Rata | E183: =AVERAGE(E146:E177) -> 67.5625 | F183: =AVERAGE(F146:F177) -> 71.5 | G183: =AVERAGE(G146:G177) -> 76.25 | H183: =AVERAGE(H146:H177) -> 56.15625 | I183: =AVERAGE(I146:I177) -> 52.375 | J183: =AVERAGE(J146:J177) -> 59.5 | K183: =AVERAGE(K146:K177) -> 64.90625 | L183: =AVERAGE(L146:L177) -> 62.46875 | ... O183: =AVERAGE(O146:O177) -> 71.59375
C185: Mengetahui , | L185: Welahan, Oktober 2018
C186: Kepala SMP Negeri 1 Welahan | E186: Orang Tua/Wali Murid | L186: Wali Kelas 8C
C189: Hadi Subeno, S.Pd. | E189: ……………………………………. | L189: DEBTA WINDASARI, S.Pd
C190: NIP. 19620906 198302 1 003 | L190: NIP. 19840824 201101 2 010
A197: PEMERINTAH KABUPATEN JEPARA
A198: DINAS PENDIDIKAN PEMUDA DAN OLAH RAGA
A199: UNIT PELAKSANA TEKNIS
A200: SMP NEGERI 1 WELAHAN
...

Sheet perkelas 9
A1: PEMERINTAH KABUPATEN JEPARA
A2: DINAS PENDIDIKAN PEMUDA DAN OLAH RAGA
A3: UNIT PELAKSANA TEKNIS
A4: SMP NEGERI 1 WELAHAN
A5: Jl. Welahan Km. 22 Jepara ' ( 0291 ) 4256295 *59464
A6: E-mail : smpn1welahan@yahoo.co.id website : www. smpn1welahan.com
A9: LAPORAN NILAI MURNI PENILAIAN TENGAH SEMESTER GASAL
A10: SMP NEGERI 1 WELAHAN
A11: TAHUN PELAJARAN 2018 / 2019
A13: NO | B13: NIS | C13: NAMA SISWA | D13: Kelas | E13: Mata Pelajaran | P13: Jumlah | Q13: Rata - rata | R13: Peringkat
E14: PAI | F14: PKn | G14: B.Ind | H14: B.Ing | I14: MTK | J14: IPA | K14: IPS | L14: S. Bud | M14: Penjas | N14: Prakarya | O14: B.JW
A15: KRITERIA KETUNTASAN MINIMAL (KKM) | E15: 75 | F15: 75 | G15: 75 | H15: 75 | I15: 75 | J15: 75 | K15: 75 | L15: 75 | M15: 75 | N15: 75 | O15: 75
A16: 1 | B16: 7451 | C16: ADINDA NAJMA ZUHRAHIDA | D16: 9-A | E16: 80 | F16: 95 | G16: 73 | H16: 77 | I16: 70 | J16: 69 | K16: 85 | L16: 92 | M16: 70 | N16: 90 | O16: 76 | P16: =SUM(E16:O16) -> 877 | Q16: =AVERAGE(E16:O16) -> 79.727273 | R16: =RANK(P16,$P$16:$P$47) -> 15
A17: 2 | B17: 7487 | C17: AHMAD NADHIF NIHALY | D17: 9-A | E17: 82 | F17: 92 | G17: 73 | H17: 82 | I17: 86 | J17: 79 | K17: 78 | L17: 98 | M17: 76 | N17: 85 | O17: 82 | P17: =SUM(E17:O17) -> 913 | Q17: =AVERAGE(E17:O17) -> 83 | R17: =RANK(P17,$P$16:$P$47) -> 10
A18: 3 | B18: 7385 | C18: AHMAD NURUL FANNY | D18: 9-A | E18: 80 | F18: 75 | G18: 78 | H18: 68 | I18: 70 | J18: 85 | K18: 77 | L18: 88 | M18: 82 | N18: 88 | O18: 83 | P18: =SUM(E18:O18) -> 874 | Q18: =AVERAGE(E18:O18) -> 79.454545 | R18: =RANK(P18,$P$16:$P$47) -> 16
A19: 4 | B19: 7419 | C19: ANANDA PUTRI AMALIA | D19: 9-A | E19: 87 | F19: 87 | G19: 87 | H19: 93 | I19: 83 | J19: 72 | K19: 92 | L19: 85 | M19: 71 | N19: 97 | O19: 82 | P19: =SUM(E19:O19) -> 936 | Q19: =AVERAGE(E19:O19) -> 85.090909 | R19: =RANK(P19,$P$16:$P$47) -> 3
A20: 5 | B20: 7356 | C20: ARUM LAROSATI | D20: 9-A | E20: 87 | F20: 87 | G20: 83 | H20: 87 | I20: 92 | J20: 87 | K20: 92 | L20: 93 | M20: 71 | N20: 97 | O20: 88 | P20: =SUM(E20:O20) -> 964 | Q20: =AVERAGE(E20:O20) -> 87.636364 | R20: =RANK(P20,$P$16:$P$47) -> 1
A21: 6 | B21: 7490 | C21: BINTUN SANIYATUS SALAMAH | D21: 9-A | E21: 78 | F21: 80 | G21: 75 | H21: 78 | I21: 70 | J21: 72 | K21: 78 | L21: 92 | M21: 63 | N21: 95 | O21: 87 | P21: =SUM(E21:O21) -> 868 | Q21: =AVERAGE(E21:O21) -> 78.909091 | R21: =RANK(P21,$P$16:$P$47) -> 19
A22: 7 | B22: 7363 | C22: DHANISKA ELFARAZ NADIA | D22: 9-A | E22: 85 | F22: 85 | G22: 72 | H22: 82 | I22: 66 | J22: 77 | K22: 75 | L22: 82 | M22: 76 | N22: 92 | O22: 76 | P22: =SUM(E22:O22) -> 868 | Q22: =AVERAGE(E22:O22) -> 78.909091 | R22: =RANK(P22,$P$16:$P$47) -> 19
A23: 8 | B23: 7457 | C23: ELLA FAUSTINA SARI | D23: 9-A | E23: 72 | F23: 79 | G23: 67 | H23: 80 | I23: 64 | J23: 79 | K23: 85 | L23: 85 | M23: 78 | N23: 88 | O23: 78 | P23: =SUM(E23:O23) -> 855 | Q23: =AVERAGE(E23:O23) -> 77.727273 | R23: =RANK(P23,$P$16:$P$47) -> 22
A24: 9 | B24: 7493 | C24: FIRDA RIANA HIDAYATUSSANI | D24: 9-A | E24: 75 | F24: 79 | G24: 70 | H24: 67 | I24: 76 | J24: 72 | K24: 71 | L24: 92 | M24: 56 | N24: 78 | O24: 76 | P24: =SUM(E24:O24) -> 812 | Q24: =AVERAGE(E24:O24) -> 73.818182 | R24: =RANK(P24,$P$16:$P$47) -> 29
A25: 10 | B25: 7494 | C25: HANIF AKMAL MAULANA | D25: 9-A | E25: 72 | F25: 80 | G25: 67 | H25: 63 | I25: 66 | J25: 75 | K25: 78 | L25: 68 | M25: 63 | N25: 72 | O25: 83 | P25: =SUM(E25:O25) -> 787 | Q25: =AVERAGE(E25:O25) -> 71.545455 | R25: =RANK(P25,$P$16:$P$47) -> 32
A26: 11 | B26: 7398 | C26: IKA NUR FITRIYANI | D26: 9-A | E26: 92 | F26: 93 | G26: 87 | H26: 93 | I26: 79 | J26: 77 | K26: 80 | L26: 97 | M26: 67 | N26: 95 | O26: 83 | P26: =SUM(E26:O26) -> 943 | Q26: =AVERAGE(E26:O26) -> 85.727273 | R26: =RANK(P26,$P$16:$P$47) -> 2
A27: 12 | B27: 7495 | C27: IKHLASUL AMAL | D27: 9-A | E27: 75 | F27: 92 | G27: 77 | H27: 88 | I27: 86 | J27: 77 | K27: 80 | L27: 95 | M27: 77 | N27: 90 | O27: 82 | P27: =SUM(E27:O27) -> 919 | Q27: =AVERAGE(E27:O27) -> 83.545455 | R27: =RANK(P27,$P$16:$P$47) -> 9
... A47: 32 | B47: 7315 | C47: ZUMI'ATUL AFIFAH | D47: 9-A | E47: 82 | F47: 83 | G47: 78 | H47: 72 | I47: 68 | J47: 77 | K47: 78 | L47: 90 | M47: 67 | N47: 92 | O47: 85 | P47: =SUM(E47:O47) -> 872 | Q47: =AVERAGE(E47:O47) -> 79.272727 | R47: =RANK(P47,$P$16:$P$47) -> 18
C50: Nilai Tertinggi | E50: =MAX(E16:E45) -> 92 | F50: =MAX(F16:F45) -> 95 | G50: =MAX(G16:G45) -> 87 | H50: =MAX(H16:H45) -> 93 | I50: =MAX(I16:I45) -> 92 | J50: =MAX(J16:J45) -> 87 | K50: =MAX(K16:K45) -> 92 | L50: =MAX(L16:L45) -> 98 | ... O50: =MAX(O16:O45) -> 90
C51: Nilai Terendah | E51: =MIN(E16:E45) -> 70 | F51: =MIN(F16:F45) -> 72 | G51: =MIN(G16:G45) -> 60 | H51: =MIN(H16:H45) -> 55 | I51: =MIN(I16:I45) -> 54 | J51: =MIN(J16:J45) -> 64 | K51: =MIN(K16:K45) -> 60 | L51: =MIN(L16:L45) -> 68 | ... O51: =MIN(O16:O45) -> 76
C52: Rata - Rata | E52: =AVERAGE(E16:E45) -> 81.6 | F52: =AVERAGE(F16:F45) -> 84.066667 | G52: =AVERAGE(G16:G45) -> 72.766667 | H52: =AVERAGE(H16:H45) -> 76.233333 | I52: =AVERAGE(I16:I45) -> 74.933333 | J52: =AVERAGE(J16:J45) -> 74.6 | K52: =AVERAGE(K16:K45) -> 78.166667 | L52: =AVERAGE(L16:L45) -> 89.366667 | ... O52: =AVERAGE(O16:O45) -> 83.566667
C54: Mengetahui , | L54: Welahan, Oktober 2018
C55: Kepala SMP Negeri 1 Welahan | E55: Orang Tua/Wali Murid | L55: Wali Kelas 9A
C58: Hadi Subeno, S.Pd. | E58: ……………………………………. | L58: Dra. YANI WULANDARI
C59: NIP. 19620906 198302 1 003 | L59: NIP. 19651125 199103 2 006
A64: PEMERINTAH KABUPATEN JEPARA
A65: DINAS PENDIDIKAN PEMUDA DAN OLAH RAGA
A66: UNIT PELAKSANA TEKNIS
A67: SMP NEGERI 1 WELAHAN
A68: Jl. Welahan Km. 22 Jepara ' ( 0291 ) 4256295 *59464
A69: E-mail : smpn1welahan@yahoo.co.id website : www. smpn1welahan.com
A72: LAPORAN NILAI MURNI PENILAIAN TENGAH SEMESTER GASAL
A73: SMP NEGERI 1 WELAHAN
A74: TAHUN PELAJARAN 2018 / 2019
A76: NO | B76: NIS | C76: NAMA SISWA | D76: Kelas | E76: Mata Pelajaran | P76: Jumlah | Q76: Rata - rata | R76: Peringkat
E77: PAI | F77: PKn | G77: B.Ind | H77: B.Ing | I77: MTK | J77: IPA | K77: IPS | L77: S. Bud | M77: Penjas | N77: Prakarya | O77: B.JW
A78: KRITERIA KETUNTASAN MINIMAL (KKM) | E78: 75 | F78: 75 | G78: 75 | H78: 75 | I78: 75 | J78: 75 | K78: 75 | L78: 75 | M78: 75 | N78: 75 | O78: 75
A79: 1 | B79: 7316 | C79: ADHELIA PUTRI FEBRIANTI | D79: 9-B | E79: 78 | F79: 70 | G79: 68 | H79: 77 | I79: 72 | J79: 67 | K79: 80 | L79: 80 | M79: 66 | N79: 75 | O79: 83 | P79: =SUM(E79:O79) -> 816 | Q79: =AVERAGE(E79:O79) -> 74.181818 | R79: =RANK(P79,$P$79:$P$112) -> 4
A80: 2 | B80: 7317 | C80: AHMAD FAOZI | D80: 9-B | E80: 60 | F80: 62 | G80: 35 | H80: 38 | I80: 56 | J80: 40 | K80: 37 | L80: 57 | M80: 33 | N80: 58 | O80: 67 | P80: =SUM(E80:O80) -> 543 | Q80: =AVERAGE(E80:O80) -> 49.363636 | R80: =RANK(P80,$P$79:$P$112) -> 34
A81: 3 | B81: 7318 | C81: AHMAD IRVAN | D81: 9-B | E81: 58 | F81: 63 | G81: 55 | H81: 37 | I81: 54 | J81: 42 | K81: 40 | L81: 75 | M81: 56 | N81: 77 | O81: 70 | P81: =SUM(E81:O81) -> 627 | Q81: =AVERAGE(E81:O81) -> 57 | R81: =RANK(P81,$P$79:$P$112) -> 31
A82: 4 | B82: 7452 | C82: AHMAD MUDHOFAR | D82: 9-B | E82: 60 | F82: 59 | G82: 53 | H82: 35 | I82: 56 | J82: 35 | K82: 47 | L82: 78 | M82: 53 | N82: 60 | O82: 67 | P82: =SUM(E82:O82) -> 603 | Q82: =AVERAGE(E82:O82) -> 54.818182 | R82: =RANK(P82,$P$79:$P$112) -> 33
A83: 5 | B83: 7420 | C83: ANISA OKTAVIANA | D83: 9-B | E83: 63 | F83: 63 | G83: 70 | H83: 45 | I83: 64 | J83: 52 | K83: 58 | L83: 82 | M83: 53 | N83: 93 | O83: 76 | P83: =SUM(E83:O83) -> 719 | Q83: =AVERAGE(E83:O83) -> 65.363636 | R83: =RANK(P83,$P$79:$P$112) -> 15
A84: 6 | B84: 7454 | C84: ANNISA LAILA UNSA | D84: 9-B | E84: 67 | F84: 72 | G84: 62 | H84: 63 | I84: 60 | J84: 55 | K84: 67 | L84: 77 | M84: 70 | N84: 82 | O84: 70 | P84: =SUM(E84:O84) -> 745 | Q84: =AVERAGE(E84:O84) -> 67.727273 | R84: =RANK(P84,$P$79:$P$112) -> 9
A85: 7 | B85: 7387 | C85: ATMIM NURONA | D85: 9-B | E85: 58 | F85: 65 | G85: 62 | H85: 47 | I85: 62 | J85: 44 | K85: 52 | L85: 77 | M85: 57 | N85: 67 | O85: 76 | P85: =SUM(E85:O85) -> 667 | Q85: =AVERAGE(E85:O85) -> 60.636364 | R85: =RANK(P85,$P$79:$P$112) -> 27
A86: 8 | B86: 7489 | C86: BAGUS DWI PUTRA ATMAJA | D86: 9-B | E86: 82 | F86: 72 | G86: 63 | H86: 72 | I86: 72 | J86: 70 | K86: 80 | L86: 88 | M86: 70 | N86: 87 | O86: 77 | P86: =SUM(E86:O86) -> 833 | Q86: =AVERAGE(E86:O86) -> 75.727273 | R86: =RANK(P86,$P$79:$P$112) -> 1
A87: 9 | B87: 7290 | C87: BRAM ARDIANTO | D87: 9-B | E87: 63 | F87: 63 | G87: 57 | H87: 55 | I87: 70 | J87: 69 | K87: 73 | L87: 87 | M87: 68 | N87: 85 | O87: 76 | P87: =SUM(E87:O87) -> 766 | Q87: =AVERAGE(E87:O87) -> 69.636364 | R87: =RANK(P87,$P$79:$P$112) -> 7
A88: 10 | B88: 7390 | C88: CINDY DWI LESTARI | D88: 9-B | E88: 70 | F88: 67 | G88: 70 | H88: 73 | I88: 64 | J88: 74 | K88: 77 | L88: 95 | M88: 66 | N88: 93 | O88: 77 | P88: =SUM(E88:O88) -> 826 | Q88: =AVERAGE(E88:O88) -> 75.090909 | R88: =RANK(P88,$P$79:$P$112) -> 2
A89: 11 | B89: 7392 | C89: DIAS SYIFA ARYANI | D89: 9-B | E89: 72 | F89: 73 | G89: 77 | H89: 57 | I89: 66 | J89: 75 | K89: 73 | L89: 78 | M89: 61 | N89: 93 | O89: 85 | P89: =SUM(E89:O89) -> 810 | Q89: =AVERAGE(E89:O89) -> 73.636364 | R89: =RANK(P89,$P$79:$P$112) -> 5
A90: 12 | B90: 7324 | C90: DIMAS KURNIA FAJAR | D90: 9-B | E90: 57 | F90: 60 | G90: 58 | H90: 37 | I90: 54 | J90: 49 | K90: 57 | L90: 65 | M90: 45 | N90: 70 | O90: 67 | P90: =SUM(E90:O90) -> 619 | Q90: =AVERAGE(E90:O90) -> 56.272727 | R90: =RANK(P90,$P$79:$P$112) -> 32
... A108: 30 | B108: 7476 | C108: REFINE NUR ANGELA | D108: 9-B | E108: 72 | F108: 70 | G108: 52 | H108: 72 | I108: 56 | J108: 57 | K108: 70 | L108: 77 | M108: 50 | N108: 78 | O108: 77 | P108: =SUM(E108:O108) -> 731 | Q108: =AVERAGE(E108:O108) -> 66.454545 | R108: =RANK(P108,$P$79:$P$112) -> 13
A109: 31 | B109: 7518 | C109: SHAFARIA MAGHFIROTI | D109: 9-B | E109: 65 | F109: 73 | G109: 73 | H109: 63 | I109: 56 | J109: 65 | K109: 37 | L109: 87 | M109: 62 | N109: 83 | O109: 80 | P109: =SUM(E109:O109) -> 744 | Q109: =AVERAGE(E109:O109) -> 67.636364 | R109: =RANK(P109,$P$79:$P$112) -> 10
A110: 32 | B110: 7447 | C110: SUKMA AYU WIDIA NINGRUM | D110: 9-B | E110: 67 | F110: 69 | G110: 65 | H110: 53 | I110: 56 | J110: 57 | K110: 63 | L110: 77 | M110: 50 | N110: 90 | O110: 73 | P110: =SUM(E110:O110) -> 720 | Q110: =AVERAGE(E110:O110) -> 65.454545 | R110: =RANK(P110,$P$79:$P$112) -> 14
A111: 32 | B111: 7480 | C111: TAMARA DWI JAYANTI | D111: 9-B | E111: 63 | F111: 62 | G111: 52 | H111: 53 | I111: 56 | J111: 44 | K111: 53 | L111: 70 | M111: 46 | N111: 85 | O111: 68 | P111: =SUM(E111:O111) -> 652 | Q111: =AVERAGE(E111:O111) -> 59.272727 | R111: =RANK(P111,$P$79:$P$112) -> 29
A112: 32 | B112: 7483 | C112: VIQ ROBI AHMAD WARDANI | D112: 9-B | E112: 70 | F112: 69 | G112: 72 | H112: 50 | I112: 62 | J112: 60 | K112: 73 | L112: 77 | M112: 55 | N112: 85 | O112: 70 | P112: =SUM(E112:O112) -> 743 | Q112: =AVERAGE(E112:O112) -> 67.545455 | R112: =RANK(P112,$P$79:$P$112) -> 12
C115: Nilai Tertinggi | E115: =MAX(E79:E112) -> 82 | F115: =MAX(F79:F112) -> 80 | G115: =MAX(G79:G112) -> 77 | H115: =MAX(H79:H112) -> 77 | I115: =MAX(I79:I112) -> 78 | J115: =MAX(J79:J112) -> 75 | K115: =MAX(K79:K112) -> 85 | L115: =MAX(L79:L112) -> 95 | ... O115: =MAX(O79:O112) -> 85
C116: Nilai Terendah | E116: =MIN(E79:E112) -> 57 | F116: =MIN(F79:F112) -> 59 | G116: =MIN(G79:G112) -> 35 | H116: =MIN(H79:H112) -> 35 | I116: =MIN(I79:I112) -> 50 | J116: =MIN(J79:J112) -> 35 | K116: =MIN(K79:K112) -> 37 | L116: =MIN(L79:L112) -> 57 | ... O116: =MIN(O79:O112) -> 65
C117: Rata - Rata | E117: =AVERAGE(E79:E112) -> 66.852941 | F117: =AVERAGE(F79:F112) -> 67.5 | G117: =AVERAGE(G79:G112) -> 59.882353 | H117: =AVERAGE(H79:H112) -> 54.382353 | I117: =AVERAGE(I79:I112) -> 59.588235 | J117: =AVERAGE(J79:J112) -> 56.441176 | K117: =AVERAGE(K79:K112) -> 60.882353 | L117: =AVERAGE(L79:L112) -> 76.264706 | ... O117: =AVERAGE(O79:O112) -> 73.911765
C119: Mengetahui , | L119: Welahan, Oktober 2018
C120: Kepala SMP Negeri 1 Welahan | E120: Orang Tua/Wali Murid | L120: Wali Kelas 9B
C123: Hadi Subeno, S.Pd. | E123: ……………………………………. | L123: KOMSIYAH, S.Pd
C124: NIP. 19620906 198302 1 003 | L124: NIP. 19601008 198403 2 006
A129: PEMERINTAH KABUPATEN JEPARA
A130: DINAS PENDIDIKAN PEMUDA DAN OLAH RAGA
A131: UNIT PELAKSANA TEKNIS
A132: SMP NEGERI 1 WELAHAN
A133: Jl. Welahan Km. 22 Jepara ' ( 0291 ) 4256295 *59464
A134: E-mail : smpn1welahan@yahoo.co.id website : www. smpn1welahan.com
A137: LAPORAN NILAI MURNI PENILAIAN TENGAH SEMESTER GASAL
A138: SMP NEGERI 1 WELAHAN
A139: TAHUN PELAJARAN 2018 / 2019
A141: NO | B141: NIS | C141: NAMA SISWA | D141: Kelas | E141: Mata Pelajaran | P141: Jumlah | Q141: Rata - rata | R141: Peringkat
E142: PAI | F142: PKn | G142: B.Ind | H142: B.Ing | I142: MTK | J142: IPA | K142: IPS | L142: S. Bud | M142: Penjas | N142: Prakarya | O142: B.JW
A143: KRITERIA KETUNTASAN MINIMAL (KKM) | E143: 75 | F143: 75 | G143: 75 | H143: 75 | I143: 75 | J143: 75 | K143: 75 | L143: 75 | M143: 75 | N143: 75 | O143: 75
A144: 1 | B144: 7485 | C144: AGUSTINA PUTRI NURHAYATI | D144: 9-C | E144: 68 | F144: 72 | G144: 77 | H144: 68 | I144: 52 | J144: 55 | K144: 88 | L144: 90 | M144: 63 | N144: 82 | O144: 82 | P144: =SUM(E144:O144) -> 797 | Q144: =AVERAGE(E144:O144) -> 72.454545 | R144: =RANK(P144,$P$144:$P$177) -> 2
A145: 2 | B145: 7286 | C145: AMIRUL LUKMAN | D145: 9-C | E145: 55 | F145: 69 | G145: 38 | H145: 33 | I145: 40 | J145: 42 | K145: 72 | L145: 72 | M145: 55 | N145: 60 | O145: 65 | P145: =SUM(E145:O145) -> 601 | Q145: =AVERAGE(E145:O145) -> 54.636364 | R145: =RANK(P145,$P$144:$P$177) -> 33
A146: 3 | B146: 7354 | C146: ANGGRAENY BELLYA PUTRI MULYANI | D146: 9-C | E146: 77 | F146: 75 | G146: 75 | H146: 53 | I146: 58 | J146: 60 | K146: 82 | L146: 85 | M146: 77 | N146: 87 | O146: 73 | P146: =SUM(E146:O146) -> 802 | Q146: =AVERAGE(E146:O146) -> 72.909091 | R146: =RANK(P146,$P$144:$P$177) -> 1
A147: 4 | B147: 7488 | C147: ANISA VELLA FARDA | D147: 9-C | E147: 73 | F147: 63 | G147: 62 | H147: 45 | I147: 46 | J147: 57 | K147: 70 | L147: 82 | M147: 53 | N147: 75 | O147: 77 | P147: =SUM(E147:O147) -> 703 | Q147: =AVERAGE(E147:O147) -> 63.909091 | R147: =RANK(P147,$P$144:$P$177) -> 15
A148: 5 | B148: 7355 | C148: ARGA EKA PRASITIA WAKID | D148: 9-C | E148: 55 | F148: 63 | G148: 53 | H148: 42 | I148: 43 | J148: 50 | K148: 63 | L148: 70 | M148: 56 | N148: 75 | O148: 67 | P148: =SUM(E148:O148) -> 637 | Q148: =AVERAGE(E148:O148) -> 57.909091 | R148: =RANK(P148,$P$144:$P$177) -> 27
A149: 6 | B149: 7288 | C149: BAGUS AJI PAMBUDI | D149: 9-C | E149: 60 | F149: 63 | G149: 57 | H149: 40 | I149: 43 | J149: 47 | K149: 60 | L149: 57 | M149: 46 | N149: 70 | O149: 67 | P149: =SUM(E149:O149) -> 610 | Q149: =AVERAGE(E149:O149) -> 55.454545 | R149: =RANK(P149,$P$144:$P$177) -> 32
A150: 7 | B150: 7323 | C150: DAVID SETIAWAN | D150: 9-C | E150: 62 | F150: 72 | G150: 55 | H150: 33 | I150: 31 | J150: 52 | K150: 68 | L150: 63 | M150: 48 | N150: 72 | O150: 76 | P150: =SUM(E150:O150) -> 632 | Q150: =AVERAGE(E150:O150) -> 57.454545 | R150: =RANK(P150,$P$144:$P$177) -> 30
A151: 8 | B151: 7361 | C151: DEVINTA AMELIANA | D151: 9-C | E151: 55 | F151: 67 | G151: 68 | H151: 43 | I151: 49 | J151: 67 | K151: 70 | L151: 80 | M151: 48 | N151: 70 | O151: 76 | P151: =SUM(E151:O151) -> 693 | Q151: =AVERAGE(E151:O151) -> 63 | R151: =RANK(P151,$P$144:$P$177) -> 18
A152: 9 | B152: 7492 | C152: DINA MA'RIFATUL AULIA | D152: 9-C | E152: 73 | F152: 69 | G152: 62 | H152: 38 | I152: 37 | J152: 54 | K152: 73 | L152: 80 | M152: 50 | N152: 73 | O152: 72 | P152: =SUM(E152:O152) -> 681 | Q152: =AVERAGE(E152:O152) -> 61.909091 | R152: =RANK(P152,$P$144:$P$177) -> 19
A153: 10 | B153: 7294 | C153: ESTI | D153: 9-C | E153: 62 | F153: 68 | G153: 52 | H153: 47 | I153: 34 | J153: 45 | K153: 68 | L153: 73 | M153: 55 | N153: 88 | O153: 76 | P153: =SUM(E153:O153) -> 668 | Q153: =AVERAGE(E153:O153) -> 60.727273 | R153: =RANK(P153,$P$144:$P$177) -> 21
A154: 11 | B154: 7296 | C154: FARAH NAILUL RIF'AH | D154: 9-C | E154: 65 | F154: 70 | G154: 70 | H154: 55 | I154: 46 | J154: 44 | K154: 68 | L154: 78 | M154: 53 | N154: 75 | O154: 80 | P154: =SUM(E154:O154) -> 704 | Q154: =AVERAGE(E154:O154) -> 64 | R154: =RANK(P154,$P$144:$P$177) -> 14
A155: 12 | B155: 7425 | C155: FEBRILYANA PRADANISWARA NINDIA ADISTIANTI | D155: 9-C | E155: 68 | F155: 70 | G155: 67 | H155: 57 | I155: 52 | J155: 50 | K155: 72 | L155: 80 | M155: 60 | N155: 65 | O155: 76 | P155: =SUM(E155:O155) -> 717 | Q155: =AVERAGE(E155:O155) -> 65.181818 | R155: =RANK(P155,$P$144:$P$177) -> 11
... A177: 34 | B177: 7516 | C177: YUSRIL ISYA GHONIF | D177: 9-C | E177: 63 | F177: 73 | G177: 68 | H177: 53 | I177: 40 | J177: 49 | K177: 78 | L177: 87 | M177: 45 | N177: 73 | O177: 76 | P177: =SUM(E177:O177) -> 705 | Q177: =AVERAGE(E177:O177) -> 64.090909 | R177: =RANK(P177,$P$144:$P$177) -> 13
C180: Nilai Tertinggi | E180: =MAX(E144:E177) -> 82 | F180: =MAX(F144:F177) -> 77 | G180: =MAX(G144:G177) -> 77 | H180: =MAX(H144:H177) -> 83 | I180: =MAX(I144:I177) -> 58 | J180: =MAX(J144:J177) -> 67 | K180: =MAX(K144:K177) -> 88 | L180: =MAX(L144:L177) -> 90 | ... O180: =MAX(O144:O177) -> 87
C181: Nilai Terendah | E181: =MIN(E144:E177) -> 43 | F181: =MIN(F144:F177) -> 60 | G181: =MIN(G144:G177) -> 38 | H181: =MIN(H144:H177) -> 28 | I181: =MIN(I144:I177) -> 31 | J181: =MIN(J144:J177) -> 42 | K181: =MIN(K144:K177) -> 58 | L181: =MIN(L144:L177) -> 57 | ... O181: =MIN(O144:O177) -> 65
C182: Rata - Rata | E182: =AVERAGE(E144:E177) -> 63.294118 | F182: =AVERAGE(F144:F177) -> 69.911765 | G182: =AVERAGE(G144:G177) -> 60.441176 | H182: =AVERAGE(H144:H177) -> 50.852941 | I182: =AVERAGE(I144:I177) -> 44.794118 | J182: =AVERAGE(J144:J177) -> 53.794118 | K182: =AVERAGE(K144:K177) -> 70.911765 | L182: =AVERAGE(L144:L177) -> 75.882353 | ... O182: =AVERAGE(O144:O177) -> 74.470588
C184: Mengetahui , | L184: Welahan, Oktober 2018
C185: Kepala SMP Negeri 1 Welahan | E185: Orang Tua/Wali Murid | L185: Wali Kelas 9C
C188: Hadi Subeno, S.Pd. | E188: ……………………………………. | L188: NGATMIRAH, S.Pd
C189: NIP. 19620906 198302 1 003 | L189: NIP. 19740515 2007001 2 006
...

Sheet 7
A1: PEMERINTAH KABUPATEN JEPARA
A2: DINAS PENDIDIKAN PEMUDA DAN OLAH RAGA
A3: UNIT PELAKSANA TEKNIS
A4: SMP NEGERI 1 WELAHAN
A5: Jl. Welahan Km. 22 Jepara ' ( 0291 ) 4256295 *59464
A6: E-mail : smpn1welahan@yahoo.co.id website : www. smpn1welahan.com
A9: LAPORAN NILAI MURNI ULANGAN/PENILAIAN TENGAH SEMESTER GENAP
A10: SMP NEGERI 1 WELAHAN
A11: TAHUN PELAJARAN 2017/2018
A13: NO | B13: NIS | C13: NAMA SISWA | D13: Kelas 7 | E13: Mata Pelajaran | P13: Jumlah | Q13: Rata - rata | R13: Peringkat
E14: PAI | F14: PKn | G14: B.Ind | H14: B.Ing | I14: MTK | J14: IPA | K14: IPS | L14: S. Bud | M14: Penjas | N14: Prakarya | O14: B.JW
A15: KRITERIA KETUNTASAN MINIMAL (KKM) | E15: 75 | F15: 75 | G15: 75 | H15: 75 | I15: 75 | J15: 75 | K15: 75 | L15: 75 | M15: 75 | N15: 75 | O15: 75
A16: 1 | B16: ='perkelas 7'!B16 -> 1818384001 | C16: ='perkelas 7'!C16 -> ADITYA SETIAWAN | D16: ='perkelas 7'!D16 -> 7-A | E16: ='perkelas 7'!E16 -> 65 | F16: ='perkelas 7'!F16 -> 80 | G16: ='perkelas 7'!G16 -> 72 | H16: ='perkelas 7'!H16 -> 63 | I16: ='perkelas 7'!I16 -> 83 | ... O16: ='perkelas 7'!O16 -> 82 | P16: =SUM(E16:O16) -> 796 | Q16: =AVERAGE(E16:O16) -> 72.363636 | R16: 76
A17: 2 | B17: ='perkelas 7'!B17 -> 1818384002 | C17: ='perkelas 7'!C17 -> AINUR ROFIQ | D17: ='perkelas 7'!D17 -> 7-A | E17: ='perkelas 7'!E17 -> 82 | F17: ='perkelas 7'!F17 -> 80 | G17: ='perkelas 7'!G17 -> 72 | H17: ='perkelas 7'!H17 -> 60 | I17: ='perkelas 7'!I17 -> 79 | ... O17: ='perkelas 7'!O17 -> 85 | P17: =SUM(E17:O17) -> 818 | Q17: =AVERAGE(E17:O17) -> 74.363636 | R17: 53
A18: 3 | B18: ='perkelas 7'!B18 -> 1818384003 | C18: ='perkelas 7'!C18 -> AISYAH NAFIS MAULA | D18: ='perkelas 7'!D18 -> 7-A | E18: ='perkelas 7'!E18 -> 88 | F18: ='perkelas 7'!F18 -> 83 | G18: ='perkelas 7'!G18 -> 75 | H18: ='perkelas 7'!H18 -> 87 | I18: ='perkelas 7'!I18 -> 71 | ... O18: ='perkelas 7'!O18 -> 90 | P18: =SUM(E18:O18) -> 845 | Q18: =AVERAGE(E18:O18) -> 76.818182 | R18: 36
A19: 4 | B19: ='perkelas 7'!B19 -> 1818384004 | C19: ='perkelas 7'!C19 -> ANASTASYA IRAWATI | D19: ='perkelas 7'!D19 -> 7-A | E19: ='perkelas 7'!E19 -> 97 | F19: ='perkelas 7'!F19 -> 93 | G19: ='perkelas 7'!G19 -> 78 | H19: ='perkelas 7'!H19 -> 78 | I19: ='perkelas 7'!I19 -> 90 | ... O19: ='perkelas 7'!O19 -> 100 | P19: =SUM(E19:O19) -> 920 | Q19: =AVERAGE(E19:O19) -> 83.636364 | R19: 5
A20: 5 | B20: ='perkelas 7'!B20 -> 1818384005 | C20: ='perkelas 7'!C20 -> AULA AMMIMAH | D20: ='perkelas 7'!D20 -> 7-A | E20: ='perkelas 7'!E20 -> 85 | F20: ='perkelas 7'!F20 -> 82 | G20: ='perkelas 7'!G20 -> 77 | H20: ='perkelas 7'!H20 -> 75 | I20: ='perkelas 7'!I20 -> 83 | ... O20: ='perkelas 7'!O20 -> 95 | P20: =SUM(E20:O20) -> 887 | Q20: =AVERAGE(E20:O20) -> 80.636364 | R20: 14
A21: 6 | B21: ='perkelas 7'!B21 -> 1818384006 | C21: ='perkelas 7'!C21 -> FARIDATUL AMALIYA | D21: ='perkelas 7'!D21 -> 7-A | E21: ='perkelas 7'!E21 -> 92 | F21: ='perkelas 7'!F21 -> 93 | G21: ='perkelas 7'!G21 -> 80 | H21: ='perkelas 7'!H21 -> 78 | I21: ='perkelas 7'!I21 -> 83 | ... O21: ='perkelas 7'!O21 -> 92 | P21: =SUM(E21:O21) -> 915 | Q21: =AVERAGE(E21:O21) -> 83.181818 | R21: 6
A22: 7 | B22: ='perkelas 7'!B22 -> 1818384007 | C22: ='perkelas 7'!C22 -> FAUZI AHMAD ZAEKHAN | D22: ='perkelas 7'!D22 -> 7-A | E22: ='perkelas 7'!E22 -> 80 | F22: ='perkelas 7'!F22 -> 80 | G22: ='perkelas 7'!G22 -> 76 | H22: ='perkelas 7'!H22 -> 65 | I22: ='perkelas 7'!I22 -> 69 | ... O22: ='perkelas 7'!O22 -> 80 | P22: =SUM(E22:O22) -> 770 | Q22: =AVERAGE(E22:O22) -> 70 | R22: 95
A23: 8 | B23: ='perkelas 7'!B23 -> 1818384008 | C23: ='perkelas 7'!C23 -> FIRDA AULIA MUSTAFIDAH | D23: ='perkelas 7'!D23 -> 7-A | E23: ='perkelas 7'!E23 -> 90 | F23: ='perkelas 7'!F23 -> 87 | G23: ='perkelas 7'!G23 -> 78 | H23: ='perkelas 7'!H23 -> 77 | I23: ='perkelas 7'!I23 -> 88 | ... O23: ='perkelas 7'!O23 -> 98 | P23: =SUM(E23:O23) -> 891 | Q23: =AVERAGE(E23:O23) -> 81 | R23: 12
A24: 9 | B24: ='perkelas 7'!B24 -> 1818384009 | C24: ='perkelas 7'!C24 -> KHAILA AURA SABNA | D24: ='perkelas 7'!D24 -> 7-A | E24: ='perkelas 7'!E24 -> 90 | F24: ='perkelas 7'!F24 -> 87 | G24: ='perkelas 7'!G24 -> 70 | H24: ='perkelas 7'!H24 -> 73 | I24: ='perkelas 7'!I24 -> 89 | ... O24: ='perkelas 7'!O24 -> 95 | P24: =SUM(E24:O24) -> 886 | Q24: =AVERAGE(E24:O24) -> 80.545455 | R24: 15
A25: 10 | B25: ='perkelas 7'!B25 -> 1818384010 | C25: ='perkelas 7'!C25 -> LINA SILVIANA | D25: ='perkelas 7'!D25 -> 7-A | E25: ='perkelas 7'!E25 -> 92 | F25: ='perkelas 7'!F25 -> 90 | G25: ='perkelas 7'!G25 -> 78 | H25: ='perkelas 7'!H25 -> 83 | I25: ='perkelas 7'!I25 -> 86 | ... O25: ='perkelas 7'!O25 -> 93 | P25: =SUM(E25:O25) -> 880 | Q25: =AVERAGE(E25:O25) -> 80 | R25: 19
A26: 11 | B26: ='perkelas 7'!B26 -> 1818384011 | C26: ='perkelas 7'!C26 -> MARSHA DWI ANGGRAINI | D26: ='perkelas 7'!D26 -> 7-A | E26: ='perkelas 7'!E26 -> 82 | F26: ='perkelas 7'!F26 -> 87 | G26: ='perkelas 7'!G26 -> 73 | H26: ='perkelas 7'!H26 -> 68 | I26: ='perkelas 7'!I26 -> 83 | ... O26: ='perkelas 7'!O26 -> 78 | P26: =SUM(E26:O26) -> 799 | Q26: =AVERAGE(E26:O26) -> 72.636364 | R26: 71
A27: 12 | B27: ='perkelas 7'!B27 -> 1818384012 | C27: ='perkelas 7'!C27 -> MAZDALINA HAIFA | D27: ='perkelas 7'!D27 -> 7-A | E27: ='perkelas 7'!E27 -> 95 | F27: ='perkelas 7'!F27 -> 90 | G27: ='perkelas 7'!G27 -> 72 | H27: ='perkelas 7'!H27 -> 92 | I27: ='perkelas 7'!I27 -> 94 | ... O27: ='perkelas 7'!O27 -> 98 | P27: =SUM(E27:O27) -> 944 | Q27: =AVERAGE(E27:O27) -> 85.818182 | R27: 1
... A45: 30 | B45: ='perkelas 7'!B45 -> 1818384030 | C45: ='perkelas 7'!C45 -> SUKMA DEWI AULIA PUTRI | D45: ='perkelas 7'!D45 -> 7-A | E45: ='perkelas 7'!E45 -> 90 | F45: ='perkelas 7'!F45 -> 90 | G45: ='perkelas 7'!G45 -> 80 | H45: ='perkelas 7'!H45 -> 70 | I45: ='perkelas 7'!I45 -> 91 | ... O45: ='perkelas 7'!O45 -> 98 | P45: =SUM(E45:O45) -> 888 | Q45: =AVERAGE(E45:O45) -> 80.727273 | R45: 13
A46: 33 | B46: ='perkelas 7'!B79 -> 1818384031 | C46: ='perkelas 7'!C79 -> AISAHTUL KHASANAH | D46: ='perkelas 7'!D79 -> 7-B | E46: ='perkelas 7'!E79 -> 57 | F46: ='perkelas 7'!F79 -> 63 | G46: ='perkelas 7'!G79 -> 62 | H46: ='perkelas 7'!H79 -> 57 | I46: ='perkelas 7'!I79 -> 50 | ... O46: ='perkelas 7'!O79 -> 63 | P46: =SUM(E46:O46) -> 639 | Q46: =AVERAGE(E46:O46) -> 58.090909 | R46: 185
A47: 34 | B47: ='perkelas 7'!B80 -> 1818384032 | C47: ='perkelas 7'!C80 -> ALVIN FAUZI RAMADHAN | D47: ='perkelas 7'!D80 -> 7-B | E47: ='perkelas 7'!E80 -> 78 | F47: ='perkelas 7'!F80 -> 73 | G47: ='perkelas 7'!G80 -> 62 | H47: ='perkelas 7'!H80 -> 53 | I47: ='perkelas 7'!I80 -> 68 | ... O47: ='perkelas 7'!O80 -> 75 | P47: =SUM(E47:O47) -> 703 | Q47: =AVERAGE(E47:O47) -> 63.909091 | R47: 150
A48: 35 | B48: ='perkelas 7'!B81 -> 1818384033 | C48: ='perkelas 7'!C81 -> BAGUS HARIS PRATAMA | D48: ='perkelas 7'!D81 -> 7-B | E48: ='perkelas 7'!E81 -> 43 | F48: ='perkelas 7'!F81 -> 60 | G48: ='perkelas 7'!G81 -> 63 | H48: ='perkelas 7'!H81 -> 50 | I48: ='perkelas 7'!I81 -> 63 | ... O48: ='perkelas 7'!O81 -> 68 | P48: =SUM(E48:O48) -> 665 | Q48: =AVERAGE(E48:O48) -> 60.454545 | R48: 173
A49: 36 | B49: ='perkelas 7'!B82 -> 1818384034 | C49: ='perkelas 7'!C82 -> Bandung ADITYA | D49: ='perkelas 7'!D82 -> 7-B | E49: ='perkelas 7'!E82 -> 37 | F49: ='perkelas 7'!F82 -> 52 | G49: ='perkelas 7'!G82 -> 60 | H49: ='perkelas 7'!H82 -> 45 | I49: ='perkelas 7'!I82 -> 62 | ... O49: ='perkelas 7'!O82 -> 75 | P49: =SUM(E49:O49) -> 594 | Q49: =AVERAGE(E49:O49) -> 54 | R49: 208
A50: 37 | B50: ='perkelas 7'!B83 -> 1818384035 | C50: ='perkelas 7'!C83 -> BONITA SRI WAHYUNINGTYAS | D50: ='perkelas 7'!D83 -> 7-B | E50: ='perkelas 7'!E83 -> 62 | F50: ='perkelas 7'!F83 -> 53 | G50: ='perkelas 7'!G83 -> 68 | H50: ='perkelas 7'!H83 -> 65 | I50: ='perkelas 7'!I83 -> 66 | ... O50: ='perkelas 7'!O83 -> 85 | P50: =SUM(E50:O50) -> 705 | Q50: =AVERAGE(E50:O50) -> 64.090909 | R50: 149
A51: 38 | B51: ='perkelas 7'!B84 -> 1818384036 | C51: ='perkelas 7'!C84 -> INDI CISTIA MAHARANI | D51: ='perkelas 7'!D84 -> 7-B | E51: ='perkelas 7'!E84 -> 63 | F51: ='perkelas 7'!F84 -> 73 | G51: ='perkelas 7'!G84 -> 73 | H51: ='perkelas 7'!H84 -> 78 | I51: ='perkelas 7'!I84 -> 65 | ... O51: ='perkelas 7'!O84 -> 87 | P51: =SUM(E51:O51) -> 778 | Q51: =AVERAGE(E51:O51) -> 70.727273 | R51: 87
A52: 39 | B52: ='perkelas 7'!B85 -> 1818384037 | C52: ='perkelas 7'!C85 -> INTAN SELVIA | D52: ='perkelas 7'!D85 -> 7-B | E52: ='perkelas 7'!E85 -> 67 | F52: ='perkelas 7'!F85 -> 77 | G52: ='perkelas 7'!G85 -> 75 | H52: ='perkelas 7'!H85 -> 70 | I52: ='perkelas 7'!I85 -> 58 | ... O52: ='perkelas 7'!O85 -> 82 | P52: =SUM(E52:O52) -> 748 | Q52: =AVERAGE(E52:O52) -> 68 | R52: 117
A53: 40 | B53: ='perkelas 7'!B86 -> 1818384038 | C53: ='perkelas 7'!C86 -> JULIA DWI RAHAYU | D53: ='perkelas 7'!D86 -> 7-B | E53: ='perkelas 7'!E86 -> 51 | F53: ='perkelas 7'!F86 -> 43 | G53: ='perkelas 7'!G86 -> 52 | H53: ='perkelas 7'!H86 -> 58 | I53: ='perkelas 7'!I86 -> 41 | ... O53: ='perkelas 7'!O86 -> 58 | P53: =SUM(E53:O53) -> 538 | Q53: =AVERAGE(E53:O53) -> 48.909091 | R53: 217
A54: 41 | B54: ='perkelas 7'!B87 -> 1818384039 | C54: ='perkelas 7'!C87 -> KHOLILATUR ROHMANIA | D54: ='perkelas 7'!D87 -> 7-B | E54: ='perkelas 7'!E87 -> 68 | F54: ='perkelas 7'!F87 -> 87 | G54: ='perkelas 7'!G87 -> 65 | H54: ='perkelas 7'!H87 -> 62 | I54: ='perkelas 7'!I87 -> 62 | ... O54: ='perkelas 7'!O87 -> 90 | P54: =SUM(E54:O54) -> 754 | Q54: =AVERAGE(E54:O54) -> 68.545455 | R54: 112
A55: 42 | B55: ='perkelas 7'!B88 -> 1818384040 | C55: ='perkelas 7'!C88 -> LAILA ALFI SYAHRINA | D55: ='perkelas 7'!D88 -> 7-B | E55: ='perkelas 7'!E88 -> 67 | F55: ='perkelas 7'!F88 -> 65 | G55: ='perkelas 7'!G88 -> 80 | H55: ='perkelas 7'!H88 -> 60 | I55: ='perkelas 7'!I88 -> 71 | ... O55: ='perkelas 7'!O88 -> 93 | P55: =SUM(E55:O55) -> 747 | Q55: =AVERAGE(E55:O55) -> 67.909091 | R55: 118
A56: 43 | B56: ='perkelas 7'!B89 -> 1818384041 | C56: ='perkelas 7'!C89 -> LINDA MEIRANI | D56: ='perkelas 7'!D89 -> 7-B | E56: ='perkelas 7'!E89 -> 92 | F56: ='perkelas 7'!F89 -> 72 | G56: ='perkelas 7'!G89 -> 77 | H56: ='perkelas 7'!H89 -> 82 | I56: ='perkelas 7'!I89 -> 94 | ... O56: ='perkelas 7'!O89 -> 88 | P56: =SUM(E56:O56) -> 856 | Q56: =AVERAGE(E56:O56) -> 77.818182 | R56: 27
A57: 44 | B57: ='perkelas 7'!B90 -> 1818384042 | C57: ='perkelas 7'!C90 -> MAULANA AKBAR | D57: ='perkelas 7'!D90 -> 7-B | E57: ='perkelas 7'!E90 -> 77 | F57: ='perkelas 7'!F90 -> 82 | G57: ='perkelas 7'!G90 -> 68 | H57: ='perkelas 7'!H90 -> 78 | I57: ='perkelas 7'!I90 -> 50 | ... O57: ='perkelas 7'!O90 -> 88 | P57: =SUM(E57:O57) -> 777 | Q57: =AVERAGE(E57:O57) -> 70.636364 | R57: 89
... A77: 64 | B77: ='perkelas 7'!B110 -> 1818384062 | C77: ='perkelas 7'!C110 -> YULIANA RAHWATI | D77: ='perkelas 7'!D110 -> 7-B | E77: ='perkelas 7'!E110 -> 32 | F77: ='perkelas 7'!F110 -> 42 | G77: ='perkelas 7'!G110 -> 38 | H77: ='perkelas 7'!H110 -> 50 | I77: ='perkelas 7'!I110 -> 50 | ... O77: ='perkelas 7'!O110 -> 60 | P77: =SUM(E77:O77) -> 516 | Q77: =AVERAGE(E77:O77) -> 46.909091 | R77: 218
A78: 65 | B78: ='perkelas 7'!B145 -> 1818384063 | C78: ='perkelas 7'!C145 -> ADINDA TALIA SALSA BELLA | D78: ='perkelas 7'!D145 -> 7-C | E78: ='perkelas 7'!E145 -> 72 | F78: ='perkelas 7'!F145 -> 79 | G78: ='perkelas 7'!G145 -> 77 | H78: ='perkelas 7'!H145 -> 68 | I78: ='perkelas 7'!I145 -> 57 | ... O78: ='perkelas 7'!O145 -> 77 | P78: =SUM(E78:O78) -> 770 | Q78: =AVERAGE(E78:O78) -> 70 | R78: 95
A79: 66 | B79: ='perkelas 7'!B146 -> 1818384064 | C79: ='perkelas 7'!C146 -> AHMAD KHARIS NUR FADLI | D79: ='perkelas 7'!D146 -> 7-C | E79: ='perkelas 7'!E146 -> 65 | F79: ='perkelas 7'!F146 -> 77 | G79: ='perkelas 7'!G146 -> 70 | H79: ='perkelas 7'!H146 -> 50 | I79: ='perkelas 7'!I146 -> 41 | ... O79: ='perkelas 7'!O146 -> 77 | P79: =SUM(E79:O79) -> 709 | Q79: =AVERAGE(E79:O79) -> 64.454545 | R79: 147
A80: 67 | B80: ='perkelas 7'!B147 -> 1818384065 | C80: ='perkelas 7'!C147 -> AKHMAD JAZULI RIFQI | D80: ='perkelas 7'!D147 -> 7-C | E80: ='perkelas 7'!E147 -> 48 | F80: ='perkelas 7'!F147 -> 57 | G80: ='perkelas 7'!G147 -> 51 | H80: ='perkelas 7'!H147 -> 52 | I80: ='perkelas 7'!I147 -> 56 | ... O80: ='perkelas 7'!O147 -> 58 | P80: =SUM(E80:O80) -> 601 | Q80: =AVERAGE(E80:O80) -> 54.636364 | R80: =RANK(P80,$P$16:$P$236) -> 203
A81: 68 | B81: ='perkelas 7'!B148 -> 1818384066 | C81: ='perkelas 7'!C148 -> ANGGA GILANG PRATAMA | D81: ='perkelas 7'!D148 -> 7-C | E81: ='perkelas 7'!E148 -> 57 | F81: ='perkelas 7'!F148 -> 83 | G81: ='perkelas 7'!G148 -> 75 | H81: ='perkelas 7'!H148 -> 73 | I81: ='perkelas 7'!I148 -> 68 | ... O81: ='perkelas 7'!O148 -> 70 | P81: =SUM(E81:O81) -> 741 | Q81: =AVERAGE(E81:O81) -> 67.363636 | R81: =RANK(P81,$P$16:$P$236) -> 128
A82: 69 | B82: ='perkelas 7'!B149 -> 1818384067 | C82: ='perkelas 7'!C149 -> ANGGI YAS SANDI | D82: ='perkelas 7'!D149 -> 7-C | E82: ='perkelas 7'!E149 -> 85 | F82: ='perkelas 7'!F149 -> 70 | G82: ='perkelas 7'!G149 -> 68 | H82: ='perkelas 7'!H149 -> 60 | I82: ='perkelas 7'!I149 -> 57 | ... O82: ='perkelas 7'!O149 -> 63 | P82: =SUM(E82:O82) -> 701 | Q82: =AVERAGE(E82:O82) -> 63.727273 | R82: =RANK(P82,$P$16:$P$236) -> 152
A83: 70 | B83: ='perkelas 7'!B150 -> 1818384068 | C83: ='perkelas 7'!C150 -> DEVI FIRDA MARLENA | D83: ='perkelas 7'!D150 -> 7-C | E83: ='perkelas 7'!E150 -> 60 | F83: ='perkelas 7'!F150 -> 62 | G83: ='perkelas 7'!G150 -> 62 | H83: ='perkelas 7'!H150 -> 47 | I83: ='perkelas 7'!I150 -> 65 | ... O83: ='perkelas 7'!O150 -> 58 | P83: =SUM(E83:O83) -> 653 | Q83: =AVERAGE(E83:O83) -> 59.363636 | R83: =RANK(P83,$P$16:$P$236) -> 181
A84: 71 | B84: ='perkelas 7'!B151 -> 1818384069 | C84: ='perkelas 7'!C151 -> EKA OKTAVIA | D84: ='perkelas 7'!D151 -> 7-C | E84: ='perkelas 7'!E151 -> 83 | F84: ='perkelas 7'!F151 -> 79 | G84: ='perkelas 7'!G151 -> 63 | H84: ='perkelas 7'!H151 -> 62 | I84: ='perkelas 7'!I151 -> 57 | ... O84: ='perkelas 7'!O151 -> 62 | P84: =SUM(E84:O84) -> 717 | Q84: =AVERAGE(E84:O84) -> 65.181818 | R84: =RANK(P84,$P$16:$P$236) -> 141
A85: 72 | B85: ='perkelas 7'!B152 -> 1818384070 | C85: ='perkelas 7'!C152 -> EVITA TRI CAHYANI | D85: ='perkelas 7'!D152 -> 7-C | E85: ='perkelas 7'!E152 -> 87 | F85: ='perkelas 7'!F152 -> 83 | G85: ='perkelas 7'!G152 -> 68 | H85: ='perkelas 7'!H152 -> 78 | I85: ='perkelas 7'!I152 -> 84 | ... O85: ='perkelas 7'!O152 -> 88 | P85: =SUM(E85:O85) -> 817 | Q85: =AVERAGE(E85:O85) -> 74.272727 | R85: =RANK(P85,$P$16:$P$236) -> 55
A86: 73 | B86: ='perkelas 7'!B153 -> 1818384071 | C86: ='perkelas 7'!C153 -> FARAH AGUSTINA | D86: ='perkelas 7'!D153 -> 7-C | E86: ='perkelas 7'!E153 -> 58 | F86: ='perkelas 7'!F153 -> 73 | G86: ='perkelas 7'!G153 -> 80 | H86: ='perkelas 7'!H153 -> 62 | I86: ='perkelas 7'!I153 -> 73 | ... O86: ='perkelas 7'!O153 -> 82 | P86: =SUM(E86:O86) -> 772 | Q86: =AVERAGE(E86:O86) -> 70.181818 | R86: =RANK(P86,$P$16:$P$236) -> 94
A87: 74 | B87: ='perkelas 7'!B154 -> 1818384072 | C87: ='perkelas 7'!C154 -> FARIZ ANIQ ALFARISI | D87: ='perkelas 7'!D154 -> 7-C | E87: ='perkelas 7'!E154 -> 55 | F87: ='perkelas 7'!F154 -> 62 | G87: ='perkelas 7'!G154 -> 60 | H87: ='perkelas 7'!H154 -> 47 | I87: ='perkelas 7'!I154 -> 60 | ... O87: ='perkelas 7'!O154 -> 70 | P87: =SUM(E87:O87) -> 639 | Q87: =AVERAGE(E87:O87) -> 58.090909 | R87: =RANK(P87,$P$16:$P$236) -> 186
A88: 75 | B88: ='perkelas 7'!B155 -> 1818384073 | C88: ='perkelas 7'!C155 -> FAZA NAILIA | D88: ='perkelas 7'!D155 -> 7-C | E88: ='perkelas 7'!E155 -> 57 | F88: ='perkelas 7'!F155 -> 59 | G88: ='perkelas 7'!G155 -> 58 | H88: ='perkelas 7'!H155 -> 40 | I88: ='perkelas 7'!I155 -> 44 | ... O88: ='perkelas 7'!O155 -> 58 | P88: =SUM(E88:O88) -> 600 | Q88: =AVERAGE(E88:O88) -> 54.545455 | R88: =RANK(P88,$P$16:$P$236) -> 204
A89: 76 | B89: ='perkelas 7'!B156 -> 1818384074 | C89: ='perkelas 7'!C156 -> FERDY ANDREAN | D89: ='perkelas 7'!D156 -> 7-C | E89: ='perkelas 7'!E156 -> 53 | F89: ='perkelas 7'!F156 -> 55 | G89: ='perkelas 7'!G156 -> 52 | H89: ='perkelas 7'!H156 -> 40 | I89: ='perkelas 7'!I156 -> 50 | ... O89: ='perkelas 7'!O156 -> 53 | P89: =SUM(E89:O89) -> 589 | Q89: =AVERAGE(E89:O89) -> 53.545455 | R89: =RANK(P89,$P$16:$P$236) -> 209
A90: 77 | B90: ='perkelas 7'!B157 -> 1818384075 | C90: ='perkelas 7'!C157 -> FITRIA WULANDARI | D90: ='perkelas 7'!D157 -> 7-C | E90: ='perkelas 7'!E157 -> 43 | F90: ='perkelas 7'!F157 -> 52 | G90: ='perkelas 7'!G157 -> 50 | H90: ='perkelas 7'!H157 -> 25 | I90: ='perkelas 7'!I157 -> 41 | ... O90: ='perkelas 7'!O157 -> 52 | P90: =SUM(E90:O90) -> 510 | Q90: =AVERAGE(E90:O90) -> 46.363636 | R90: =RANK(P90,$P$16:$P$236) -> 219
A91: 78 | B91: ='perkelas 7'!B158 -> 1818384076 | C91: ='perkelas 7'!C158 -> GAGAH GUNAWAN | D91: ='perkelas 7'!D158 -> 7-C | E91: ='perkelas 7'!E158 -> 65 | F91: ='perkelas 7'!F158 -> 45 | G91: ='perkelas 7'!G158 -> 67 | H91: ='perkelas 7'!H158 -> 38 | I91: ='perkelas 7'!I158 -> 48 | ... O91: ='perkelas 7'!O158 -> 65 | P91: =SUM(E91:O91) -> 625 | Q91: =AVERAGE(E91:O91) -> 56.818182 | R91: =RANK(P91,$P$16:$P$236) -> 191
... A109: 96 | B109: ='perkelas 7'!B176 -> 1818384094 | C109: ='perkelas 7'!C176 -> YULIZA SILVIANI KHUSNIA AMILA | D109: ='perkelas 7'!D176 -> 7-C | E109: ='perkelas 7'!E176 -> 53 | F109: ='perkelas 7'!F176 -> 50 | G109: ='perkelas 7'!G176 -> 50 | H109: ='perkelas 7'!H176 -> 53 | I109: ='perkelas 7'!I176 -> 47 | ... O109: ='perkelas 7'!O176 -> 73 | P109: =SUM(E109:O109) -> 617 | Q109: =AVERAGE(E109:O109) -> 56.090909 | R109: =RANK(P109,$P$16:$P$236) -> 194
A110: 97 | B110: ='perkelas 7'!B211 -> 1818384095 | C110: ='perkelas 7'!C211 -> AFIDATUN NAFIDZAH | D110: ='perkelas 7'!D211 -> 7-D | E110: ='perkelas 7'!E211 -> 65 | F110: ='perkelas 7'!F211 -> 83 | G110: ='perkelas 7'!G211 -> 75 | H110: ='perkelas 7'!H211 -> 72 | I110: ='perkelas 7'!I211 -> 71 | ... O110: ='perkelas 7'!O211 -> 85 | P110: =SUM(E110:O110) -> 757 | Q110: =AVERAGE(E110:O110) -> 68.818182 | R110: =RANK(P110,$P$16:$P$236) -> 111
A111: 98 | B111: ='perkelas 7'!B212 -> 1818384096 | C111: ='perkelas 7'!C212 -> AHMAD FERRY ANGGRIAWAN | D111: ='perkelas 7'!D212 -> 7-D | E111: ='perkelas 7'!E212 -> 63 | F111: ='perkelas 7'!F212 -> 85 | G111: ='perkelas 7'!G212 -> 57 | H111: ='perkelas 7'!H212 -> 83 | I111: ='perkelas 7'!I212 -> 67 | ... O111: ='perkelas 7'!O212 -> 78 | P111: =SUM(E111:O111) -> 732 | Q111: =AVERAGE(E111:O111) -> 66.545455 | R111: =RANK(P111,$P$16:$P$236) -> 134
A112: 99 | B112: ='perkelas 7'!B213 -> 1818384097 | C112: ='perkelas 7'!C213 -> AHMAD MUZAMMIL | D112: ='perkelas 7'!D213 -> 7-D | E112: ='perkelas 7'!E213 -> 57 | F112: ='perkelas 7'!F213 -> 87 | G112: ='perkelas 7'!G213 -> 65 | H112: ='perkelas 7'!H213 -> 87 | I112: ='perkelas 7'!I213 -> 70 | ... O112: ='perkelas 7'!O213 -> 80 | P112: =SUM(E112:O112) -> 756 | Q112: =AVERAGE(E112:O112) -> 68.727273 | R112: =RANK(P112,$P$16:$P$236) -> 112
A113: 100 | B113: ='perkelas 7'!B214 -> 1818384098 | C113: ='perkelas 7'!C214 -> AHMAD SYAROFUL HUDA | D113: ='perkelas 7'!D214 -> 7-D | E113: ='perkelas 7'!E214 -> 52 | F113: ='perkelas 7'!F214 -> 85 | G113: ='perkelas 7'!G214 -> 68 | H113: ='perkelas 7'!H214 -> 87 | I113: ='perkelas 7'!I214 -> 71 | ... O113: ='perkelas 7'!O214 -> 77 | P113: =SUM(E113:O113) -> 760 | Q113: =AVERAGE(E113:O113) -> 69.090909 | R113: =RANK(P113,$P$16:$P$236) -> 107
A114: 101 | B114: ='perkelas 7'!B215 -> 1818384099 | C114: ='perkelas 7'!C215 -> ALVIAN ADI SAPUTRA | D114: ='perkelas 7'!D215 -> 7-D | E114: ='perkelas 7'!E215 -> 62 | F114: ='perkelas 7'!F215 -> 70 | G114: ='perkelas 7'!G215 -> 75 | H114: ='perkelas 7'!H215 -> 58 | I114: ='perkelas 7'!I215 -> 66 | ... O114: ='perkelas 7'!O215 -> 85 | P114: =SUM(E114:O114) -> 733 | Q114: =AVERAGE(E114:O114) -> 66.636364 | R114: =RANK(P114,$P$16:$P$236) -> 133
A115: 102 | B115: ='perkelas 7'!B216 -> 1818384100 | C115: ='perkelas 7'!C216 -> ATILLA ROY | D115: ='perkelas 7'!D216 -> 7-D | E115: ='perkelas 7'!E216 -> 77 | F115: ='perkelas 7'!F216 -> 87 | G115: ='perkelas 7'!G216 -> 83 | H115: ='perkelas 7'!H216 -> 88 | I115: ='perkelas 7'!I216 -> 79 | ... O115: ='perkelas 7'!O216 -> 82 | P115: =SUM(E115:O115) -> 848 | Q115: =AVERAGE(E115:O115) -> 77.090909 | R115: =RANK(P115,$P$16:$P$236) -> 31
A116: 103 | B116: ='perkelas 7'!B217 -> 1818384101 | C116: ='perkelas 7'!C217 -> AYUK MUSTAFIDAH | D116: ='perkelas 7'!D217 -> 7-D | E116: ='perkelas 7'!E217 -> 83 | F116: ='perkelas 7'!F217 -> 79 | G116: ='perkelas 7'!G217 -> 80 | H116: ='perkelas 7'!H217 -> 60 | I116: ='perkelas 7'!I217 -> 66 | ... O116: ='perkelas 7'!O217 -> 92 | P116: =SUM(E116:O116) -> 798 | Q116: =AVERAGE(E116:O116) -> 72.545455 | R116: =RANK(P116,$P$16:$P$236) -> 73
A117: 104 | B117: ='perkelas 7'!B218 -> 1818384102 | C117: ='perkelas 7'!C218 -> BAHTIAR YULIAN HUSNY | D117: ='perkelas 7'!D218 -> 7-D | E117: ='perkelas 7'!E218 -> 85 | F117: ='perkelas 7'!F218 -> 80 | G117: ='perkelas 7'!G218 -> 80 | H117: ='perkelas 7'!H218 -> 65 | I117: ='perkelas 7'!I218 -> 73 | ... O117: ='perkelas 7'!O218 -> 90 | P117: =SUM(E117:O117) -> 826 | Q117: =AVERAGE(E117:O117) -> 75.090909 | R117: =RANK(P117,$P$16:$P$236) -> 48
A118: 105 | B118: ='perkelas 7'!B219 -> 1818384103 | C118: ='perkelas 7'!C219 -> CINTYA MEILANI SETIYANTO | D118: ='perkelas 7'!D219 -> 7-D | E118: ='perkelas 7'!E219 -> 43 | F118: ='perkelas 7'!F219 -> 59 | G118: ='perkelas 7'!G219 -> 50 | H118: ='perkelas 7'!H219 -> 48 | I118: ='perkelas 7'!I219 -> 54 | ... O118: ='perkelas 7'!O219 -> 63 | P118: =SUM(E118:O118) -> 574 | Q118: =AVERAGE(E118:O118) -> 52.181818 | R118: =RANK(P118,$P$16:$P$236) -> 211
A119: 106 | B119: ='perkelas 7'!B220 -> 1818384104 | C119: ='perkelas 7'!C220 -> DIAZ ANGGA SAPUTRA | D119: ='perkelas 7'!D220 -> 7-D | E119: ='perkelas 7'!E220 -> 45 | F119: ='perkelas 7'!F220 -> 67 | G119: ='perkelas 7'!G220 -> 70 | H119: ='perkelas 7'!H220 -> 52 | I119: ='perkelas 7'!I220 -> 71 | ... O119: ='perkelas 7'!O220 -> 47 | P119: =SUM(E119:O119) -> 647 | Q119: =AVERAGE(E119:O119) -> 58.818182 | R119: =RANK(P119,$P$16:$P$236) -> 184
A120: 107 | B120: ='perkelas 7'!B221 -> 1818384105 | C120: ='perkelas 7'!C221 -> ESTI VILLA FADLILAH | D120: ='perkelas 7'!D221 -> 7-D | E120: ='perkelas 7'!E221 -> 80 | F120: ='perkelas 7'!F221 -> 80 | G120: ='perkelas 7'!G221 -> 60 | H120: ='perkelas 7'!H221 -> 58 | I120: ='perkelas 7'!I221 -> 70 | ... O120: ='perkelas 7'!O221 -> 88 | P120: =SUM(E120:O120) -> 779 | Q120: =AVERAGE(E120:O120) -> 70.818182 | R120: =RANK(P120,$P$16:$P$236) -> 86
A121: 108 | B121: ='perkelas 7'!B222 -> 1818384106 | C121: ='perkelas 7'!C222 -> FAIQOTUT TOYIBBA | D121: ='perkelas 7'!D222 -> 7-D | E121: ='perkelas 7'!E222 -> 58 | F121: ='perkelas 7'!F222 -> 77 | G121: ='perkelas 7'!G222 -> 70 | H121: ='perkelas 7'!H222 -> 53 | I121: ='perkelas 7'!I222 -> 63 | ... O121: ='perkelas 7'!O222 -> 62 | P121: =SUM(E121:O121) -> 715 | Q121: =AVERAGE(E121:O121) -> 65 | R121: =RANK(P121,$P$16:$P$236) -> 143 | W121: 98000
A122: 109 | B122: ='perkelas 7'!B223 -> 1818384107 | C122: ='perkelas 7'!C223 -> FAUZIAH MILHATUS SOLIHAH | D122: ='perkelas 7'!D223 -> 7-D | E122: ='perkelas 7'!E223 -> 67 | F122: ='perkelas 7'!F223 -> 82 | G122: ='perkelas 7'!G223 -> 68 | H122: ='perkelas 7'!H223 -> 60 | I122: ='perkelas 7'!I223 -> 61 | ... O122: ='perkelas 7'!O223 -> 82 | P122: =SUM(E122:O122) -> 762 | Q122: =AVERAGE(E122:O122) -> 69.272727 | R122: =RANK(P122,$P$16:$P$236) -> 105 | W122: 96000
A123: 110 | B123: ='perkelas 7'!B224 -> 1818384108 | C123: ='perkelas 7'!C224 -> FAZA AMALIA | D123: ='perkelas 7'!D224 -> 7-D | E123: ='perkelas 7'!E224 -> 67 | F123: ='perkelas 7'!F224 -> 85 | G123: ='perkelas 7'!G224 -> 68 | H123: ='perkelas 7'!H224 -> 70 | I123: ='perkelas 7'!I224 -> 73 | ... O123: ='perkelas 7'!O224 -> 87 | P123: =SUM(E123:O123) -> 761 | Q123: =AVERAGE(E123:O123) -> 69.181818 | R123: =RANK(P123,$P$16:$P$236) -> 106 | W123: 100000
A124: 111 | B124: ='perkelas 7'!B225 -> 1818384109 | C124: ='perkelas 7'!C225 -> FENDI IRMAWAN | D124: ='perkelas 7'!D225 -> 7-D | E124: ='perkelas 7'!E225 -> 47 | F124: ='perkelas 7'!F225 -> 59 | G124: ='perkelas 7'!G225 -> 50 | H124: ='perkelas 7'!H225 -> 50 | I124: ='perkelas 7'!I225 -> 59 | ... O124: ='perkelas 7'!O225 -> 52 | P124: =SUM(E124:O124) -> 595 | Q124: =AVERAGE(E124:O124) -> 54.090909 | R124: =RANK(P124,$P$16:$P$236) -> 206 | W124: 112000
A125: 112 | B125: ='perkelas 7'!B226 -> 1818384110 | C125: ='perkelas 7'!C226 -> INDRIANA AYU SAFITRI | D125: ='perkelas 7'!D226 -> 7-D | E125: ='perkelas 7'!E226 -> 73 | F125: ='perkelas 7'!F226 -> 90 | G125: ='perkelas 7'!G226 -> 70 | H125: ='perkelas 7'!H226 -> 75 | I125: ='perkelas 7'!I226 -> 70 | ... O125: ='perkelas 7'!O226 -> 90 | P125: =SUM(E125:O125) -> 814 | Q125: =AVERAGE(E125:O125) -> 74 | R125: =RANK(P125,$P$16:$P$236) -> 59 | W125: =SUM(W121:W124) -> 406000
A126: 113 | B126: ='perkelas 7'!B227 -> 1818384111 | C126: ='perkelas 7'!C227 -> ISMI NABILA | D126: ='perkelas 7'!D227 -> 7-D | E126: ='perkelas 7'!E227 -> 55 | F126: ='perkelas 7'!F227 -> 55 | G126: ='perkelas 7'!G227 -> 55 | H126: ='perkelas 7'!H227 -> 38 | I126: ='perkelas 7'!I227 -> 56 | ... O126: ='perkelas 7'!O227 -> 72 | P126: =SUM(E126:O126) -> 609 | Q126: =AVERAGE(E126:O126) -> 55.363636 | R126: =RANK(P126,$P$16:$P$236) -> 197
A127: 114 | B127: ='perkelas 7'!B228 -> 1818384112 | C127: ='perkelas 7'!C228 -> KHUSNU AQMALIA | D127: ='perkelas 7'!D228 -> 7-D | E127: ='perkelas 7'!E228 -> 60 | F127: ='perkelas 7'!F228 -> 70 | G127: ='perkelas 7'!G228 -> 65 | H127: ='perkelas 7'!H228 -> 45 | I127: ='perkelas 7'!I228 -> 67 | ... O127: ='perkelas 7'!O228 -> 80 | P127: =SUM(E127:O127) -> 698 | Q127: =AVERAGE(E127:O127) -> 63.454545 | R127: =RANK(P127,$P$16:$P$236) -> 155
A128: 115 | B128: ='perkelas 7'!B229 -> 1818384113 | C128: ='perkelas 7'!C229 -> MARIYO ENDA SAPUTRA | D128: ='perkelas 7'!D229 -> 7-D | E128: ='perkelas 7'!E229 -> 55 | F128: ='perkelas 7'!F229 -> 52 | G128: ='perkelas 7'!G229 -> 63 | H128: ='perkelas 7'!H229 -> 42 | I128: ='perkelas 7'!I229 -> 57 | ... O128: ='perkelas 7'!O229 -> 50 | P128: =SUM(E128:O128) -> 604 | Q128: =AVERAGE(E128:O128) -> 54.909091 | R128: =RANK(P128,$P$16:$P$236) -> 200
A129: 116 | B129: ='perkelas 7'!B230 -> 1818384114 | C129: ='perkelas 7'!C230 -> MAULIDA NURUL INNAYAH | D129: ='perkelas 7'!D230 -> 7-D | E129: ='perkelas 7'!E230 -> 45 | F129: ='perkelas 7'!F230 -> 55 | G129: ='perkelas 7'!G230 -> 68 | H129: ='perkelas 7'!H230 -> 47 | I129: ='perkelas 7'!I230 -> 61 | ... O129: ='perkelas 7'!O230 -> 77 | P129: =SUM(E129:O129) -> 665 | Q129: =AVERAGE(E129:O129) -> 60.454545 | R129: =RANK(P129,$P$16:$P$236) -> 174
A130: 117 | B130: ='perkelas 7'!B231 -> 1818384115 | C130: ='perkelas 7'!C231 -> MAYA SHAFARA | D130: ='perkelas 7'!D231 -> 7-D | E130: ='perkelas 7'!E231 -> 90 | F130: ='perkelas 7'!F231 -> 89 | G130: ='perkelas 7'!G231 -> 77 | H130: ='perkelas 7'!H231 -> 55 | I130: ='perkelas 7'!I231 -> 66 | ... O130: ='perkelas 7'!O231 -> 88 | P130: =SUM(E130:O130) -> 805 | Q130: =AVERAGE(E130:O130) -> 73.181818 | R130: =RANK(P130,$P$16:$P$236) -> 66
A131: 118 | B131: ='perkelas 7'!B232 -> 1818384116 | C131: ='perkelas 7'!C232 -> MIFTAKHIRUL PRIMADA | D131: ='perkelas 7'!D232 -> 7-D | E131: ='perkelas 7'!E232 -> 40 | F131: ='perkelas 7'!F232 -> 49 | G131: ='perkelas 7'!G232 -> 52 | H131: ='perkelas 7'!H232 -> 47 | I131: ='perkelas 7'!I232 -> 51 | ... O131: ='perkelas 7'!O232 -> 60 | P131: =SUM(E131:O131) -> 565 | Q131: =AVERAGE(E131:O131) -> 51.363636 | R131: =RANK(P131,$P$16:$P$236) -> 213
A132: 119 | B132: ='perkelas 7'!B233 -> 1818384117 | C132: ='perkelas 7'!C233 -> MUHAMMAD FACHRILILLAH DWI RAJABI | D132: ='perkelas 7'!D233 -> 7-D | E132: ='perkelas 7'!E233 -> 47 | F132: ='perkelas 7'!F233 -> 47 | G132: ='perkelas 7'!G233 -> 62 | H132: ='perkelas 7'!H233 -> 37 | I132: ='perkelas 7'!I233 -> 66 | ... O132: ='perkelas 7'!O233 -> 80 | P132: =SUM(E132:O132) -> 614 | Q132: =AVERAGE(E132:O132) -> 55.818182 | R132: =RANK(P132,$P$16:$P$236) -> 195
A133: 120 | B133: ='perkelas 7'!B234 -> 1818384118 | C133: ='perkelas 7'!C234 -> NIKMATUL KARLINA | D133: ='perkelas 7'!D234 -> 7-D | E133: ='perkelas 7'!E234 -> 72 | F133: ='perkelas 7'!F234 -> 83 | G133: ='perkelas 7'!G234 -> 68 | H133: ='perkelas 7'!H234 -> 57 | I133: ='perkelas 7'!I234 -> 86 | ... O133: ='perkelas 7'!O234 -> 87 | P133: =SUM(E133:O133) -> 809 | Q133: =AVERAGE(E133:O133) -> 73.545455 | R133: =RANK(P133,$P$16:$P$236) -> 62
A134: 121 | B134: ='perkelas 7'!B235 -> 1818384119 | C134: ='perkelas 7'!C235 -> NISYILAFA AULIA FAHMA | D134: ='perkelas 7'!D235 -> 7-D | E134: ='perkelas 7'!E235 -> 92 | F134: ='perkelas 7'!F235 -> 90 | G134: ='perkelas 7'!G235 -> 75 | H134: ='perkelas 7'!H235 -> 83 | I134: ='perkelas 7'!I235 -> 79 | ... O134: ='perkelas 7'!O235 -> 98 | P134: =SUM(E134:O134) -> 846 | Q134: =AVERAGE(E134:O134) -> 76.909091 | R134: =RANK(P134,$P$16:$P$236) -> 33
A135: 122 | B135: ='perkelas 7'!B236 -> 1818384120 | C135: ='perkelas 7'!C236 -> RIRIN AGUSTINA | D135: ='perkelas 7'!D236 -> 7-D | E135: ='perkelas 7'!E236 -> 63 | F135: ='perkelas 7'!F236 -> 72 | G135: ='perkelas 7'!G236 -> 60 | H135: ='perkelas 7'!H236 -> 50 | I135: ='perkelas 7'!I236 -> 64 | ... O135: ='perkelas 7'!O236 -> 77 | P135: =SUM(E135:O135) -> 680 | Q135: =AVERAGE(E135:O135) -> 61.818182 | R135: =RANK(P135,$P$16:$P$236) -> 167
A136: 123 | B136: ='perkelas 7'!B237 -> 1818384121 | C136: ='perkelas 7'!C237 -> RIZQI SURYA ARYA PRATAMA | D136: ='perkelas 7'!D237 -> 7-D | E136: ='perkelas 7'!E237 -> 63 | F136: ='perkelas 7'!F237 -> 63 | G136: ='perkelas 7'!G237 -> 62 | H136: ='perkelas 7'!H237 -> 68 | I136: ='perkelas 7'!I237 -> 61 | ... O136: ='perkelas 7'!O237 -> 72 | P136: =SUM(E136:O136) -> 699 | Q136: =AVERAGE(E136:O136) -> 63.545455 | R136: =RANK(P136,$P$16:$P$236) -> 153
A137: 124 | B137: ='perkelas 7'!B238 -> 1818384122 | C137: ='perkelas 7'!C238 -> ROBET NAWASYARIF | D137: ='perkelas 7'!D238 -> 7-D | E137: ='perkelas 7'!E238 -> 73 | F137: ='perkelas 7'!F238 -> 70 | G137: ='perkelas 7'!G238 -> 60 | H137: ='perkelas 7'!H238 -> 55 | I137: ='perkelas 7'!I238 -> 63 | ... O137: ='perkelas 7'!O238 -> 67 | P137: =SUM(E137:O137) -> 688 | Q137: =AVERAGE(E137:O137) -> 62.545455 | R137: =RANK(P137,$P$16:$P$236) -> 163
... A141: 128 | B141: ='perkelas 7'!B242 -> 1818384126 | C141: ='perkelas 7'!C242 -> TIARA PUSPA DEWI | D141: ='perkelas 7'!D242 -> 7-D | E141: ='perkelas 7'!E242 -> 60 | F141: ='perkelas 7'!F242 -> 57 | G141: ='perkelas 7'!G242 -> 67 | H141: ='perkelas 7'!H242 -> 47 | I141: ='perkelas 7'!I242 -> 64 | ... O141: ='perkelas 7'!O242 -> 68 | P141: =SUM(E141:O141) -> 636 | Q141: =AVERAGE(E141:O141) -> 57.818182 | R141: =RANK(P141,$P$16:$P$236) -> 189
A142: 129 | B142: ='perkelas 7'!B276 -> 1818384127 | C142: ='perkelas 7'!C276 -> AHMAD WIJDAAN SYIHAB | D142: ='perkelas 7'!D276 -> 7-E | E142: ='perkelas 7'!E276 -> 60 | F142: ='perkelas 7'!F276 -> 60 | G142: ='perkelas 7'!G276 -> 68 | H142: ='perkelas 7'!H276 -> 40 | I142: ='perkelas 7'!I276 -> 61 | ... O142: ='perkelas 7'!O276 -> 80 | P142: =SUM(E142:O142) -> 725 | Q142: =AVERAGE(E142:O142) -> 65.909091 | R142: =RANK(P142,$P$16:$P$236) -> 137
A143: 130 | B143: ='perkelas 7'!B277 -> 1818384128 | C143: ='perkelas 7'!C277 -> AHMED ZAQI AL GHOFAR | D143: ='perkelas 7'!D277 -> 7-E | E143: ='perkelas 7'!E277 -> 63 | F143: ='perkelas 7'!F277 -> 60 | G143: ='perkelas 7'!G277 -> 58 | H143: ='perkelas 7'!H277 -> 42 | I143: ='perkelas 7'!I277 -> 71 | ... O143: ='perkelas 7'!O277 -> 70 | P143: =SUM(E143:O143) -> 667 | Q143: =AVERAGE(E143:O143) -> 60.636364 | R143: =RANK(P143,$P$16:$P$236) -> 173
A144: 131 | B144: ='perkelas 7'!B278 -> 1818384129 | C144: ='perkelas 7'!C278 -> ALDI FERDIAN MAULANA | D144: ='perkelas 7'!D278 -> 7-E | E144: ='perkelas 7'!E278 -> 52 | F144: ='perkelas 7'!F278 -> 45 | G144: ='perkelas 7'!G278 -> 58 | H144: ='perkelas 7'!H278 -> 40 | I144: ='perkelas 7'!I278 -> 73 | ... O144: ='perkelas 7'!O278 -> 68 | P144: =SUM(E144:O144) -> 604 | Q144: =AVERAGE(E144:O144) -> 54.909091 | R144: =RANK(P144,$P$16:$P$236) -> 200
A145: 132 | B145: ='perkelas 7'!B279 -> 1818384130 | C145: ='perkelas 7'!C279 -> ALYA RAHMA TIARA | D145: ='perkelas 7'!D279 -> 7-E | E145: ='perkelas 7'!E279 -> 80 | F145: ='perkelas 7'!F279 -> 95 | G145: ='perkelas 7'!G279 -> 73 | H145: ='perkelas 7'!H279 -> 70 | I145: ='perkelas 7'!I279 -> 69 | ... O145: ='perkelas 7'!O279 -> 92 | P145: =SUM(E145:O145) -> 875 | Q145: =AVERAGE(E145:O145) -> 79.545455 | R145: =RANK(P145,$P$16:$P$236) -> 21
A146: 133 | B146: ='perkelas 7'!B280 -> 1818384131 | C146: ='perkelas 7'!C280 -> ANGGI SUSANTO | D146: ='perkelas 7'!D280 -> 7-E | E146: ='perkelas 7'!E280 -> 37 | F146: ='perkelas 7'!F280 -> 40 | G146: ='perkelas 7'!G280 -> 60 | H146: ='perkelas 7'!H280 -> 37 | I146: ='perkelas 7'!I280 -> 50 | ... O146: ='perkelas 7'!O280 -> 37 | P146: =SUM(E146:O146) -> 541 | Q146: =AVERAGE(E146:O146) -> 49.181818 | R146: =RANK(P146,$P$16:$P$236) -> 216
A147: 134 | B147: ='perkelas 7'!B281 -> 1818384132 | C147: ='perkelas 7'!C281 -> FADIATUS SABILA | D147: ='perkelas 7'!D281 -> 7-E | E147: ='perkelas 7'!E281 -> 93 | F147: ='perkelas 7'!F281 -> 82 | G147: ='perkelas 7'!G281 -> 75 | H147: ='perkelas 7'!H281 -> 60 | I147: ='perkelas 7'!I281 -> 73 | ... O147: ='perkelas 7'!O281 -> 85 | P147: =SUM(E147:O147) -> 830 | Q147: =AVERAGE(E147:O147) -> 75.454545 | R147: =RANK(P147,$P$16:$P$236) -> 44
A148: 135 | B148: ='perkelas 7'!B282 -> 1818384133 | C148: ='perkelas 7'!C282 -> FAINZATUL NAIMAH | D148: ='perkelas 7'!D282 -> 7-E | E148: ='perkelas 7'!E282 -> 63 | F148: ='perkelas 7'!F282 -> 70 | G148: ='perkelas 7'!G282 -> 72 | H148: ='perkelas 7'!H282 -> 60 | I148: ='perkelas 7'!I282 -> 70 | ... O148: ='perkelas 7'!O282 -> 77 | P148: =SUM(E148:O148) -> 763 | Q148: =AVERAGE(E148:O148) -> 69.363636 | R148: =RANK(P148,$P$16:$P$236) -> 104
A149: 136 | B149: ='perkelas 7'!B283 -> 1818384134 | C149: ='perkelas 7'!C283 -> FERI ANDIKA | D149: ='perkelas 7'!D283 -> 7-E | E149: ='perkelas 7'!E283 -> - | F149: ='perkelas 7'!F283 -> - | G149: ='perkelas 7'!G283 -> - | H149: ='perkelas 7'!H283 -> - | I149: ='perkelas 7'!I283 -> - | ... O149: ='perkelas 7'!O283 -> - | P149: =SUM(E149:O149) -> 0 | Q149: =AVERAGE(E149:O149) -> #DIV/0! | R149: =RANK(P149,$P$16:$P$236) -> 220
A150: 137 | B150: ='perkelas 7'!B284 -> 1818384135 | C150: ='perkelas 7'!C284 -> HERLINA | D150: ='perkelas 7'!D284 -> 7-E | E150: ='perkelas 7'!E284 -> 70 | F150: ='perkelas 7'!F284 -> 75 | G150: ='perkelas 7'!G284 -> 68 | H150: ='perkelas 7'!H284 -> 63 | I150: ='perkelas 7'!I284 -> 76 | ... O150: ='perkelas 7'!O284 -> 90 | P150: =SUM(E150:O150) -> 796 | Q150: =AVERAGE(E150:O150) -> 72.363636 | R150: =RANK(P150,$P$16:$P$236) -> 77
A151: 138 | B151: ='perkelas 7'!B285 -> 1818384136 | C151: ='perkelas 7'!C285 -> ISMI SHOLIKHATUN ADAWIYYA HAYATI | D151: ='perkelas 7'!D285 -> 7-E | E151: ='perkelas 7'!E285 -> 72 | F151: ='perkelas 7'!F285 -> 87 | G151: ='perkelas 7'!G285 -> 77 | H151: ='perkelas 7'!H285 -> 70 | I151: ='perkelas 7'!I285 -> 66 | ... O151: ='perkelas 7'!O285 -> 92 | P151: =SUM(E151:O151) -> 801 | Q151: =AVERAGE(E151:O151) -> 72.818182 | R151: =RANK(P151,$P$16:$P$236) -> 69
A152: 139 | B152: ='perkelas 7'!B286 -> 1818384137 | C152: ='perkelas 7'!C286 -> KIKI SAFIRA MAULIDA PUTRI | D152: ='perkelas 7'!D286 -> 7-E | E152: ='perkelas 7'!E286 -> 45 | F152: ='perkelas 7'!F286 -> 42 | G152: ='perkelas 7'!G286 -> 50 | H152: ='perkelas 7'!H286 -> 42 | I152: ='perkelas 7'!I286 -> 55 | ... O152: ='perkelas 7'!O286 -> 57 | P152: =SUM(E152:O152) -> 561 | Q152: =AVERAGE(E152:O152) -> 51 | R152: =RANK(P152,$P$16:$P$236) -> 215
A153: 140 | B153: ='perkelas 7'!B287 -> 1818384138 | C153: ='perkelas 7'!C287 -> M. AKHLIS THOIBBAL HAMAMY | D153: ='perkelas 7'!D287 -> 7-E | E153: ='perkelas 7'!E287 -> 58 | F153: ='perkelas 7'!F287 -> 49 | G153: ='perkelas 7'!G287 -> 60 | H153: ='perkelas 7'!H287 -> 32 | I153: ='perkelas 7'!I287 -> 54 | ... O153: ='perkelas 7'!O287 -> 62 | P153: =SUM(E153:O153) -> 602 | Q153: =AVERAGE(E153:O153) -> 54.727273 | R153: =RANK(P153,$P$16:$P$236) -> 202
... A173: 160 | B173: ='perkelas 7'!B307 -> 1818384158 | C173: ='perkelas 7'!C307 -> SYUKRON ANSHORI | D173: ='perkelas 7'!D307 -> 7-E | E173: ='perkelas 7'!E307 -> 63 | F173: ='perkelas 7'!F307 -> 73 | G173: ='perkelas 7'!G307 -> 67 | H173: ='perkelas 7'!H307 -> 38 | I173: ='perkelas 7'!I307 -> 60 | ... O173: ='perkelas 7'!O307 -> 85 | P173: =SUM(E173:O173) -> 709 | Q173: =AVERAGE(E173:O173) -> 64.454545 | R173: =RANK(P173,$P$16:$P$236) -> 147
A174: 161 | B174: ='perkelas 7'!B342 -> 1818384159 | C174: ='perkelas 7'!C342 -> AHMAD ILHAM KURNIAWAN | D174: ='perkelas 7'!D342 -> 7-F | E174: ='perkelas 7'!E342 -> 60 | F174: ='perkelas 7'!F342 -> 60 | G174: ='perkelas 7'!G342 -> 68 | H174: ='perkelas 7'!H342 -> 47 | I174: ='perkelas 7'!I342 -> 60 | ... O174: ='perkelas 7'!O342 -> 58 | P174: =SUM(E174:O174) -> 660 | Q174: =AVERAGE(E174:O174) -> 60 | R174: =RANK(P174,$P$16:$P$236) -> 178
A175: 162 | B175: ='perkelas 7'!B343 -> 1818384160 | C175: ='perkelas 7'!C343 -> AHMAD JULIYANTO | D175: ='perkelas 7'!D343 -> 7-F | E175: ='perkelas 7'!E343 -> 57 | F175: ='perkelas 7'!F343 -> 52 | G175: ='perkelas 7'!G343 -> 68 | H175: ='perkelas 7'!H343 -> 32 | I175: ='perkelas 7'!I343 -> 71 | ... O175: ='perkelas 7'!O343 -> 75 | P175: =SUM(E175:O175) -> 654 | Q175: =AVERAGE(E175:O175) -> 59.454545 | R175: =RANK(P175,$P$16:$P$236) -> 180
A176: 163 | B176: ='perkelas 7'!B344 -> 1818384161 | C176: ='perkelas 7'!C344 -> BAHAR KHAFI ALFAROBI | D176: ='perkelas 7'!D344 -> 7-F | E176: ='perkelas 7'!E344 -> 78 | F176: ='perkelas 7'!F344 -> 52 | G176: ='perkelas 7'!G344 -> 68 | H176: ='perkelas 7'!H344 -> 38 | I176: ='perkelas 7'!I344 -> 73 | ... O176: ='perkelas 7'!O344 -> 63 | P176: =SUM(E176:O176) -> 693 | Q176: =AVERAGE(E176:O176) -> 63 | R176: =RANK(P176,$P$16:$P$236) -> 160
A177: 164 | B177: ='perkelas 7'!B345 -> 1818384162 | C177: ='perkelas 7'!C345 -> DAVIN JUAN FARIDIANSYAH | D177: ='perkelas 7'!D345 -> 7-F | E177: ='perkelas 7'!E345 -> 58 | F177: ='perkelas 7'!F345 -> 59 | G177: ='perkelas 7'!G345 -> 70 | H177: ='perkelas 7'!H345 -> 40 | I177: ='perkelas 7'!I345 -> 59 | ... O177: ='perkelas 7'!O345 -> 68 | P177: =SUM(E177:O177) -> 650 | Q177: =AVERAGE(E177:O177) -> 59.090909 | R177: =RANK(P177,$P$16:$P$236) -> 183
A178: 165 | B178: ='perkelas 7'!B346 -> 1818384163 | C178: ='perkelas 7'!C346 -> DESI FADHILAH NINGRUM | D178: ='perkelas 7'!D346 -> 7-F | E178: ='perkelas 7'!E346 -> 53 | F178: ='perkelas 7'!F346 -> 45 | G178: ='perkelas 7'!G346 -> 67 | H178: ='perkelas 7'!H346 -> 48 | I178: ='perkelas 7'!I346 -> 59 | ... O178: ='perkelas 7'!O346 -> 55 | P178: =SUM(E178:O178) -> 637 | Q178: =AVERAGE(E178:O178) -> 57.909091 | R178: =RANK(P178,$P$16:$P$236) -> 188
...

Sheet 8
A1: PEMERINTAH KABUPATEN JEPARA
A2: DINAS PENDIDIKAN PEMUDA DAN OLAH RAGA
A3: UNIT PELAKSANA TEKNIS
A4: SMP NEGERI 1 WELAHAN
A5: Jl. Welahan Km. 22 Jepara ' ( 0291 ) 4256295 *59464
A6: E-mail : smpn1welahan@yahoo.co.id website : www. smpn1welahan.com
A9: LAPORAN NILAI MURNI ULANGAN/PENILAIAN TENGAH SEMESTER GENAP
A10: SMP NEGERI 1 WELAHAN
A11: TAHUN PELAJARAN 2017/2018
A13: NO | B13: NIS | C13: NAMA SISWA | D13: Kelas 8 | E13: Mata Pelajaran | P13: Jumlah | Q13: Rata - rata | R13: Peringkat
E14: PAI | F14: PKn | G14: B.Ind | H14: B.Ing | I14: MTK | J14: IPA | K14: IPS | L14: S. Bud | M14: Penjas | N14: B.JW | O14: PRAKAR
A15: KRITERIA KETUNTASAN MINIMAL (KKM) | E15: 75 | F15: 75 | G15: 75 | H15: 75 | I15: 75 | J15: 75 | K15: 75 | L15: 75 | M15: 75 | N15: 75 | O15: 75
A16: 1 | B16: ='perkelas 8'!B16 -> 17187518 | C16: ='perkelas 8'!C16 -> A. KHOIRUZZAD | D16: ='perkelas 8'!D16 -> 8-A | E16: ='perkelas 8'!E16 -> 82 | F16: ='perkelas 8'!F16 -> 82 | G16: ='perkelas 8'!G16 -> 83 | H16: ='perkelas 8'!H16 -> 67 | I16: ='perkelas 8'!I16 -> 64 | ... O16: ='perkelas 8'!O16 -> 93 | P16: =SUM(E16:O16) -> 848 | Q16: =AVERAGE(E16:O16) -> 77.090909 | R16: =RANK(P16,$P$16:$P$237) -> 50
A17: 2 | B17: ='perkelas 8'!B17 -> 17187520 | C17: ='perkelas 8'!C17 -> AHMAD FAIZ MUNA | D17: ='perkelas 8'!D17 -> 8-A | E17: ='perkelas 8'!E17 -> 90 | F17: ='perkelas 8'!F17 -> 75 | G17: ='perkelas 8'!G17 -> 88 | H17: ='perkelas 8'!H17 -> 78 | I17: ='perkelas 8'!I17 -> 70 | ... O17: ='perkelas 8'!O17 -> 93 | P17: =SUM(E17:O17) -> 887 | Q17: =AVERAGE(E17:O17) -> 80.636364 | R17: 24
A18: 3 | B18: ='perkelas 8'!B18 -> 17187521 | C18: ='perkelas 8'!C18 -> AKHMAD KUSIYANTO | D18: ='perkelas 8'!D18 -> 8-A | E18: ='perkelas 8'!E18 -> 82 | F18: ='perkelas 8'!F18 -> 72 | G18: ='perkelas 8'!G18 -> 72 | H18: ='perkelas 8'!H18 -> 57 | I18: ='perkelas 8'!I18 -> 58 | ... O18: ='perkelas 8'!O18 -> 92 | P18: =SUM(E18:O18) -> 798 | Q18: =AVERAGE(E18:O18) -> 72.545455 | R18: 81
A19: 4 | B19: ='perkelas 8'!B19 -> 17187650 | C19: ='perkelas 8'!C19 -> ANATASYA RUQOYATUL ULFIYAH | D19: ='perkelas 8'!D19 -> 8-A | E19: ='perkelas 8'!E19 -> 82 | F19: ='perkelas 8'!F19 -> 73 | G19: ='perkelas 8'!G19 -> 68 | H19: ='perkelas 8'!H19 -> 73 | I19: ='perkelas 8'!I19 -> 64 | ... O19: ='perkelas 8'!O19 -> 83 | P19: =SUM(E19:O19) -> 801 | Q19: =AVERAGE(E19:O19) -> 72.818182 | R19: 79
A20: 5 | B20: ='perkelas 8'!B20 -> 17187524 | C20: ='perkelas 8'!C20 -> ANNASYA NAELA RAMADHANI | D20: ='perkelas 8'!D20 -> 8-A | E20: ='perkelas 8'!E20 -> 90 | F20: ='perkelas 8'!F20 -> 82 | G20: ='perkelas 8'!G20 -> 85 | H20: ='perkelas 8'!H20 -> 77 | I20: ='perkelas 8'!I20 -> 64 | ... O20: ='perkelas 8'!O20 -> 92 | P20: =SUM(E20:O20) -> 888 | Q20: =AVERAGE(E20:O20) -> 80.727273 | R20: 23
A21: 6 | B21: ='perkelas 8'!B21 -> 17187555 | C21: ='perkelas 8'!C21 -> ARIEF RAHMAN HAKIM | D21: ='perkelas 8'!D21 -> 8-A | E21: ='perkelas 8'!E21 -> 87 | F21: ='perkelas 8'!F21 -> 79 | G21: ='perkelas 8'!G21 -> 85 | H21: ='perkelas 8'!H21 -> 62 | I21: ='perkelas 8'!I21 -> 46 | ... O21: ='perkelas 8'!O21 -> 92 | P21: =SUM(E21:O21) -> 857 | Q21: =AVERAGE(E21:O21) -> 77.909091 | R21: 45
A22: 7 | B22: ='perkelas 8'!B22 -> 17187655 | C22: ='perkelas 8'!C22 -> DEVY SALSABILA | D22: ='perkelas 8'!D22 -> 8-A | E22: ='perkelas 8'!E22 -> 93 | F22: ='perkelas 8'!F22 -> 90 | G22: ='perkelas 8'!G22 -> 85 | H22: ='perkelas 8'!H22 -> 78 | I22: ='perkelas 8'!I22 -> 88 | ... O22: ='perkelas 8'!O22 -> 97 | P22: =SUM(E22:O22) -> 930 | Q22: =AVERAGE(E22:O22) -> 84.545455 | R22: 7
A23: 8 | B23: ='perkelas 8'!B23 -> 17187591 | C23: ='perkelas 8'!C23 -> DWIKI ADITYA RABBANI | D23: ='perkelas 8'!D23 -> 8-A | E23: ='perkelas 8'!E23 -> 90 | F23: ='perkelas 8'!F23 -> 80 | G23: ='perkelas 8'!G23 -> 83 | H23: ='perkelas 8'!H23 -> 77 | I23: ='perkelas 8'!I23 -> 70 | ... O23: ='perkelas 8'!O23 -> 93 | P23: =SUM(E23:O23) -> 886 | Q23: =AVERAGE(E23:O23) -> 80.545455 | R23: 25
A24: 9 | B24: ='perkelas 8'!B24 -> 17187592 | C24: ='perkelas 8'!C24 -> EKA ARDELIA | D24: ='perkelas 8'!D24 -> 8-A | E24: ='perkelas 8'!E24 -> 90 | F24: ='perkelas 8'!F24 -> 77 | G24: ='perkelas 8'!G24 -> 85 | H24: ='perkelas 8'!H24 -> 91 | I24: ='perkelas 8'!I24 -> 64 | ... O24: ='perkelas 8'!O24 -> 85 | P24: =SUM(E24:O24) -> 873 | Q24: =AVERAGE(E24:O24) -> 79.363636 | R24: 36
A25: 10 | B25: ='perkelas 8'!B25 -> 17187619 | C25: ='perkelas 8'!C25 -> EKA NUR LAILA FITRIA | D25: ='perkelas 8'!D25 -> 8-A | E25: ='perkelas 8'!E25 -> 88 | F25: ='perkelas 8'!F25 -> 80 | G25: ='perkelas 8'!G25 -> 80 | H25: ='perkelas 8'!H25 -> 55 | I25: ='perkelas 8'!I25 -> 64 | ... O25: ='perkelas 8'!O25 -> 93 | P25: =SUM(E25:O25) -> 838 | Q25: =AVERAGE(E25:O25) -> 76.181818 | R25: 59
A26: 11 | B26: ='perkelas 8'!B26 -> 17187620 | C26: ='perkelas 8'!C26 -> ELINDA UMI KHASANAH | D26: ='perkelas 8'!D26 -> 8-A | E26: ='perkelas 8'!E26 -> 92 | F26: ='perkelas 8'!F26 -> 77 | G26: ='perkelas 8'!G26 -> 80 | H26: ='perkelas 8'!H26 -> 73 | I26: ='perkelas 8'!I26 -> 79 | ... O26: ='perkelas 8'!O26 -> 97 | P26: =SUM(E26:O26) -> 894 | Q26: =AVERAGE(E26:O26) -> 81.272727 | R26: 22
A27: 12 | B27: ='perkelas 8'!B27 -> 17187528 | C27: ='perkelas 8'!C27 -> EVA NOVIA FITRIANI | D27: ='perkelas 8'!D27 -> 8-A | E27: ='perkelas 8'!E27 -> 88 | F27: ='perkelas 8'!F27 -> 72 | G27: ='perkelas 8'!G27 -> 68 | H27: ='perkelas 8'!H27 -> 65 | I27: ='perkelas 8'!I27 -> 58 | ... O27: ='perkelas 8'!O27 -> 87 | P27: =SUM(E27:O27) -> 807 | Q27: =AVERAGE(E27:O27) -> 73.363636 | R27: 74
A28: 13 | B28: ='perkelas 8'!B28 -> 17187558 | C28: ='perkelas 8'!C28 -> FARIKHUL LAILI FITRIANI | D28: ='perkelas 8'!D28 -> 8-A | E28: ='perkelas 8'!E28 -> 97 | F28: ='perkelas 8'!F28 -> 82 | G28: ='perkelas 8'!G28 -> 85 | H28: ='perkelas 8'!H28 -> 87 | I28: ='perkelas 8'!I28 -> 82 | ... O28: ='perkelas 8'!O28 -> 97 | P28: =SUM(E28:O28) -> 965 | Q28: =AVERAGE(E28:O28) -> 87.727273 | R28: 4
... A47: 32 | B47: ='perkelas 8'!B47 -> 17187645 | C47: ='perkelas 8'!C47 -> ZANUBA ARIFAH AZZAHRA | D47: ='perkelas 8'!D47 -> 8-A | E47: ='perkelas 8'!E47 -> 78 | F47: ='perkelas 8'!F47 -> 89 | G47: ='perkelas 8'!G47 -> 88 | H47: ='perkelas 8'!H47 -> 60 | I47: ='perkelas 8'!I47 -> 79 | ... O47: ='perkelas 8'!O47 -> 93 | P47: =SUM(E47:O47) -> 850 | Q47: =AVERAGE(E47:O47) -> 77.272727 | R47: 48
A48: 33 | B48: ='perkelas 8'!B80 -> 17187743 | C48: ='perkelas 8'!C80 -> AHMAD PRAMBODO ADI SAPUTRO | D48: ='perkelas 8'!D80 -> 8-B | E48: ='perkelas 8'!E80 -> 48 | F48: ='perkelas 8'!F80 -> 63 | G48: ='perkelas 8'!G80 -> 60 | H48: ='perkelas 8'!H80 -> 37 | I48: ='perkelas 8'!I80 -> 43 | ... O48: ='perkelas 8'!O80 -> 60 | P48: =SUM(E48:O48) -> 606 | Q48: =AVERAGE(E48:O48) -> 55.090909 | R48: 211
A49: 34 | B49: ='perkelas 8'!B81 -> 17187553 | C49: ='perkelas 8'!C81 -> ALYA FEBI ANDRIANI | D49: ='perkelas 8'!D81 -> 8-B | E49: ='perkelas 8'!E81 -> 65 | F49: ='perkelas 8'!F81 -> 77 | G49: ='perkelas 8'!G81 -> 68 | H49: ='perkelas 8'!H81 -> 62 | I49: ='perkelas 8'!I81 -> 55 | ... O49: ='perkelas 8'!O81 -> 82 | P49: =SUM(E49:O49) -> 722 | Q49: =AVERAGE(E49:O49) -> 65.636364 | R49: 158
A50: 35 | B50: ='perkelas 8'!B82 -> 17187525 | C50: ='perkelas 8'!C82 -> ANNISA MEIDIANI | D50: ='perkelas 8'!D82 -> 8-B | E50: ='perkelas 8'!E82 -> 48 | F50: ='perkelas 8'!F82 -> 62 | G50: ='perkelas 8'!G82 -> 60 | H50: ='perkelas 8'!H82 -> 53 | I50: ='perkelas 8'!I82 -> 46 | ... O50: ='perkelas 8'!O82 -> 73 | P50: =SUM(E50:O50) -> 601 | Q50: =AVERAGE(E50:O50) -> 54.636364 | R50: 213
A51: 36 | B51: ='perkelas 8'!B83 -> 17187713 | C51: ='perkelas 8'!C83 -> ARYA FADLI NARENDRA | D51: ='perkelas 8'!D83 -> 8-B | E51: ='perkelas 8'!E83 -> 73 | F51: ='perkelas 8'!F83 -> 70 | G51: ='perkelas 8'!G83 -> 80 | H51: ='perkelas 8'!H83 -> 48 | I51: ='perkelas 8'!I83 -> 55 | ... O51: ='perkelas 8'!O83 -> 70 | P51: =SUM(E51:O51) -> 752 | Q51: =AVERAGE(E51:O51) -> 68.363636 | R51: 135
A52: 37 | B52: ='perkelas 8'!B84 -> 17187682 | C52: ='perkelas 8'!C84 -> AURIL ILHAM FAJAR | D52: ='perkelas 8'!D84 -> 8-B | E52: ='perkelas 8'!E84 -> 67 | F52: ='perkelas 8'!F84 -> 63 | G52: ='perkelas 8'!G84 -> 75 | H52: ='perkelas 8'!H84 -> 53 | I52: ='perkelas 8'!I84 -> 61 | ... O52: ='perkelas 8'!O84 -> 83 | P52: =SUM(E52:O52) -> 741 | Q52: =AVERAGE(E52:O52) -> 67.363636 | R52: 145
A53: 38 | B53: ='perkelas 8'!B85 -> 17187683 | C53: ='perkelas 8'!C85 -> DIAH IKA SETIYOWATI | D53: ='perkelas 8'!D85 -> 8-B | E53: ='perkelas 8'!E85 -> 63 | F53: ='perkelas 8'!F85 -> 85 | G53: ='perkelas 8'!G85 -> 73 | H53: ='perkelas 8'!H85 -> 57 | I53: ='perkelas 8'!I85 -> 49 | ... O53: ='perkelas 8'!O85 -> 77 | P53: =SUM(E53:O53) -> 755 | Q53: =AVERAGE(E53:O53) -> 68.636364 | R53: 129
A54: 39 | B54: ='perkelas 8'!B86 -> 17187588 | C54: ='perkelas 8'!C86 -> DIAJENG AYUNING TIAS | D54: ='perkelas 8'!D86 -> 8-B | E54: ='perkelas 8'!E86 -> 63 | F54: ='perkelas 8'!F86 -> 80 | G54: ='perkelas 8'!G86 -> 67 | H54: ='perkelas 8'!H86 -> 47 | I54: ='perkelas 8'!I86 -> 49 | ... O54: ='perkelas 8'!O86 -> 77 | P54: =SUM(E54:O54) -> 714 | Q54: =AVERAGE(E54:O54) -> 64.909091 | R54: 165
A55: 40 | B55: ='perkelas 8'!B87 -> 17187686 | C55: ='perkelas 8'!C87 -> DWI AYU SAFITRI | D55: ='perkelas 8'!D87 -> 8-B | E55: ='perkelas 8'!E87 -> 48 | F55: ='perkelas 8'!F87 -> 60 | G55: ='perkelas 8'!G87 -> 52 | H55: ='perkelas 8'!H87 -> 48 | I55: ='perkelas 8'!I87 -> 49 | ... O55: ='perkelas 8'!O87 -> 67 | P55: =SUM(E55:O55) -> 587 | Q55: =AVERAGE(E55:O55) -> 53.363636 | R55: 218
A56: 41 | B56: ='perkelas 8'!B88 -> 17187594 | C56: ='perkelas 8'!C88 -> ELISA AULIA SAFITRI | D56: ='perkelas 8'!D88 -> 8-B | E56: ='perkelas 8'!E88 -> 75 | F56: ='perkelas 8'!F88 -> 82 | G56: ='perkelas 8'!G88 -> 73 | H56: ='perkelas 8'!H88 -> 67 | I56: ='perkelas 8'!I88 -> 67 | ... O56: ='perkelas 8'!O88 -> 77 | P56: =SUM(E56:O56) -> 786 | Q56: =AVERAGE(E56:O56) -> 71.454545 | R56: 93
A57: 42 | B57: ='perkelas 8'!B89 -> 17187596 | C57: ='perkelas 8'!C89 -> ERLINA DWI FIRDAYANI | D57: ='perkelas 8'!D89 -> 8-B | E57: ='perkelas 8'!E89 -> 80 | F57: ='perkelas 8'!F89 -> 79 | G57: ='perkelas 8'!G89 -> 68 | H57: ='perkelas 8'!H89 -> 60 | I57: ='perkelas 8'!I89 -> 55 | ... O57: ='perkelas 8'!O89 -> 76 | P57: =SUM(E57:O57) -> 781 | Q57: =AVERAGE(E57:O57) -> 71 | R57: 99
A58: 43 | B58: ='perkelas 8'!B90 -> 17187742 | C58: ='perkelas 8'!C90 -> HANDIKA AYUHAN | D58: ='perkelas 8'!D90 -> 8-B | E58: ='perkelas 8'!E90 -> 73 | F58: ='perkelas 8'!F90 -> 72 | G58: ='perkelas 8'!G90 -> 67 | H58: ='perkelas 8'!H90 -> 45 | I58: ='perkelas 8'!I90 -> 43 | ... O58: ='perkelas 8'!O90 -> 77 | P58: =SUM(E58:O58) -> 713 | Q58: =AVERAGE(E58:O58) -> 64.818182 | R58: 166
A59: 44 | B59: ='perkelas 8'!B91 -> 17187624 | C59: ='perkelas 8'!C91 -> IKFINA AMALIA | D59: ='perkelas 8'!D91 -> 8-B | E59: ='perkelas 8'!E91 -> 73 | F59: ='perkelas 8'!F91 -> 70 | G59: ='perkelas 8'!G91 -> 63 | H59: ='perkelas 8'!H91 -> 50 | I59: ='perkelas 8'!I91 -> 49 | ... O59: ='perkelas 8'!O91 -> 77 | P59: =SUM(E59:O59) -> 713 | Q59: =AVERAGE(E59:O59) -> 64.818182 | R59: 166
... A79: 64 | B79: ='perkelas 8'!B111 -> 17187677 | C79: ='perkelas 8'!C111 -> ZAHRA MAYADA | D79: ='perkelas 8'!D111 -> 8-B | E79: ='perkelas 8'!E111 -> 77 | F79: ='perkelas 8'!F111 -> 77 | G79: ='perkelas 8'!G111 -> 72 | H79: ='perkelas 8'!H111 -> 58 | I79: ='perkelas 8'!I111 -> 43 | ... O79: ='perkelas 8'!O111 -> 83 | P79: =SUM(E79:O79) -> 771 | Q79: =AVERAGE(E79:O79) -> 70.090909 | R79: 109
A80: 65 | B80: ='perkelas 8'!B146 -> 17187647 | C80: ='perkelas 8'!C146 -> AHMAD FADLI | D80: ='perkelas 8'!D146 -> 8-C | E80: ='perkelas 8'!E146 -> 70 | F80: ='perkelas 8'!F146 -> 87 | G80: ='perkelas 8'!G146 -> 80 | H80: ='perkelas 8'!H146 -> 53 | I80: ='perkelas 8'!I146 -> 49 | ... O80: ='perkelas 8'!O146 -> 70 | P80: =SUM(E80:O80) -> 772 | Q80: =AVERAGE(E80:O80) -> 70.181818 | R80: 107
A81: 66 | B81: ='perkelas 8'!B147 -> 17187711 | C81: ='perkelas 8'!C147 -> AHNA ADITIO SAPUTRO | D81: ='perkelas 8'!D147 -> 8-C | E81: ='perkelas 8'!E147 -> 35 | F81: ='perkelas 8'!F147 -> 52 | G81: ='perkelas 8'!G147 -> 65 | H81: ='perkelas 8'!H147 -> 40 | I81: ='perkelas 8'!I147 -> 37 | ... O81: ='perkelas 8'!O147 -> 60 | P81: =SUM(E81:O81) -> 534 | Q81: =AVERAGE(E81:O81) -> 48.545455 | R81: 221
A82: 67 | B82: ='perkelas 8'!B148 -> 17187585 | C82: ='perkelas 8'!C148 -> AZFA HUWAIZA FATHANNAIL | D82: ='perkelas 8'!D148 -> 8-C | E82: ='perkelas 8'!E148 -> 65 | F82: ='perkelas 8'!F148 -> 63 | G82: ='perkelas 8'!G148 -> 77 | H82: ='perkelas 8'!H148 -> 45 | I82: ='perkelas 8'!I148 -> 52 | ... O82: ='perkelas 8'!O148 -> 70 | P82: =SUM(E82:O82) -> 686 | Q82: =AVERAGE(E82:O82) -> 62.363636 | R82: 184
A83: 68 | B83: ='perkelas 8'!B149 -> 17187586 | C83: ='perkelas 8'!C149 -> CANDRA DIKY PRATAMA | D83: ='perkelas 8'!D149 -> 8-C | E83: ='perkelas 8'!E149 -> 77 | F83: ='perkelas 8'!F149 -> 73 | G83: ='perkelas 8'!G149 -> 73 | H83: ='perkelas 8'!H149 -> 70 | I83: ='perkelas 8'!I149 -> 58 | ... O83: ='perkelas 8'!O149 -> 76 | P83: =SUM(E83:O83) -> 774 | Q83: =AVERAGE(E83:O83) -> 70.363636 | R83: 104
A84: 69 | B84: ='perkelas 8'!B150 -> 17187616 | C84: ='perkelas 8'!C150 -> DANIS ADINATA RAISSA | D84: ='perkelas 8'!D150 -> 8-C | E84: ='perkelas 8'!E150 -> 65 | F84: ='perkelas 8'!F150 -> 63 | G84: ='perkelas 8'!G150 -> 80 | H84: ='perkelas 8'!H150 -> 48 | I84: ='perkelas 8'!I150 -> 49 | ... O84: ='perkelas 8'!O150 -> 68 | P84: =SUM(E84:O84) -> 711 | Q84: =AVERAGE(E84:O84) -> 64.636364 | R84: 169
A85: 70 | B85: ='perkelas 8'!B151 -> 17187587 | C85: ='perkelas 8'!C151 -> DEDE RAKA BOBY SATRIA | D85: ='perkelas 8'!D151 -> 8-C | E85: ='perkelas 8'!E151 -> 62 | F85: ='perkelas 8'!F151 -> 73 | G85: ='perkelas 8'!G151 -> 78 | H85: ='perkelas 8'!H151 -> 58 | I85: ='perkelas 8'!I151 -> 55 | ... O85: ='perkelas 8'!O151 -> 67 | P85: =SUM(E85:O85) -> 729 | Q85: =AVERAGE(E85:O85) -> 66.272727 | R85: 153
A86: 71 | B86: ='perkelas 8'!B152 -> 17187715 | C86: ='perkelas 8'!C152 -> DELGA ARLINDA PUTRI | D86: ='perkelas 8'!D152 -> 8-C | E86: ='perkelas 8'!E152 -> 57 | F86: ='perkelas 8'!F152 -> 59 | G86: ='perkelas 8'!G152 -> 78 | H86: ='perkelas 8'!H152 -> 55 | I86: ='perkelas 8'!I152 -> 49 | ... O86: ='perkelas 8'!O152 -> 67 | P86: =SUM(E86:O86) -> 658 | Q86: =AVERAGE(E86:O86) -> 59.818182 | R86: 199
A87: 72 | B87: ='perkelas 8'!B153 -> 17187557 | C87: ='perkelas 8'!C153 -> DIANA MUSTIKA | D87: ='perkelas 8'!D153 -> 8-C | E87: ='perkelas 8'!E153 -> 82 | F87: ='perkelas 8'!F153 -> 69 | G87: ='perkelas 8'!G153 -> 75 | H87: ='perkelas 8'!H153 -> 58 | I87: ='perkelas 8'!I153 -> 52 | ... O87: ='perkelas 8'!O153 -> 72 | P87: =SUM(E87:O87) -> 715 | Q87: =AVERAGE(E87:O87) -> 65 | R87: 163
A88: 73 | B88: ='perkelas 8'!B154 -> 17187527 | C88: ='perkelas 8'!C154 -> DINA AULIA FERNANDA | D88: ='perkelas 8'!D154 -> 8-C | E88: ='perkelas 8'!E154 -> 83 | F88: ='perkelas 8'!F154 -> 92 | G88: ='perkelas 8'!G154 -> 77 | H88: ='perkelas 8'!H154 -> 70 | I88: ='perkelas 8'!I154 -> 67 | ... O88: ='perkelas 8'!O154 -> 83 | P88: =SUM(E88:O88) -> 878 | Q88: =AVERAGE(E88:O88) -> 79.818182 | R88: 32
A89: 74 | B89: ='perkelas 8'!B155 -> 17187717 | C89: ='perkelas 8'!C155 -> DYAZ ARYOSENO | D89: ='perkelas 8'!D155 -> 8-C | E89: ='perkelas 8'!E155 -> 72 | F89: ='perkelas 8'!F155 -> 65 | G89: ='perkelas 8'!G155 -> 75 | H89: ='perkelas 8'!H155 -> 55 | I89: ='perkelas 8'!I155 -> 49 | ... O89: ='perkelas 8'!O155 -> 73 | P89: =SUM(E89:O89) -> 686 | Q89: =AVERAGE(E89:O89) -> 62.363636 | R89: 184
A90: 75 | B90: ='perkelas 8'!B156 -> 17187718 | C90: ='perkelas 8'!C156 -> ELIA NUR JANAH | D90: ='perkelas 8'!D156 -> 8-C | E90: ='perkelas 8'!E156 -> 58 | F90: ='perkelas 8'!F156 -> 67 | G90: ='perkelas 8'!G156 -> 70 | H90: ='perkelas 8'!H156 -> 37 | I90: ='perkelas 8'!I156 -> 52 | ... O90: ='perkelas 8'!O156 -> 67 | P90: =SUM(E90:O90) -> 613 | Q90: =AVERAGE(E90:O90) -> 55.727273 | R90: 209
A91: 76 | B91: ='perkelas 8'!B157 -> 17187529 | C91: ='perkelas 8'!C157 -> FANI RAHMA PUTRI | D91: ='perkelas 8'!D157 -> 8-C | E91: ='perkelas 8'!E157 -> 70 | F91: ='perkelas 8'!F157 -> 55 | G91: ='perkelas 8'!G157 -> 77 | H91: ='perkelas 8'!H157 -> 48 | I91: ='perkelas 8'!I157 -> 52 | ... O91: ='perkelas 8'!O157 -> 67 | P91: =SUM(E91:O91) -> 663 | Q91: =AVERAGE(E91:O91) -> 60.272727 | R91: 197
... A111: 96 | B111: ='perkelas 8'!B177 -> 17187613 | C111: ='perkelas 8'!C177 -> ZALFAUL JANNAH | D111: ='perkelas 8'!D177 -> 8-C | E111: ='perkelas 8'!E177 -> 77 | F111: ='perkelas 8'!F177 -> 77 | G111: ='perkelas 8'!G177 -> 80 | H111: ='perkelas 8'!H177 -> 80 | I111: ='perkelas 8'!I177 -> 70 | ... O111: ='perkelas 8'!O177 -> 76 | P111: =SUM(E111:O111) -> 841 | Q111: =AVERAGE(E111:O111) -> 76.454545 | R111: 57
A112: 97 | B112: ='perkelas 8'!B212 -> 17187678 | C112: ='perkelas 8'!C212 -> ABDULLAH SALAM | D112: ='perkelas 8'!D212 -> 8-D | E112: ='perkelas 8'!E212 -> 67 | F112: ='perkelas 8'!F212 -> 79 | G112: ='perkelas 8'!G212 -> 75 | H112: ='perkelas 8'!H212 -> 63 | I112: ='perkelas 8'!I212 -> 58 | ... O112: ='perkelas 8'!O212 -> 77 | P112: =SUM(E112:O112) -> 713 | Q112: =AVERAGE(E112:O112) -> 64.818182 | R112: 166
A113: 98 | B113: ='perkelas 8'!B213 -> 17187583 | C113: ='perkelas 8'!C213 -> AFINDA DEA RAMADHANI | D113: ='perkelas 8'!D213 -> 8-D | E113: ='perkelas 8'!E213 -> 70 | F113: ='perkelas 8'!F213 -> 69 | G113: ='perkelas 8'!G213 -> 78 | H113: ='perkelas 8'!H213 -> 58 | I113: ='perkelas 8'!I213 -> 62 | ... O113: ='perkelas 8'!O213 -> 78 | P113: =SUM(E113:O113) -> 764 | Q113: =AVERAGE(E113:O113) -> 69.454545 | R113: 119
A114: 99 | B114: ='perkelas 8'!B214 -> 17187550 | C114: ='perkelas 8'!C214 -> AGUS SETIAWAN | D114: ='perkelas 8'!D214 -> 8-D | E114: ='perkelas 8'!E214 -> 72 | F114: ='perkelas 8'!F214 -> 79 | G114: ='perkelas 8'!G214 -> 82 | H114: ='perkelas 8'!H214 -> 65 | I114: ='perkelas 8'!I214 -> 57 | ... O114: ='perkelas 8'!O214 -> 73 | P114: =SUM(E114:O114) -> 739 | Q114: =AVERAGE(E114:O114) -> 67.181818 | R114: 147
A115: 100 | B115: ='perkelas 8'!B215 -> 17187646 | C115: ='perkelas 8'!C215 -> AHMAD BAGUS SETIAWAN | D115: ='perkelas 8'!D215 -> 8-D | E115: ='perkelas 8'!E215 -> 70 | F115: ='perkelas 8'!F215 -> 80 | G115: ='perkelas 8'!G215 -> 80 | H115: ='perkelas 8'!H215 -> 65 | I115: ='perkelas 8'!I215 -> 48 | ... O115: ='perkelas 8'!O215 -> 68 | P115: =SUM(E115:O115) -> 744 | Q115: =AVERAGE(E115:O115) -> 67.636364 | R115: 143
A116: 101 | B116: ='perkelas 8'!B216 -> 17187649 | C116: ='perkelas 8'!C216 -> ANA PUJIATI | D116: ='perkelas 8'!D216 -> 8-D | E116: ='perkelas 8'!E216 -> 83 | F116: ='perkelas 8'!F216 -> 80 | G116: ='perkelas 8'!G216 -> 78 | H116: ='perkelas 8'!H216 -> 50 | I116: ='perkelas 8'!I216 -> 60 | ... O116: ='perkelas 8'!O216 -> 77 | P116: =SUM(E116:O116) -> 761 | Q116: =AVERAGE(E116:O116) -> 69.181818 | R116: 121
A117: 102 | B117: ='perkelas 8'!B217 -> 17187523 | C117: ='perkelas 8'!C217 -> ANISSATUN NAZIHAH | D117: ='perkelas 8'!D217 -> 8-D | E117: ='perkelas 8'!E217 -> 45 | F117: ='perkelas 8'!F217 -> 49 | G117: ='perkelas 8'!G217 -> 63 | H117: ='perkelas 8'!H217 -> 35 | I117: ='perkelas 8'!I217 -> 62 | ... O117: ='perkelas 8'!O217 -> 72 | P117: =SUM(E117:O117) -> 585 | Q117: =AVERAGE(E117:O117) -> 53.181818 | R117: 220
A118: 103 | B118: ='perkelas 8'!B218 -> 17187714 | C118: ='perkelas 8'!C218 -> AZZAHRA MEIRIA PUTRI WIRANTO | D118: ='perkelas 8'!D218 -> 8-D | E118: ='perkelas 8'!E218 -> 60 | F118: ='perkelas 8'!F218 -> 59 | G118: ='perkelas 8'!G218 -> 73 | H118: ='perkelas 8'!H218 -> 55 | I118: ='perkelas 8'!I218 -> 76 | ... O118: ='perkelas 8'!O218 -> 77 | P118: =SUM(E118:O118) -> 715 | Q118: =AVERAGE(E118:O118) -> 65 | R118: 163
A119: 104 | B119: ='perkelas 8'!B219 -> 17187654 | C119: ='perkelas 8'!C219 -> BURHANNUDIN | D119: ='perkelas 8'!D219 -> 8-D | E119: ='perkelas 8'!E219 -> 63 | F119: ='perkelas 8'!F219 -> 79 | G119: ='perkelas 8'!G219 -> 80 | H119: ='perkelas 8'!H219 -> 65 | I119: ='perkelas 8'!I219 -> 51 | ... O119: ='perkelas 8'!O219 -> 70 | P119: =SUM(E119:O119) -> 691 | Q119: =AVERAGE(E119:O119) -> 62.818182 | R119: 182
A120: 105 | B120: ='perkelas 8'!B220 -> 17187618 | C120: ='perkelas 8'!C220 -> DIKA GALANG SATRIYA | D120: ='perkelas 8'!D220 -> 8-D | E120: ='perkelas 8'!E220 -> 73 | F120: ='perkelas 8'!F220 -> 82 | G120: ='perkelas 8'!G220 -> 83 | H120: ='perkelas 8'!H220 -> 55 | I120: ='perkelas 8'!I220 -> 67 | ... O120: ='perkelas 8'!O220 -> 76 | P120: =SUM(E120:O120) -> 792 | Q120: =AVERAGE(E120:O120) -> 72 | R120: 87
A121: 106 | B121: ='perkelas 8'!B221 -> 17187597 | C121: ='perkelas 8'!C221 -> EVA INAYATUS SA'ADAH | D121: ='perkelas 8'!D221 -> 8-D | E121: ='perkelas 8'!E221 -> 77 | F121: ='perkelas 8'!F221 -> 80 | G121: ='perkelas 8'!G221 -> 77 | H121: ='perkelas 8'!H221 -> 65 | I121: ='perkelas 8'!I221 -> 65 | ... O121: ='perkelas 8'!O221 -> 70 | P121: =SUM(E121:O121) -> 756 | Q121: =AVERAGE(E121:O121) -> 68.727273 | R121: 127
A122: 107 | B122: ='perkelas 8'!B222 -> 17187623 | C122: ='perkelas 8'!C222 -> FITRI LAELA ZALFA | D122: ='perkelas 8'!D222 -> 8-D | E122: ='perkelas 8'!E222 -> 73 | F122: ='perkelas 8'!F222 -> 72 | G122: ='perkelas 8'!G222 -> 77 | H122: ='perkelas 8'!H222 -> 58 | I122: ='perkelas 8'!I222 -> 69 | ... O122: ='perkelas 8'!O222 -> 76 | P122: =SUM(E122:O122) -> 770 | Q122: =AVERAGE(E122:O122) -> 70 | R122: 113
A123: 108 | B123: ='perkelas 8'!B223 -> 17187625 | C123: ='perkelas 8'!C223 -> INDAH NOR SAFITRI | D123: ='perkelas 8'!D223 -> 8-D | E123: ='perkelas 8'!E223 -> 82 | F123: ='perkelas 8'!F223 -> 80 | G123: ='perkelas 8'!G223 -> 77 | H123: ='perkelas 8'!H223 -> 70 | I123: ='perkelas 8'!I223 -> 65 | ... O123: ='perkelas 8'!O223 -> 88 | P123: =SUM(E123:O123) -> 805 | Q123: =AVERAGE(E123:O123) -> 73.181818 | R123: 75
... A143: 128 | B143: ='perkelas 8'!B243 -> 17187676 | C143: ='perkelas 8'!C243 -> TIWI DANINGRUM | D143: ='perkelas 8'!D243 -> 8-D | E143: ='perkelas 8'!E243 -> 60 | F143: ='perkelas 8'!F243 -> 60 | G143: ='perkelas 8'!G243 -> 63 | H143: ='perkelas 8'!H243 -> 48 | I143: ='perkelas 8'!I243 -> 53 | ... O143: ='perkelas 8'!O243 -> 63 | P143: =SUM(E143:O143) -> 638 | Q143: =AVERAGE(E143:O143) -> 58 | R143: 203
A144: 129 | B144: ='perkelas 8'!B277 -> 17187584 | C144: ='perkelas 8'!C277 -> AHMAD FAID MUZAKKI | D144: ='perkelas 8'!D277 -> 8-E | E144: ='perkelas 8'!E277 -> 48 | F144: ='perkelas 8'!F277 -> 62 | G144: ='perkelas 8'!G277 -> 68 | H144: ='perkelas 8'!H277 -> 42 | I144: ='perkelas 8'!I277 -> 55 | ... O144: ='perkelas 8'!O277 -> 67 | P144: =SUM(E144:O144) -> 591 | Q144: =AVERAGE(E144:O144) -> 53.727273 | R144: 217
A145: 130 | B145: ='perkelas 8'!B278 -> 17187522 | C145: ='perkelas 8'!C278 -> ALI KHAKIM NIZZAMI | D145: ='perkelas 8'!D278 -> 8-E | E145: ='perkelas 8'!E278 -> 45 | F145: ='perkelas 8'!F278 -> 72 | G145: ='perkelas 8'!G278 -> 62 | H145: ='perkelas 8'!H278 -> 40 | I145: ='perkelas 8'!I278 -> 57 | ... O145: ='perkelas 8'!O278 -> 72 | P145: =SUM(E145:O145) -> 619 | Q145: =AVERAGE(E145:O145) -> 56.272727 | R145: =RANK(P145,$P$16:$P$237) -> 208
A146: 131 | B146: ='perkelas 8'!B279 -> 17187554 | C146: ='perkelas 8'!C279 -> AMANDA VERANIA | D146: ='perkelas 8'!D279 -> 8-E | E146: ='perkelas 8'!E279 -> 77 | F146: ='perkelas 8'!F279 -> 82 | G146: ='perkelas 8'!G279 -> 75 | H146: ='perkelas 8'!H279 -> 62 | I146: ='perkelas 8'!I279 -> 57 | ... O146: ='perkelas 8'!O279 -> 82 | P146: =SUM(E146:O146) -> 784 | Q146: =AVERAGE(E146:O146) -> 71.272727 | R146: =RANK(P146,$P$16:$P$237) -> 94
A147: 132 | B147: ='perkelas 8'!B280 -> 17187712 | C147: ='perkelas 8'!C280 -> ANISA DWIYANTI | D147: ='perkelas 8'!D280 -> 8-E | E147: ='perkelas 8'!E280 -> 80 | F147: ='perkelas 8'!F280 -> 75 | G147: ='perkelas 8'!G280 -> 87 | H147: ='perkelas 8'!H280 -> 67 | I147: ='perkelas 8'!I280 -> 62 | ... O147: ='perkelas 8'!O280 -> 93 | P147: =SUM(E147:O147) -> 816 | Q147: =AVERAGE(E147:O147) -> 74.181818 | R147: =RANK(P147,$P$16:$P$237) -> 70
A148: 133 | B148: ='perkelas 8'!B281 -> 17187526 | C148: ='perkelas 8'!C281 -> AYUK WULAN SARI | D148: ='perkelas 8'!D281 -> 8-E | E148: ='perkelas 8'!E281 -> 72 | F148: ='perkelas 8'!F281 -> 74 | G148: ='perkelas 8'!G281 -> 73 | H148: ='perkelas 8'!H281 -> 53 | I148: ='perkelas 8'!I281 -> 62 | ... O148: ='perkelas 8'!O281 -> 87 | P148: =SUM(E148:O148) -> 787 | Q148: =AVERAGE(E148:O148) -> 71.545455 | R148: =RANK(P148,$P$16:$P$237) -> 91
A149: 134 | B149: ='perkelas 8'!B282 -> 17187617 | C149: ='perkelas 8'!C282 -> DARA WAHYUNI | D149: ='perkelas 8'!D282 -> 8-E | E149: ='perkelas 8'!E282 -> 83 | F149: ='perkelas 8'!F282 -> 75 | G149: ='perkelas 8'!G282 -> 72 | H149: ='perkelas 8'!H282 -> 55 | I149: ='perkelas 8'!I282 -> 55 | ... O149: ='perkelas 8'!O282 -> 76 | P149: =SUM(E149:O149) -> 770 | Q149: =AVERAGE(E149:O149) -> 70 | R149: =RANK(P149,$P$16:$P$237) -> 113
A150: 135 | B150: ='perkelas 8'!B283 -> 17187589 | C150: ='perkelas 8'!C283 -> DIANA DAMAYANTI | D150: ='perkelas 8'!D283 -> 8-E | E150: ='perkelas 8'!E283 -> 62 | F150: ='perkelas 8'!F283 -> 75 | G150: ='perkelas 8'!G283 -> 70 | H150: ='perkelas 8'!H283 -> 55 | I150: ='perkelas 8'!I283 -> 52 | ... O150: ='perkelas 8'!O283 -> 85 | P150: =SUM(E150:O150) -> 717 | Q150: =AVERAGE(E150:O150) -> 65.181818 | R150: =RANK(P150,$P$16:$P$237) -> 162
A151: 136 | B151: ='perkelas 8'!B284 -> 17187684 | C151: ='perkelas 8'!C284 -> DIANA INDAH INDRASWATI | D151: ='perkelas 8'!D284 -> 8-E | E151: ='perkelas 8'!E284 -> 72 | F151: ='perkelas 8'!F284 -> 65 | G151: ='perkelas 8'!G284 -> 73 | H151: ='perkelas 8'!H284 -> 62 | I151: ='perkelas 8'!I284 -> 55 | ... O151: ='perkelas 8'!O284 -> 82 | P151: =SUM(E151:O151) -> 754 | Q151: =AVERAGE(E151:O151) -> 68.545455 | R151: =RANK(P151,$P$16:$P$237) -> 132
A152: 137 | B152: ='perkelas 8'!B285 -> 17187716 | C152: ='perkelas 8'!C285 -> DWI SITA AMELIA | D152: ='perkelas 8'!D285 -> 8-E | E152: ='perkelas 8'!E285 -> 58 | F152: ='perkelas 8'!F285 -> 70 | G152: ='perkelas 8'!G285 -> 72 | H152: ='perkelas 8'!H285 -> 52 | I152: ='perkelas 8'!I285 -> 54 | ... O152: ='perkelas 8'!O285 -> 83 | P152: =SUM(E152:O152) -> 687 | Q152: =AVERAGE(E152:O152) -> 62.454545 | R152: =RANK(P152,$P$16:$P$237) -> 183
A153: 138 | B153: ='perkelas 8'!B286 -> 17187688 | C153: ='perkelas 8'!C286 -> FIRMAN ILHAM DANI | D153: ='perkelas 8'!D286 -> 8-E | E153: ='perkelas 8'!E286 -> 83 | F153: ='perkelas 8'!F286 -> 75 | G153: ='perkelas 8'!G286 -> 73 | H153: ='perkelas 8'!H286 -> 72 | I153: ='perkelas 8'!I286 -> 60 | ... O153: ='perkelas 8'!O286 -> 76 | P153: =SUM(E153:O153) -> 784 | Q153: =AVERAGE(E153:O153) -> 71.272727 | R153: =RANK(P153,$P$16:$P$237) -> 94
A154: 139 | B154: ='perkelas 8'!B287 -> 17187598 | C154: ='perkelas 8'!C287 -> HIZAM AZIZI | D154: ='perkelas 8'!D287 -> 8-E | E154: ='perkelas 8'!E287 -> 85 | F154: ='perkelas 8'!F287 -> 84 | G154: ='perkelas 8'!G287 -> 82 | H154: ='perkelas 8'!H287 -> 80 | I154: ='perkelas 8'!I287 -> 56 | ... O154: ='perkelas 8'!O287 -> 80 | P154: =SUM(E154:O154) -> 811 | Q154: =AVERAGE(E154:O154) -> 73.727273 | R154: =RANK(P154,$P$16:$P$237) -> 73
A155: 140 | B155: ='perkelas 8'!B288 -> 17187689 | C155: ='perkelas 8'!C288 -> ILHAM HAKIM MAULANA | D155: ='perkelas 8'!D288 -> 8-E | E155: ='perkelas 8'!E288 -> 73 | F155: ='perkelas 8'!F288 -> 75 | G155: ='perkelas 8'!G288 -> 82 | H155: ='perkelas 8'!H288 -> 72 | I155: ='perkelas 8'!I288 -> 54 | ... O155: ='perkelas 8'!O288 -> 76 | P155: =SUM(E155:O155) -> 771 | Q155: =AVERAGE(E155:O155) -> 70.090909 | R155: =RANK(P155,$P$16:$P$237) -> 109
A156: 141 | B156: ='perkelas 8'!B289 -> 17187564 | C156: ='perkelas 8'!C289 -> MIA AMELIA | D156: ='perkelas 8'!D289 -> 8-E | E156: ='perkelas 8'!E289 -> 85 | F156: ='perkelas 8'!F289 -> 89 | G156: ='perkelas 8'!G289 -> 78 | H156: ='perkelas 8'!H289 -> 63 | I156: ='perkelas 8'!I289 -> 67 | ... O156: ='perkelas 8'!O289 -> 82 | P156: =SUM(E156:O156) -> 825 | Q156: =AVERAGE(E156:O156) -> 75 | R156: =RANK(P156,$P$16:$P$237) -> 66
... A173: 158 | B173: ='perkelas 8'!B306 -> 17187612 | C173: ='perkelas 8'!C306 -> ZAHWA ALIFIA HUSNA | D173: ='perkelas 8'!D306 -> 8-E | E173: ='perkelas 8'!E306 -> 78 | F173: ='perkelas 8'!F306 -> 80 | G173: ='perkelas 8'!G306 -> 72 | H173: ='perkelas 8'!H306 -> 77 | I173: ='perkelas 8'!I306 -> 73 | ... O173: ='perkelas 8'!O306 -> 87 | P173: =SUM(E173:O173) -> 799 | Q173: =AVERAGE(E173:O173) -> 72.636364 | R173: =RANK(P173,$P$16:$P$237) -> 80
A174: 159 | B174: ='perkelas 8'!B341 -> 17187552 | C174: ='perkelas 8'!C341 -> AHMAD FUAD MUSOFFA | D174: ='perkelas 8'!D341 -> 8-F | E174: ='perkelas 8'!E341 -> 47 | F174: ='perkelas 8'!F341 -> 50 | G174: ='perkelas 8'!G341 -> 30 | H174: ='perkelas 8'!H341 -> 20 | I174: ='perkelas 8'!I341 -> 48 | ... O174: ='perkelas 8'!O341 -> 68 | P174: =SUM(E174:O174) -> 513 | Q174: =AVERAGE(E174:O174) -> 46.636364 | R174: =RANK(P174,$P$16:$P$237) -> 222
A175: 160 | B175: ='perkelas 8'!B342 -> 17187648 | C175: ='perkelas 8'!C342 -> AHMAD SYARIFUDDIN | D175: ='perkelas 8'!D342 -> 8-F | E175: ='perkelas 8'!E342 -> 73 | F175: ='perkelas 8'!F342 -> 77 | G175: ='perkelas 8'!G342 -> 65 | H175: ='perkelas 8'!H342 -> 52 | I175: ='perkelas 8'!I342 -> 46 | ... O175: ='perkelas 8'!O342 -> 78 | P175: =SUM(E175:O175) -> 724 | Q175: =AVERAGE(E175:O175) -> 65.818182 | R175: =RANK(P175,$P$16:$P$237) -> 156
A176: 161 | B176: ='perkelas 8'!B343 -> 17187679 | C176: ='perkelas 8'!C343 -> AHMAD WILDAN IDROKUN NAJA | D176: ='perkelas 8'!D343 -> 8-F | E176: ='perkelas 8'!E343 -> 58 | F176: ='perkelas 8'!F343 -> 67 | G176: ='perkelas 8'!G343 -> 63 | H176: ='perkelas 8'!H343 -> 47 | I176: ='perkelas 8'!I343 -> 56 | ... O176: ='perkelas 8'!O343 -> 77 | P176: =SUM(E176:O176) -> 693 | Q176: =AVERAGE(E176:O176) -> 63 | R176: =RANK(P176,$P$16:$P$237) -> 180
A177: 162 | B177: ='perkelas 8'!B344 -> 17187681 | C177: ='perkelas 8'!C344 -> ATIYA YUMNA | D177: ='perkelas 8'!D344 -> 8-F | E177: ='perkelas 8'!E344 -> 75 | F177: ='perkelas 8'!F344 -> 75 | G177: ='perkelas 8'!G344 -> 65 | H177: ='perkelas 8'!H344 -> 40 | I177: ='perkelas 8'!I344 -> 67 | ... O177: ='perkelas 8'!O344 -> 76 | P177: =SUM(E177:O177) -> 664 | Q177: =AVERAGE(E177:O177) -> 60.363636 | R177: =RANK(P177,$P$16:$P$237) -> 194
A178: 163 | B178: ='perkelas 8'!B345 -> 17187615 | C178: ='perkelas 8'!C345 -> CANDRA WICAKSONO | D178: ='perkelas 8'!D345 -> 8-F | E178: ='perkelas 8'!E345 -> 42 | F178: ='perkelas 8'!F345 -> 50 | G178: ='perkelas 8'!G345 -> 52 | H178: ='perkelas 8'!H345 -> 37 | I178: ='perkelas 8'!I345 -> 57 | ... O178: ='perkelas 8'!O345 -> 67 | P178: =SUM(E178:O178) -> 586 | Q178: =AVERAGE(E178:O178) -> 53.272727 | R178: =RANK(P178,$P$16:$P$237) -> 219
A179: 164 | B179: ='perkelas 8'!B346 -> 17187556 | C179: ='perkelas 8'!C346 -> DESY AIZZATUN NUFUS | D179: ='perkelas 8'!D346 -> 8-F | E179: ='perkelas 8'!E346 -> 60 | F179: ='perkelas 8'!F346 -> 75 | G179: ='perkelas 8'!G346 -> 53 | H179: ='perkelas 8'!H346 -> 35 | I179: ='perkelas 8'!I346 -> 52 | ... O179: ='perkelas 8'!O346 -> 82 | P179: =SUM(E179:O179) -> 697 | Q179: =AVERAGE(E179:O179) -> 63.363636 | R179: =RANK(P179,$P$16:$P$237) -> 177
A180: 165 | B180: ='perkelas 8'!B347 -> 17187656 | C180: ='perkelas 8'!C347 -> DEWI MAEMANAH | D180: ='perkelas 8'!D347 -> 8-F | E180: ='perkelas 8'!E347 -> 58 | F180: ='perkelas 8'!F347 -> 70 | G180: ='perkelas 8'!G347 -> 63 | H180: ='perkelas 8'!H347 -> 38 | I180: ='perkelas 8'!I347 -> 58 | ... O180: ='perkelas 8'!O347 -> 76 | P180: =SUM(E180:O180) -> 692 | Q180: =AVERAGE(E180:O180) -> 62.909091 | R180: =RANK(P180,$P$16:$P$237) -> 181
A181: 166 | B181: ='perkelas 8'!B348 -> 17187685 | C181: ='perkelas 8'!C348 -> DIKA BAYU SETIAWAN | D181: ='perkelas 8'!D348 -> 8-F | E181: ='perkelas 8'!E348 -> 52 | F181: ='perkelas 8'!F348 -> 72 | G181: ='perkelas 8'!G348 -> 65 | H181: ='perkelas 8'!H348 -> 33 | I181: ='perkelas 8'!I348 -> 55 | ... O181: ='perkelas 8'!O348 -> 67 | P181: =SUM(E181:O181) -> 633 | Q181: =AVERAGE(E181:O181) -> 57.545455 | R181: =RANK(P181,$P$16:$P$237) -> 205
A182: 167 | B182: ='perkelas 8'!B349 -> 17187595 | C182: ='perkelas 8'!C349 -> ERIX SEPTIAN | D182: ='perkelas 8'!D349 -> 8-F | E182: ='perkelas 8'!E349 -> 48 | F182: ='perkelas 8'!F349 -> 54 | G182: ='perkelas 8'!G349 -> 50 | H182: ='perkelas 8'!H349 -> 32 | I182: ='perkelas 8'!I349 -> 57 | ... O182: ='perkelas 8'!O349 -> 67 | P182: =SUM(E182:O182) -> 595 | Q182: =AVERAGE(E182:O182) -> 54.090909 | R182: =RANK(P182,$P$16:$P$237) -> 216
A183: 168 | B183: ='perkelas 8'!B350 -> 17187621 | C183: ='perkelas 8'!C350 -> EVA KAMELIA | D183: ='perkelas 8'!D350 -> 8-F | E183: ='perkelas 8'!E350 -> 75 | F183: ='perkelas 8'!F350 -> 69 | G183: ='perkelas 8'!G350 -> 65 | H183: ='perkelas 8'!H350 -> 38 | I183: ='perkelas 8'!I350 -> 57 | ... O183: ='perkelas 8'!O350 -> 90 | P183: =SUM(E183:O183) -> 741 | Q183: =AVERAGE(E183:O183) -> 67.363636 | R183: =RANK(P183,$P$16:$P$237) -> 145
A184: 169 | B184: ='perkelas 8'!B351 -> 17187687 | C184: ='perkelas 8'!C351 -> FANHAS ANDIKA HERMAWAN | D184: ='perkelas 8'!D351 -> 8-F | E184: ='perkelas 8'!E351 -> 72 | F184: ='perkelas 8'!F351 -> 77 | G184: ='perkelas 8'!G351 -> 72 | H184: ='perkelas 8'!H351 -> 58 | I184: ='perkelas 8'!I351 -> 61 | ... O184: ='perkelas 8'!O351 -> 77 | P184: =SUM(E184:O184) -> 795 | Q184: =AVERAGE(E184:O184) -> 72.272727 | R184: =RANK(P184,$P$16:$P$237) -> 83
A185: 170 | B185: ='perkelas 8'!B352 -> 17187719 | C185: ='perkelas 8'!C352 -> FANNY AINUL AZHAR | D185: ='perkelas 8'!D352 -> 8-F | E185: ='perkelas 8'!E352 -> 62 | F185: ='perkelas 8'!F352 -> 77 | G185: ='perkelas 8'!G352 -> 60 | H185: ='perkelas 8'!H352 -> 37 | I185: ='perkelas 8'!I352 -> 52 | ... O185: ='perkelas 8'!O352 -> 76 | P185: =SUM(E185:O185) -> 676 | Q185: =AVERAGE(E185:O185) -> 61.454545 | R185: =RANK(P185,$P$16:$P$237) -> 191
... A205: 190 | B205: ='perkelas 8'!B372 -> 17187707 | C205: ='perkelas 8'!C372 -> SANIA LATIFAH | D205: ='perkelas 8'!D372 -> 8-F | E205: ='perkelas 8'!E372 -> 75 | F205: ='perkelas 8'!F372 -> 69 | G205: ='perkelas 8'!G372 -> 75 | H205: ='perkelas 8'!H372 -> 42 | I205: ='perkelas 8'!I372 -> 55 | ... O205: ='perkelas 8'!O372 -> 87 | P205: =SUM(E205:O205) -> 768 | Q205: =AVERAGE(E205:O205) -> 69.818182 | R205: =RANK(P205,$P$16:$P$237) -> 115
A206: 191 | B206: ='perkelas 8'!B406 -> 17187519 | C206: ='perkelas 8'!C406 -> ADELIA RAHMAWATI | D206: ='perkelas 8'!D406 -> 8-G | E206: ='perkelas 8'!E406 -> 87 | F206: ='perkelas 8'!F406 -> 85 | G206: ='perkelas 8'!G406 -> 82 | H206: ='perkelas 8'!H406 -> 87 | I206: ='perkelas 8'!I406 -> 86 | ... O206: ='perkelas 8'!O406 -> 95 | P206: =SUM(E206:O206) -> 969 | Q206: =AVERAGE(E206:O206) -> 88.090909 | R206: =RANK(P206,$P$16:$P$237) -> 4
A207: 192 | B207: ='perkelas 8'!B407 -> 17187582 | C207: ='perkelas 8'!C407 -> ADITYA AHNAF GHANI | D207: ='perkelas 8'!D407 -> 8-G | E207: ='perkelas 8'!E407 -> 87 | F207: ='perkelas 8'!F407 -> 80 | G207: ='perkelas 8'!G407 -> 78 | H207: ='perkelas 8'!H407 -> 67 | I207: ='perkelas 8'!I407 -> 81 | ... O207: ='perkelas 8'!O407 -> 88 | P207: =SUM(E207:O207) -> 896 | Q207: =AVERAGE(E207:O207) -> 81.454545 | R207: =RANK(P207,$P$16:$P$237) -> 22
A208: 193 | B208: ='perkelas 8'!B408 -> 17187551 | C208: ='perkelas 8'!C408 -> AHMAD FAUZI ASHSHIDDIQI | D208: ='perkelas 8'!D408 -> 8-G | E208: ='perkelas 8'!E408 -> 75 | F208: ='perkelas 8'!F408 -> 77 | G208: ='perkelas 8'!G408 -> 78 | H208: ='perkelas 8'!H408 -> 70 | I208: ='perkelas 8'!I408 -> 85 | ... O208: ='perkelas 8'!O408 -> 88 | P208: =SUM(E208:O208) -> 875 | Q208: =AVERAGE(E208:O208) -> 79.545455 | R208: =RANK(P208,$P$16:$P$237) -> 35
A209: 194 | B209: ='perkelas 8'!B409 -> 17187710 | C209: ='perkelas 8'!C409 -> AHMAD SAEK | D209: ='perkelas 8'!D409 -> 8-G | E209: ='perkelas 8'!E409 -> 78 | F209: ='perkelas 8'!F409 -> 82 | G209: ='perkelas 8'!G409 -> 72 | H209: ='perkelas 8'!H409 -> 67 | I209: ='perkelas 8'!I409 -> 72 | ... O209: ='perkelas 8'!O409 -> 88 | P209: =SUM(E209:O209) -> 848 | Q209: =AVERAGE(E209:O209) -> 77.090909 | R209: =RANK(P209,$P$16:$P$237) -> 50
A210: 195 | B210: ='perkelas 8'!B410 -> 17187614 | C210: ='perkelas 8'!C410 -> AHMAD WAFDA TAJUDDIN | D210: ='perkelas 8'!D410 -> 8-G | E210: ='perkelas 8'!E410 -> 85 | F210: ='perkelas 8'!F410 -> 80 | G210: ='perkelas 8'!G410 -> 83 | H210: ='perkelas 8'!H410 -> 67 | I210: ='perkelas 8'!I410 -> 87 | ... O210: ='perkelas 8'!O410 -> 97 | P210: =SUM(E210:O210) -> 926 | Q210: =AVERAGE(E210:O210) -> 84.181818 | R210: =RANK(P210,$P$16:$P$237) -> 9
A211: 196 | B211: ='perkelas 8'!B411 -> 17187680 | C211: ='perkelas 8'!C411 -> ANITA DWI ASTUTI | D211: ='perkelas 8'!D411 -> 8-G | E211: ='perkelas 8'!E411 -> 83 | F211: ='perkelas 8'!F411 -> 75 | G211: ='perkelas 8'!G411 -> 82 | H211: ='perkelas 8'!H411 -> 57 | I211: ='perkelas 8'!I411 -> 80 | ... O211: ='perkelas 8'!O411 -> 88 | P211: =SUM(E211:O211) -> 866 | Q211: =AVERAGE(E211:O211) -> 78.727273 | R211: =RANK(P211,$P$16:$P$237) -> 41
A212: 197 | B212: ='perkelas 8'!B412 -> 17187651 | C212: ='perkelas 8'!C412 -> AZKA NIDAAN KHOFIA | D212: ='perkelas 8'!D412 -> 8-G | E212: ='perkelas 8'!E412 -> 87 | F212: ='perkelas 8'!F412 -> 80 | G212: ='perkelas 8'!G412 -> 70 | H212: ='perkelas 8'!H412 -> 57 | I212: ='perkelas 8'!I412 -> 74 | ... O212: ='perkelas 8'!O412 -> 95 | P212: =SUM(E212:O212) -> 854 | Q212: =AVERAGE(E212:O212) -> 77.636364 | R212: =RANK(P212,$P$16:$P$237) -> 46
A213: 198 | B213: ='perkelas 8'!B413 -> 17187652 | C213: ='perkelas 8'!C413 -> AZUMA AYU DYAH SUSANTI | D213: ='perkelas 8'!D413 -> 8-G | E213: ='perkelas 8'!E413 -> 75 | F213: ='perkelas 8'!F413 -> 74 | G213: ='perkelas 8'!G413 -> 75 | H213: ='perkelas 8'!H413 -> 68 | I213: ='perkelas 8'!I413 -> 82 | ... O213: ='perkelas 8'!O413 -> 88 | P213: =SUM(E213:O213) -> 864 | Q213: =AVERAGE(E213:O213) -> 78.545455 | R213: =RANK(P213,$P$16:$P$237) -> 42
...

Sheet 9
A1: PEMERINTAH KABUPATEN JEPARA
A2: DINAS PENDIDIKAN PEMUDA DAN OLAH RAGA
A3: UNIT PELAKSANA TEKNIS
A4: SMP NEGERI 1 WELAHAN
A5: Jl. Welahan Km. 22 Jepara ' ( 0291 ) 4256295 *59464
A6: E-mail : smpn1welahan@yahoo.co.id website : www. smpn1welahan.com
A9: LAPORAN NILAI MURNI ULANGAN/PENILAIAN TENGAH SEMESTER GENAP
A10: SMP NEGERI 1 WELAHAN
A11: TAHUN PELAJARAN 2017/2018
A13: NO | B13: NIS | C13: NAMA SISWA | D13: Kelas 9 | E13: Mata Pelajaran | P13: Jumlah | Q13: Rata - rata | R13: Peringkat
E14: PAI | F14: PKn | G14: B.Ind | H14: B.Ing | I14: MTK | J14: IPA | K14: IPS | L14: S. Bud | M14: Penjas | N14: B.JW | O14: PRAKAR
A15: KRITERIA KETUNTASAN MINIMAL (KKM) | E15: 75 | F15: 75 | G15: 75 | H15: 75 | I15: 75 | J15: 75 | K15: 75 | L15: 75 | M15: 75 | N15: 75 | O15: 75
A16: 215 | B16: ='perkelas 9'!B417 -> 7306 | C16: ='perkelas 9'!C417 -> NABILA ULLYANA | D16: ='perkelas 9'!D417 -> 9-G | E16: ='perkelas 9'!E417 -> 95 | F16: ='perkelas 9'!F417 -> 92 | G16: ='perkelas 9'!G417 -> 83 | H16: ='perkelas 9'!H417 -> 87 | I16: ='perkelas 9'!I417 -> 96 | ... O16: ='perkelas 9'!O417 -> 87 | P16: =SUM(E16:O16) -> 992 | Q16: =AVERAGE(E16:O16) -> 90.181818 | R16: =RANK(P16,$P$16:$P$244) -> 1
A17: 5 | B17: ='perkelas 9'!B20 -> 7356 | C17: ='perkelas 9'!C20 -> ARUM LAROSATI | D17: ='perkelas 9'!D20 -> 9-A | E17: ='perkelas 9'!E20 -> 87 | F17: ='perkelas 9'!F20 -> 87 | G17: ='perkelas 9'!G20 -> 83 | H17: ='perkelas 9'!H20 -> 87 | I17: ='perkelas 9'!I20 -> 92 | ... O17: ='perkelas 9'!O20 -> 88 | P17: =SUM(E17:O17) -> 964 | Q17: =AVERAGE(E17:O17) -> 87.636364 | R17: =RANK(P17,$P$16:$P$244) -> 2
A18: 217 | B18: ='perkelas 9'!B419 -> 7506 | C18: ='perkelas 9'!C419 -> NOR UNSA AKMAL | D18: ='perkelas 9'!D419 -> 9-G | E18: ='perkelas 9'!E419 -> 82 | F18: ='perkelas 9'!F419 -> 93 | G18: ='perkelas 9'!G419 -> 91 | H18: ='perkelas 9'!H419 -> 88 | I18: ='perkelas 9'!I419 -> 87 | ... O18: ='perkelas 9'!O419 -> 88 | P18: =SUM(E18:O18) -> 964 | Q18: =AVERAGE(E18:O18) -> 87.636364 | R18: =RANK(P18,$P$16:$P$244) -> 2
A19: 11 | B19: ='perkelas 9'!B26 -> 7398 | C19: ='perkelas 9'!C26 -> IKA NUR FITRIYANI | D19: ='perkelas 9'!D26 -> 9-A | E19: ='perkelas 9'!E26 -> 92 | F19: ='perkelas 9'!F26 -> 93 | G19: ='perkelas 9'!G26 -> 87 | H19: ='perkelas 9'!H26 -> 93 | I19: ='perkelas 9'!I26 -> 79 | ... O19: ='perkelas 9'!O26 -> 83 | P19: =SUM(E19:O19) -> 943 | Q19: =AVERAGE(E19:O19) -> 85.727273 | R19: =RANK(P19,$P$16:$P$244) -> 4
A20: 220 | B20: ='perkelas 9'!B422 -> 7379 | C20: ='perkelas 9'!C422 -> RAFIDA AMANA | D20: ='perkelas 9'!D422 -> 9-G | E20: ='perkelas 9'!E422 -> 88 | F20: ='perkelas 9'!F422 -> 89 | G20: ='perkelas 9'!G422 -> 87 | H20: ='perkelas 9'!H422 -> 83 | I20: ='perkelas 9'!I422 -> 99 | ... O20: ='perkelas 9'!O422 -> 82 | P20: =SUM(E20:O20) -> 943 | Q20: =AVERAGE(E20:O20) -> 85.727273 | R20: =RANK(P20,$P$16:$P$244) -> 4
A21: 4 | B21: ='perkelas 9'!B19 -> 7419 | C21: ='perkelas 9'!C19 -> ANANDA PUTRI AMALIA | D21: ='perkelas 9'!D19 -> 9-A | E21: ='perkelas 9'!E19 -> 87 | F21: ='perkelas 9'!F19 -> 87 | G21: ='perkelas 9'!G19 -> 87 | H21: ='perkelas 9'!H19 -> 93 | I21: ='perkelas 9'!I19 -> 83 | ... O21: ='perkelas 9'!O19 -> 82 | P21: =SUM(E21:O21) -> 936 | Q21: =AVERAGE(E21:O21) -> 85.090909 | R21: =RANK(P21,$P$16:$P$244) -> 6
A22: 28 | B22: ='perkelas 9'!B43 -> 7514 | C22: ='perkelas 9'!C43 -> THALISA NAFISA IDYA | D22: ='perkelas 9'!D43 -> 9-A | E22: ='perkelas 9'!E43 -> 90 | F22: ='perkelas 9'!F43 -> 89 | G22: ='perkelas 9'!G43 -> 65 | H22: ='perkelas 9'!H43 -> 82 | I22: ='perkelas 9'!I43 -> 84 | ... O22: ='perkelas 9'!O43 -> 85 | P22: =SUM(E22:O22) -> 933 | Q22: =AVERAGE(E22:O22) -> 84.818182 | R22: =RANK(P22,$P$16:$P$244) -> 7
A23: 22 | B23: ='perkelas 9'!B37 -> 7503 | C23: ='perkelas 9'!C37 -> NAJLA ZAHRA KHAIRUNISA | D23: ='perkelas 9'!D37 -> 9-A | E23: ='perkelas 9'!E37 -> 87 | F23: ='perkelas 9'!F37 -> 90 | G23: ='perkelas 9'!G37 -> 75 | H23: ='perkelas 9'!H37 -> 82 | I23: ='perkelas 9'!I37 -> 81 | ... O23: ='perkelas 9'!O37 -> 87 | P23: =SUM(E23:O23) -> 926 | Q23: =AVERAGE(E23:O23) -> 84.181818 | R23: =RANK(P23,$P$16:$P$244) -> 8
A24: 31 | B24: ='perkelas 9'!B46 -> 7515 | C24: ='perkelas 9'!C46 -> YULIA ANANDA SAFITRI | D24: ='perkelas 9'!D46 -> 9-A | E24: ='perkelas 9'!E46 -> 92 | F24: ='perkelas 9'!F46 -> 93 | G24: ='perkelas 9'!G46 -> 77 | H24: ='perkelas 9'!H46 -> 88 | I24: ='perkelas 9'!I46 -> 74 | ... O24: ='perkelas 9'!O46 -> 87 | P24: =SUM(E24:O24) -> 926 | Q24: =AVERAGE(E24:O24) -> 84.181818 | R24: =RANK(P24,$P$16:$P$244) -> 8
A25: 15 | B25: ='perkelas 9'!B30 -> 7367 | C25: ='perkelas 9'!C30 -> LAILIFIDARIS SA'ADAH | D25: ='perkelas 9'!D30 -> 9-A | E25: ='perkelas 9'!E30 -> 87 | F25: ='perkelas 9'!F30 -> 90 | G25: ='perkelas 9'!G30 -> 73 | H25: ='perkelas 9'!H30 -> 85 | I25: ='perkelas 9'!I30 -> 78 | ... O25: ='perkelas 9'!O30 -> 88 | P25: =SUM(E25:O25) -> 925 | Q25: =AVERAGE(E25:O25) -> 84.090909 | R25: =RANK(P25,$P$16:$P$244) -> 10
A26: 23 | B26: ='perkelas 9'!B38 -> 7339 | C26: ='perkelas 9'!C38 -> NOVITA WIDIANTI | D26: ='perkelas 9'!D38 -> 9-A | E26: ='perkelas 9'!E38 -> 88 | F26: ='perkelas 9'!F38 -> 92 | G26: ='perkelas 9'!G38 -> 78 | H26: ='perkelas 9'!H38 -> 78 | I26: ='perkelas 9'!I38 -> 76 | ... O26: ='perkelas 9'!O38 -> 87 | P26: =SUM(E26:O26) -> 923 | Q26: =AVERAGE(E26:O26) -> 83.909091 | R26: =RANK(P26,$P$16:$P$244) -> 11
A27: 12 | B27: ='perkelas 9'!B27 -> 7495 | C27: ='perkelas 9'!C27 -> IKHLASUL AMAL | D27: ='perkelas 9'!D27 -> 9-A | E27: ='perkelas 9'!E27 -> 75 | F27: ='perkelas 9'!F27 -> 92 | G27: ='perkelas 9'!G27 -> 77 | H27: ='perkelas 9'!H27 -> 88 | I27: ='perkelas 9'!I27 -> 86 | ... O27: ='perkelas 9'!O27 -> 82 | P27: =SUM(E27:O27) -> 919 | Q27: =AVERAGE(E27:O27) -> 83.545455 | R27: =RANK(P27,$P$16:$P$244) -> 12
A28: 203 | B28: ='perkelas 9'!B405 -> 7322 | C28: ='perkelas 9'!C405 -> CLEVERISH RAVENKA PUTRI | D28: ='perkelas 9'!D405 -> 9-G | E28: ='perkelas 9'!E405 -> 82 | F28: ='perkelas 9'!F405 -> 85 | G28: ='perkelas 9'!G405 -> 82 | H28: ='perkelas 9'!H405 -> 97 | I28: ='perkelas 9'!I405 -> 87 | ... O28: ='perkelas 9'!O405 -> 85 | P28: =SUM(E28:O28) -> 915 | Q28: =AVERAGE(E28:O28) -> 83.181818 | R28: =RANK(P28,$P$16:$P$244) -> 13
A29: 2 | B29: ='perkelas 9'!B17 -> 7487 | C29: ='perkelas 9'!C17 -> AHMAD NADHIF NIHALY | D29: ='perkelas 9'!D17 -> 9-A | E29: ='perkelas 9'!E17 -> 82 | F29: ='perkelas 9'!F17 -> 92 | G29: ='perkelas 9'!G17 -> 73 | H29: ='perkelas 9'!H17 -> 82 | I29: ='perkelas 9'!I17 -> 86 | ... O29: ='perkelas 9'!O17 -> 82 | P29: =SUM(E29:O29) -> 913 | Q29: =AVERAGE(E29:O29) -> 83 | R29: =RANK(P29,$P$16:$P$244) -> 14
A30: 19 | B30: ='perkelas 9'!B34 -> 7373 | C30: ='perkelas 9'!C34 -> MIFTAH UBAYDILLA | D30: ='perkelas 9'!D34 -> 9-A | E30: ='perkelas 9'!E34 -> 83 | F30: ='perkelas 9'!F34 -> 83 | G30: ='perkelas 9'!G34 -> 75 | H30: ='perkelas 9'!H34 -> 92 | I30: ='perkelas 9'!I34 -> 80 | ... O30: ='perkelas 9'!O34 -> 87 | P30: =SUM(E30:O30) -> 908 | Q30: =AVERAGE(E30:O30) -> 82.545455 | R30: =RANK(P30,$P$16:$P$244) -> 15
A31: 21 | B31: ='perkelas 9'!B36 -> 7436 | C31: ='perkelas 9'!C36 -> NADIA ULFAH NUR JANNAH | D31: ='perkelas 9'!D36 -> 9-A | E31: ='perkelas 9'!E36 -> 87 | F31: ='perkelas 9'!F36 -> 85 | G31: ='perkelas 9'!G36 -> 68 | H31: ='perkelas 9'!H36 -> 75 | I31: ='perkelas 9'!I36 -> 81 | ... O31: ='perkelas 9'!O36 -> 87 | P31: =SUM(E31:O31) -> 901 | Q31: =AVERAGE(E31:O31) -> 81.909091 | R31: =RANK(P31,$P$16:$P$244) -> 16
A32: 224 | B32: ='perkelas 9'!B426 -> 7382 | C32: ='perkelas 9'!C426 -> SYARIFATUL KHISOL SALSABILA | D32: ='perkelas 9'!D426 -> 9-G | E32: ='perkelas 9'!E426 -> 80 | F32: ='perkelas 9'!F426 -> 90 | G32: ='perkelas 9'!G426 -> 88 | H32: ='perkelas 9'!H426 -> 87 | I32: ='perkelas 9'!I426 -> 62 | ... O32: ='perkelas 9'!O426 -> 83 | P32: =SUM(E32:O32) -> 896 | Q32: =AVERAGE(E32:O32) -> 81.454545 | R32: =RANK(P32,$P$16:$P$244) -> 17
A33: 221 | B33: ='perkelas 9'!B423 -> 7343 | C33: ='perkelas 9'!C423 -> RIZQYA PUTRI SANI NURUSSOLIKHIN | D33: ='perkelas 9'!D423 -> 9-G | E33: ='perkelas 9'!E423 -> 63 | F33: ='perkelas 9'!F423 -> 73 | G33: ='perkelas 9'!G423 -> 82 | H33: ='perkelas 9'!H423 -> 93 | I33: ='perkelas 9'!I423 -> 88 | ... O33: ='perkelas 9'!O423 -> 82 | P33: =SUM(E33:O33) -> 895 | Q33: =AVERAGE(E33:O33) -> 81.363636 | R33: =RANK(P33,$P$16:$P$244) -> 18
A34: 198 | B34: ='perkelas 9'!B400 -> 7284 | C34: ='perkelas 9'!C400 -> AKHMAD ROBITH RIZQI | D34: ='perkelas 9'!D400 -> 9-G | E34: ='perkelas 9'!E400 -> 78 | F34: ='perkelas 9'!F400 -> 85 | G34: ='perkelas 9'!G400 -> 73 | H34: ='perkelas 9'!H400 -> 90 | I34: ='perkelas 9'!I400 -> 95 | ... O34: ='perkelas 9'!O400 -> 76 | P34: =SUM(E34:O34) -> 894 | Q34: =AVERAGE(E34:O34) -> 81.272727 | R34: =RANK(P34,$P$16:$P$244) -> 19
A35: 212 | B35: ='perkelas 9'!B414 -> 7467 | C35: ='perkelas 9'!C414 -> LULUK TAZKIA KAMILA | D35: ='perkelas 9'!D414 -> 9-G | E35: ='perkelas 9'!E414 -> 88 | F35: ='perkelas 9'!F414 -> 83 | G35: ='perkelas 9'!G414 -> 83 | H35: ='perkelas 9'!H414 -> 90 | I35: ='perkelas 9'!I414 -> 57 | ... O35: ='perkelas 9'!O414 -> 88 | P35: =SUM(E35:O35) -> 893 | Q35: =AVERAGE(E35:O35) -> 81.181818 | R35: =RANK(P35,$P$16:$P$244) -> 20
A36: 18 | B36: ='perkelas 9'!B33 -> 7331 | C36: ='perkelas 9'!C33 -> MAYLANI AYU WULANDARI | D36: ='perkelas 9'!D33 -> 9-A | E36: ='perkelas 9'!E33 -> 92 | F36: ='perkelas 9'!F33 -> 80 | G36: ='perkelas 9'!G33 -> 75 | H36: ='perkelas 9'!H33 -> 80 | I36: ='perkelas 9'!I33 -> 74 | ... O36: ='perkelas 9'!O33 -> 85 | P36: =SUM(E36:O36) -> 890 | Q36: =AVERAGE(E36:O36) -> 80.909091 | R36: =RANK(P36,$P$16:$P$244) -> 21
A37: 25 | B37: ='perkelas 9'!B40 -> 7311 | C37: ='perkelas 9'!C40 -> RIVA NUR ROKHMAH | D37: ='perkelas 9'!D40 -> 9-A | E37: ='perkelas 9'!E40 -> 80 | F37: ='perkelas 9'!F40 -> 80 | G37: ='perkelas 9'!G40 -> 70 | H37: ='perkelas 9'!H40 -> 90 | I37: ='perkelas 9'!I40 -> 80 | ... O37: ='perkelas 9'!O40 -> 87 | P37: =SUM(E37:O37) -> 889 | Q37: =AVERAGE(E37:O37) -> 80.818182 | R37: =RANK(P37,$P$16:$P$244) -> 22
A38: 206 | B38: ='perkelas 9'!B408 -> 7393 | C38: ='perkelas 9'!C408 -> DIYAH WAHYU RETNO | D38: ='perkelas 9'!D408 -> 9-G | E38: ='perkelas 9'!E408 -> 83 | F38: ='perkelas 9'!F408 -> 80 | G38: ='perkelas 9'!G408 -> 87 | H38: ='perkelas 9'!H408 -> 80 | I38: ='perkelas 9'!I408 -> 92 | ... O38: ='perkelas 9'!O408 -> 87 | P38: =SUM(E38:O38) -> 888 | Q38: =AVERAGE(E38:O38) -> 80.727273 | R38: =RANK(P38,$P$16:$P$244) -> 23
A39: 200 | B39: ='perkelas 9'!B402 -> 7353 | C39: ='perkelas 9'!C402 -> ALYA WAHYU KARTIKA | D39: ='perkelas 9'!D402 -> 9-G | E39: ='perkelas 9'!E402 -> 75 | F39: ='perkelas 9'!F402 -> 83 | G39: ='perkelas 9'!G402 -> 85 | H39: ='perkelas 9'!H402 -> 77 | I39: ='perkelas 9'!I402 -> 76 | ... O39: ='perkelas 9'!O402 -> 83 | P39: =SUM(E39:O39) -> 884 | Q39: =AVERAGE(E39:O39) -> 80.363636 | R39: =RANK(P39,$P$16:$P$244) -> 24
A40: 226 | B40: ='perkelas 9'!B428 -> 7414 | C40: ='perkelas 9'!C428 -> TRIANA SHEILA KAMALIA | D40: ='perkelas 9'!D428 -> 9-G | E40: ='perkelas 9'!E428 -> 70 | F40: ='perkelas 9'!F428 -> 82 | G40: ='perkelas 9'!G428 -> 80 | H40: ='perkelas 9'!H428 -> 78 | I40: ='perkelas 9'!I428 -> 89 | ... O40: ='perkelas 9'!O428 -> 82 | P40: =SUM(E40:O40) -> 880 | Q40: =AVERAGE(E40:O40) -> 80 | R40: =RANK(P40,$P$16:$P$244) -> 25
A41: 207 | B41: ='perkelas 9'!B409 -> 7297 | C41: ='perkelas 9'!C409 -> FRISKA AMEYLIA | D41: ='perkelas 9'!D409 -> 9-G | E41: ='perkelas 9'!E409 -> 80 | F41: ='perkelas 9'!F409 -> 79 | G41: ='perkelas 9'!G409 -> 78 | H41: ='perkelas 9'!H409 -> 80 | I41: ='perkelas 9'!I409 -> 83 | ... O41: ='perkelas 9'!O409 -> 85 | P41: =SUM(E41:O41) -> 879 | Q41: =AVERAGE(E41:O41) -> 79.909091 | R41: =RANK(P41,$P$16:$P$244) -> 26
A42: 1 | B42: ='perkelas 9'!B16 -> 7451 | C42: ='perkelas 9'!C16 -> ADINDA NAJMA ZUHRAHIDA | D42: ='perkelas 9'!D16 -> 9-A | E42: ='perkelas 9'!E16 -> 80 | F42: ='perkelas 9'!F16 -> 95 | G42: ='perkelas 9'!G16 -> 73 | H42: ='perkelas 9'!H16 -> 77 | I42: ='perkelas 9'!I16 -> 70 | ... O42: ='perkelas 9'!O16 -> 76 | P42: =SUM(E42:O42) -> 877 | Q42: =AVERAGE(E42:O42) -> 79.727273 | R42: =RANK(P42,$P$16:$P$244) -> 27
A43: 3 | B43: ='perkelas 9'!B18 -> 7385 | C43: ='perkelas 9'!C18 -> AHMAD NURUL FANNY | D43: ='perkelas 9'!D18 -> 9-A | E43: ='perkelas 9'!E18 -> 80 | F43: ='perkelas 9'!F18 -> 75 | G43: ='perkelas 9'!G18 -> 78 | H43: ='perkelas 9'!H18 -> 68 | I43: ='perkelas 9'!I18 -> 70 | ... O43: ='perkelas 9'!O18 -> 83 | P43: =SUM(E43:O43) -> 874 | Q43: =AVERAGE(E43:O43) -> 79.454545 | R43: =RANK(P43,$P$16:$P$244) -> 28
A44: 29 | B44: ='perkelas 9'!B44 -> 7313 | C44: ='perkelas 9'!C44 -> UNTSA NAILISSYIFA | D44: ='perkelas 9'!D44 -> 9-A | E44: ='perkelas 9'!E44 -> 87 | F44: ='perkelas 9'!F44 -> 79 | G44: ='perkelas 9'!G44 -> 60 | H44: ='perkelas 9'!H44 -> 78 | I44: ='perkelas 9'!I44 -> 71 | ... O44: ='perkelas 9'!O44 -> 87 | P44: =SUM(E44:O44) -> 873 | Q44: =AVERAGE(E44:O44) -> 79.363636 | R44: =RANK(P44,$P$16:$P$244) -> 29
A45: 202 | B45: ='perkelas 9'!B404 -> 7357 | C45: ='perkelas 9'!C404 -> BINTANG AMILIYA | D45: ='perkelas 9'!D404 -> 9-G | E45: ='perkelas 9'!E404 -> 75 | F45: ='perkelas 9'!F404 -> 85 | G45: ='perkelas 9'!G404 -> 80 | H45: ='perkelas 9'!H404 -> 83 | I45: ='perkelas 9'!I404 -> 68 | ... O45: ='perkelas 9'!O404 -> 90 | P45: =SUM(E45:O45) -> 873 | Q45: =AVERAGE(E45:O45) -> 79.363636 | R45: =RANK(P45,$P$16:$P$244) -> 29
A46: 32 | B46: ='perkelas 9'!B47 -> 7315 | C46: ='perkelas 9'!C47 -> ZUMI'ATUL AFIFAH | D46: ='perkelas 9'!D47 -> 9-A | E46: ='perkelas 9'!E47 -> 82 | F46: ='perkelas 9'!F47 -> 83 | G46: ='perkelas 9'!G47 -> 78 | H46: ='perkelas 9'!H47 -> 72 | I46: ='perkelas 9'!I47 -> 68 | ... O46: ='perkelas 9'!O47 -> 85 | P46: =SUM(E46:O46) -> 872 | Q46: =AVERAGE(E46:O46) -> 79.272727 | R46: =RANK(P46,$P$16:$P$244) -> 31
A47: 211 | B47: ='perkelas 9'!B413 -> 7429 | C47: ='perkelas 9'!C413 -> LAILA ULIL LATIFA | D47: ='perkelas 9'!D413 -> 9-G | E47: ='perkelas 9'!E413 -> 82 | F47: ='perkelas 9'!F413 -> 93 | G47: ='perkelas 9'!G413 -> 80 | H47: ='perkelas 9'!H413 -> 77 | I47: ='perkelas 9'!I413 -> 71 | ... O47: ='perkelas 9'!O413 -> 82 | P47: =SUM(E47:O47) -> 870 | Q47: =AVERAGE(E47:O47) -> 79.090909 | R47: =RANK(P47,$P$16:$P$244) -> 32
A48: 216 | B48: ='perkelas 9'!B418 -> 7505 | C48: ='perkelas 9'!C418 -> NIHLATUSSHOFI ULWIYAH | D48: ='perkelas 9'!D418 -> 9-G | E48: ='perkelas 9'!E418 -> 77 | F48: ='perkelas 9'!F418 -> 90 | G48: ='perkelas 9'!G418 -> 82 | H48: ='perkelas 9'!H418 -> 78 | I48: ='perkelas 9'!I418 -> 68 | ... O48: ='perkelas 9'!O418 -> 78 | P48: =SUM(E48:O48) -> 869 | Q48: =AVERAGE(E48:O48) -> 79 | R48: =RANK(P48,$P$16:$P$244) -> 33
A49: 6 | B49: ='perkelas 9'!B21 -> 7490 | C49: ='perkelas 9'!C21 -> BINTUN SANIYATUS SALAMAH | D49: ='perkelas 9'!D21 -> 9-A | E49: ='perkelas 9'!E21 -> 78 | F49: ='perkelas 9'!F21 -> 80 | G49: ='perkelas 9'!G21 -> 75 | H49: ='perkelas 9'!H21 -> 78 | I49: ='perkelas 9'!I21 -> 70 | ... O49: ='perkelas 9'!O21 -> 87 | P49: =SUM(E49:O49) -> 868 | Q49: =AVERAGE(E49:O49) -> 78.909091 | R49: =RANK(P49,$P$16:$P$244) -> 34
A50: 7 | B50: ='perkelas 9'!B22 -> 7363 | C50: ='perkelas 9'!C22 -> DHANISKA ELFARAZ NADIA | D50: ='perkelas 9'!D22 -> 9-A | E50: ='perkelas 9'!E22 -> 85 | F50: ='perkelas 9'!F22 -> 85 | G50: ='perkelas 9'!G22 -> 72 | H50: ='perkelas 9'!H22 -> 82 | I50: ='perkelas 9'!I22 -> 66 | ... O50: ='perkelas 9'!O22 -> 76 | P50: =SUM(E50:O50) -> 868 | Q50: =AVERAGE(E50:O50) -> 78.909091 | R50: =RANK(P50,$P$16:$P$244) -> 34
A51: 210 | B51: ='perkelas 9'!B412 -> 7465 | C51: ='perkelas 9'!C412 -> KHULWANA AZKIYA | D51: ='perkelas 9'!D412 -> 9-G | E51: ='perkelas 9'!E412 -> 75 | F51: ='perkelas 9'!F412 -> 90 | G51: ='perkelas 9'!G412 -> 88 | H51: ='perkelas 9'!H412 -> 87 | I51: ='perkelas 9'!I412 -> 64 | ... O51: ='perkelas 9'!O412 -> 78 | P51: =SUM(E51:O51) -> 866 | Q51: =AVERAGE(E51:O51) -> 78.727273 | R51: =RANK(P51,$P$16:$P$244) -> 36
A52: 20 | B52: ='perkelas 9'!B35 -> 7335 | C52: ='perkelas 9'!C35 -> MUHAMMAD BAREZA ATHOILLAH | D52: ='perkelas 9'!D35 -> 9-A | E52: ='perkelas 9'!E35 -> 77 | F52: ='perkelas 9'!F35 -> 83 | G52: ='perkelas 9'!G35 -> 70 | H52: ='perkelas 9'!H35 -> 63 | I52: ='perkelas 9'!I35 -> 76 | ... O52: ='perkelas 9'!O35 -> 85 | P52: =SUM(E52:O52) -> 865 | Q52: =AVERAGE(E52:O52) -> 78.636364 | R52: =RANK(P52,$P$16:$P$244) -> 37
A53: 201 | B53: ='perkelas 9'!B403 -> 7320 | C53: ='perkelas 9'!C403 -> ANDINA MAILA SHUFA | D53: ='perkelas 9'!D403 -> 9-G | E53: ='perkelas 9'!E403 -> 72 | F53: ='perkelas 9'!F403 -> 73 | G53: ='perkelas 9'!G403 -> 72 | H53: ='perkelas 9'!H403 -> 88 | I53: ='perkelas 9'!I403 -> 69 | ... O53: ='perkelas 9'!O403 -> 77 | P53: =SUM(E53:O53) -> 860 | Q53: =AVERAGE(E53:O53) -> 78.181818 | R53: =RANK(P53,$P$16:$P$244) -> 38
A54: 208 | B54: ='perkelas 9'!B410 -> 7427 | C54: ='perkelas 9'!C410 -> IMROATUL MAGHFIROH | D54: ='perkelas 9'!D410 -> 9-G | E54: ='perkelas 9'!E410 -> 83 | F54: ='perkelas 9'!F410 -> 89 | G54: ='perkelas 9'!G410 -> 85 | H54: ='perkelas 9'!H410 -> 77 | I54: ='perkelas 9'!I410 -> 71 | ... O54: ='perkelas 9'!O410 -> 88 | P54: =SUM(E54:O54) -> 857 | Q54: =AVERAGE(E54:O54) -> 77.909091 | R54: =RANK(P54,$P$16:$P$244) -> 39
A55: 222 | B55: ='perkelas 9'!B424 -> 7380 | C55: ='perkelas 9'!C424 -> SANIA QOTRUN NADA | D55: ='perkelas 9'!D424 -> 9-G | E55: ='perkelas 9'!E424 -> 80 | F55: ='perkelas 9'!F424 -> 85 | G55: ='perkelas 9'!G424 -> 82 | H55: ='perkelas 9'!H424 -> 83 | I55: ='perkelas 9'!I424 -> 62 | ... O55: ='perkelas 9'!O424 -> 80 | P55: =SUM(E55:O55) -> 857 | Q55: =AVERAGE(E55:O55) -> 77.909091 | R55: =RANK(P55,$P$16:$P$244) -> 39
A56: 8 | B56: ='perkelas 9'!B23 -> 7457 | C56: ='perkelas 9'!C23 -> ELLA FAUSTINA SARI | D56: ='perkelas 9'!D23 -> 9-A | E56: ='perkelas 9'!E23 -> 72 | F56: ='perkelas 9'!F23 -> 79 | G56: ='perkelas 9'!G23 -> 67 | H56: ='perkelas 9'!H23 -> 80 | I56: ='perkelas 9'!I23 -> 64 | ... O56: ='perkelas 9'!O23 -> 78 | P56: =SUM(E56:O56) -> 855 | Q56: =AVERAGE(E56:O56) -> 77.727273 | R56: =RANK(P56,$P$16:$P$244) -> 41
A57: 24 | B57: ='perkelas 9'!B39 -> 7510 | C57: ='perkelas 9'!C39 -> RIKA OKTAVIA | D57: ='perkelas 9'!D39 -> 9-A | E57: ='perkelas 9'!E39 -> 90 | F57: ='perkelas 9'!F39 -> 90 | G57: ='perkelas 9'!G39 -> 65 | H57: ='perkelas 9'!H39 -> 62 | I57: ='perkelas 9'!I39 -> 76 | ... O57: ='perkelas 9'!O39 -> 87 | P57: =SUM(E57:O57) -> 855 | Q57: =AVERAGE(E57:O57) -> 77.727273 | R57: =RANK(P57,$P$16:$P$244) -> 41
A58: 199 | B58: ='perkelas 9'!B401 -> 7285 | C58: ='perkelas 9'!C401 -> ALFINA SETIANINGRUM | D58: ='perkelas 9'!D401 -> 9-G | E58: ='perkelas 9'!E401 -> 75 | F58: ='perkelas 9'!F401 -> 79 | G58: ='perkelas 9'!G401 -> 83 | H58: ='perkelas 9'!H401 -> 77 | I58: ='perkelas 9'!I401 -> 56 | ... O58: ='perkelas 9'!O401 -> 73 | P58: =SUM(E58:O58) -> 853 | Q58: =AVERAGE(E58:O58) -> 77.545455 | R58: =RANK(P58,$P$16:$P$244) -> 43
A59: 205 | B59: ='perkelas 9'!B407 -> 7292 | C59: ='perkelas 9'!C407 -> DEVI IQLIMA ALHUMAIRO' | D59: ='perkelas 9'!D407 -> 9-G | E59: ='perkelas 9'!E407 -> 77 | F59: ='perkelas 9'!F407 -> 79 | G59: ='perkelas 9'!G407 -> 78 | H59: ='perkelas 9'!H407 -> 85 | I59: ='perkelas 9'!I407 -> 60 | ... O59: ='perkelas 9'!O407 -> 82 | P59: =SUM(E59:O59) -> 846 | Q59: =AVERAGE(E59:O59) -> 76.909091 | R59: =RANK(P59,$P$16:$P$244) -> 44
A60: 229 | B60: ='perkelas 9'!B431 -> 7517 | C60: ='perkelas 9'!C431 -> ZAHROTUL ULYA | D60: ='perkelas 9'!D431 -> 9-G | E60: ='perkelas 9'!E431 -> 80 | F60: ='perkelas 9'!F431 -> 82 | G60: ='perkelas 9'!G431 -> 80 | H60: ='perkelas 9'!H431 -> 75 | I60: ='perkelas 9'!I431 -> 49 | ... O60: ='perkelas 9'!O431 -> 88 | P60: =SUM(E60:O60) -> 843 | Q60: =AVERAGE(E60:O60) -> 76.636364 | R60: =RANK(P60,$P$16:$P$244) -> 45
A61: 204 | B61: ='perkelas 9'!B406 -> 7359 | C61: ='perkelas 9'!C406 -> DAFFA AULIA RAHMADANTI | D61: ='perkelas 9'!D406 -> 9-G | E61: ='perkelas 9'!E406 -> 80 | F61: ='perkelas 9'!F406 -> 79 | G61: ='perkelas 9'!G406 -> 77 | H61: ='perkelas 9'!H406 -> 77 | I61: ='perkelas 9'!I406 -> 56 | ... O61: ='perkelas 9'!O406 -> 82 | P61: =SUM(E61:O61) -> 838 | Q61: =AVERAGE(E61:O61) -> 76.181818 | R61: =RANK(P61,$P$16:$P$244) -> 46
A62: 219 | B62: ='perkelas 9'!B421 -> 7342 | C62: ='perkelas 9'!C421 -> PUTRI QUMAYDAH | D62: ='perkelas 9'!D421 -> 9-G | E62: ='perkelas 9'!E421 -> 83 | F62: ='perkelas 9'!F421 -> 87 | G62: ='perkelas 9'!G421 -> 75 | H62: ='perkelas 9'!H421 -> 78 | I62: ='perkelas 9'!I421 -> 65 | ... O62: ='perkelas 9'!O421 -> 73 | P62: =SUM(E62:O62) -> 836 | Q62: =AVERAGE(E62:O62) -> 76 | R62: =RANK(P62,$P$16:$P$244) -> 47
A63: 227 | B63: ='perkelas 9'!B429 -> 7347 | C63: ='perkelas 9'!C429 -> UMMI SYAFIYA | D63: ='perkelas 9'!D429 -> 9-G | E63: ='perkelas 9'!E429 -> 87 | F63: ='perkelas 9'!F429 -> 75 | G63: ='perkelas 9'!G429 -> 87 | H63: ='perkelas 9'!H429 -> 75 | I63: ='perkelas 9'!I429 -> 72 | ... O63: ='perkelas 9'!O429 -> 77 | P63: =SUM(E63:O63) -> 836 | Q63: =AVERAGE(E63:O63) -> 76 | R63: =RANK(P63,$P$16:$P$244) -> 47
A64: 214 | B64: ='perkelas 9'!B416 -> 7406 | C64: ='perkelas 9'!C416 -> MUHAMMAD YUSRIL ARZAQ | D64: ='perkelas 9'!D416 -> 9-G | E64: ='perkelas 9'!E416 -> 68 | F64: ='perkelas 9'!F416 -> 73 | G64: ='perkelas 9'!G416 -> 83 | H64: ='perkelas 9'!H416 -> 92 | I64: ='perkelas 9'!I416 -> 75 | ... O64: ='perkelas 9'!O416 -> 77 | P64: =SUM(E64:O64) -> 835 | Q64: =AVERAGE(E64:O64) -> 75.909091 | R64: =RANK(P64,$P$16:$P$244) -> 49
A65: 218 | B65: ='perkelas 9'!B420 -> 7341 | C65: ='perkelas 9'!C420 -> OKTAVIAN PRIAMBUDI | D65: ='perkelas 9'!D420 -> 9-G | E65: ='perkelas 9'!E420 -> 68 | F65: ='perkelas 9'!F420 -> 83 | G65: ='perkelas 9'!G420 -> 68 | H65: ='perkelas 9'!H420 -> 95 | I65: ='perkelas 9'!I420 -> 76 | ... O65: ='perkelas 9'!O420 -> 83 | P65: =SUM(E65:O65) -> 835 | Q65: =AVERAGE(E65:O65) -> 75.909091 | R65: =RANK(P65,$P$16:$P$244) -> 49
A66: 40 | B66: ='perkelas 9'!B86 -> 7489 | C66: ='perkelas 9'!C86 -> BAGUS DWI PUTRA ATMAJA | D66: ='perkelas 9'!D86 -> 9-B | E66: ='perkelas 9'!E86 -> 82 | F66: ='perkelas 9'!F86 -> 72 | G66: ='perkelas 9'!G86 -> 63 | H66: ='perkelas 9'!H86 -> 72 | I66: ='perkelas 9'!I86 -> 72 | ... O66: ='perkelas 9'!O86 -> 77 | P66: =SUM(E66:O66) -> 833 | Q66: =AVERAGE(E66:O66) -> 75.727273 | R66: =RANK(P66,$P$16:$P$244) -> 51
A67: 13 | B67: ='perkelas 9'!B28 -> 7497 | C67: ='perkelas 9'!C28 -> KHOIRUL ABID | D67: ='perkelas 9'!D28 -> 9-A | E67: ='perkelas 9'!E28 -> 78 | F67: ='perkelas 9'!F28 -> 85 | G67: ='perkelas 9'!G28 -> 75 | H67: ='perkelas 9'!H28 -> 70 | I67: ='perkelas 9'!I28 -> 60 | ... O67: ='perkelas 9'!O28 -> 78 | P67: =SUM(E67:O67) -> 831 | Q67: =AVERAGE(E67:O67) -> 75.545455 | R67: =RANK(P67,$P$16:$P$244) -> 52
A68: 30 | B68: ='perkelas 9'!B45 -> 7482 | C68: ='perkelas 9'!C45 -> URNILA AFRILIANI | D68: ='perkelas 9'!D45 -> 9-A | E68: ='perkelas 9'!E45 -> 72 | F68: ='perkelas 9'!F45 -> 89 | G68: ='perkelas 9'!G45 -> 68 | H68: ='perkelas 9'!H45 -> 72 | I68: ='perkelas 9'!I45 -> 76 | ... O68: ='perkelas 9'!O45 -> 82 | P68: =SUM(E68:O68) -> 830 | Q68: =AVERAGE(E68:O68) -> 75.454545 | R68: =RANK(P68,$P$16:$P$244) -> 53
A69: 228 | B69: ='perkelas 9'!B430 -> 7383 | C69: ='perkelas 9'!C430 -> YAHYA SYAROF | D69: ='perkelas 9'!D430 -> 9-G | E69: ='perkelas 9'!E430 -> 68 | F69: ='perkelas 9'!F430 -> 85 | G69: ='perkelas 9'!G430 -> 77 | H69: ='perkelas 9'!H430 -> 67 | I69: ='perkelas 9'!I430 -> 66 | ... O69: ='perkelas 9'!O430 -> 78 | P69: =SUM(E69:O69) -> 829 | Q69: =AVERAGE(E69:O69) -> 75.363636 | R69: =RANK(P69,$P$16:$P$244) -> 54
A70: 223 | B70: ='perkelas 9'!B425 -> 7381 | C70: ='perkelas 9'!C425 -> SHIFA CAMILA SURYANI | D70: ='perkelas 9'!D425 -> 9-G | E70: ='perkelas 9'!E425 -> 68 | F70: ='perkelas 9'!F425 -> 82 | G70: ='perkelas 9'!G425 -> 67 | H70: ='perkelas 9'!H425 -> 70 | I70: ='perkelas 9'!I425 -> 73 | ... O70: ='perkelas 9'!O425 -> 80 | P70: =SUM(E70:O70) -> 828 | Q70: =AVERAGE(E70:O70) -> 75.272727 | R70: =RANK(P70,$P$16:$P$244) -> 55
A71: 42 | B71: ='perkelas 9'!B88 -> 7390 | C71: ='perkelas 9'!C88 -> CINDY DWI LESTARI | D71: ='perkelas 9'!D88 -> 9-B | E71: ='perkelas 9'!E88 -> 70 | F71: ='perkelas 9'!F88 -> 67 | G71: ='perkelas 9'!G88 -> 70 | H71: ='perkelas 9'!H88 -> 73 | I71: ='perkelas 9'!I88 -> 64 | ... O71: ='perkelas 9'!O88 -> 77 | P71: =SUM(E71:O71) -> 826 | Q71: =AVERAGE(E71:O71) -> 75.090909 | R71: =RANK(P71,$P$16:$P$244) -> 56
A72: 26 | B72: ='perkelas 9'!B41 -> 7478 | C72: ='perkelas 9'!C41 -> SITI RAHMA SARI | D72: ='perkelas 9'!D41 -> 9-A | E72: ='perkelas 9'!E41 -> 80 | F72: ='perkelas 9'!F41 -> 72 | G72: ='perkelas 9'!G41 -> 78 | H72: ='perkelas 9'!H41 -> 70 | I72: ='perkelas 9'!I41 -> 74 | ... O72: ='perkelas 9'!O41 -> 83 | P72: =SUM(E72:O72) -> 825 | Q72: =AVERAGE(E72:O72) -> 75 | R72: =RANK(P72,$P$16:$P$244) -> 57
A73: 14 | B73: ='perkelas 9'!B29 -> 7400 | C73: ='perkelas 9'!C29 -> KURNIA SEKARARUM | D73: ='perkelas 9'!D29 -> 9-A | E73: ='perkelas 9'!E29 -> 75 | F73: ='perkelas 9'!F29 -> 89 | G73: ='perkelas 9'!G29 -> 70 | H73: ='perkelas 9'!H29 -> 75 | I73: ='perkelas 9'!I29 -> 54 | ... O73: ='perkelas 9'!O29 -> 76 | P73: =SUM(E73:O73) -> 824 | Q73: =AVERAGE(E73:O73) -> 74.909091 | R73: =RANK(P73,$P$16:$P$244) -> 58
A74: 225 | B74: ='perkelas 9'!B427 -> 7481 | C74: ='perkelas 9'!C427 -> TRI ANDITA NOVIANA | D74: ='perkelas 9'!D427 -> 9-G | E74: ='perkelas 9'!E427 -> 83 | F74: ='perkelas 9'!F427 -> 73 | G74: ='perkelas 9'!G427 -> 78 | H74: ='perkelas 9'!H427 -> 85 | I74: ='perkelas 9'!I427 -> 61 | ... O74: ='perkelas 9'!O427 -> 80 | P74: =SUM(E74:O74) -> 822 | Q74: =AVERAGE(E74:O74) -> 74.727273 | R74: =RANK(P74,$P$16:$P$244) -> 59
A75: 17 | B75: ='perkelas 9'!B32 -> 7330 | C75: ='perkelas 9'!C32 -> M. YUSRUL RIZANUL MUNA | D75: ='perkelas 9'!D32 -> 9-A | E75: ='perkelas 9'!E32 -> 87 | F75: ='perkelas 9'!F32 -> 78 | G75: ='perkelas 9'!G32 -> 73 | H75: ='perkelas 9'!H32 -> 55 | I75: ='perkelas 9'!I32 -> 75 | ... O75: ='perkelas 9'!O32 -> 90 | P75: =SUM(E75:O75) -> 821 | Q75: =AVERAGE(E75:O75) -> 74.636364 | R75: =RANK(P75,$P$16:$P$244) -> 60
A76: 45 | B76: ='perkelas 9'!B91 -> 7394 | C76: ='perkelas 9'!C91 -> ELFRIDA ARROUDHATUN NADYA | D76: ='perkelas 9'!D91 -> 9-B | E76: ='perkelas 9'!E91 -> 75 | F76: ='perkelas 9'!F91 -> 72 | G76: ='perkelas 9'!G91 -> 53 | H76: ='perkelas 9'!H91 -> 65 | I76: ='perkelas 9'!I91 -> 78 | ... O76: ='perkelas 9'!O91 -> 80 | P76: =SUM(E76:O76) -> 820 | Q76: =AVERAGE(E76:O76) -> 74.545455 | R76: =RANK(P76,$P$16:$P$244) -> 61
A77: 33 | B77: ='perkelas 9'!B79 -> 7316 | C77: ='perkelas 9'!C79 -> ADHELIA PUTRI FEBRIANTI | D77: ='perkelas 9'!D79 -> 9-B | E77: ='perkelas 9'!E79 -> 78 | F77: ='perkelas 9'!F79 -> 70 | G77: ='perkelas 9'!G79 -> 68 | H77: ='perkelas 9'!H79 -> 77 | I77: ='perkelas 9'!I79 -> 72 | ... O77: ='perkelas 9'!O79 -> 83 | P77: =SUM(E77:O77) -> 816 | Q77: =AVERAGE(E77:O77) -> 74.181818 | R77: =RANK(P77,$P$16:$P$244) -> 62
A78: 159 | B78: ='perkelas 9'!B299 -> 7308 | C78: ='perkelas 9'!C299 -> NURUN NAQIYYA | D78: ='perkelas 9'!D299 -> 9-E | E78: ='perkelas 9'!E299 -> 82 | F78: ='perkelas 9'!F299 -> 65 | G78: ='perkelas 9'!G299 -> 82 | H78: ='perkelas 9'!H299 -> 77 | I78: ='perkelas 9'!I299 -> 52 | ... O78: ='perkelas 9'!O299 -> 82 | P78: =SUM(E78:O78) -> 812 | Q78: =AVERAGE(E78:O78) -> 73.818182 | R78: =RANK(P78,$P$16:$P$244) -> 63
A79: 9 | B79: ='perkelas 9'!B24 -> 7493 | C79: ='perkelas 9'!C24 -> FIRDA RIANA HIDAYATUSSANI | D79: ='perkelas 9'!D24 -> 9-A | E79: ='perkelas 9'!E24 -> 75 | F79: ='perkelas 9'!F24 -> 79 | G79: ='perkelas 9'!G24 -> 70 | H79: ='perkelas 9'!H24 -> 67 | I79: ='perkelas 9'!I24 -> 76 | ... O79: ='perkelas 9'!O24 -> 76 | P79: =SUM(E79:O79) -> 812 | Q79: =AVERAGE(E79:O79) -> 73.818182 | R79: =RANK(P79,$P$16:$P$244) -> 63
A80: 161 | B80: ='perkelas 9'!B301 -> 7509 | C80: ='perkelas 9'!C301 -> RIFKA RIZKY WIJAYANTI | D80: ='perkelas 9'!D301 -> 9-E | E80: ='perkelas 9'!E301 -> 75 | F80: ='perkelas 9'!F301 -> 62 | G80: ='perkelas 9'!G301 -> 75 | H80: ='perkelas 9'!H301 -> 80 | I80: ='perkelas 9'!I301 -> 55 | ... O80: ='perkelas 9'!O301 -> 76 | P80: =SUM(E80:O80) -> 810 | Q80: =AVERAGE(E80:O80) -> 73.636364 | R80: =RANK(P80,$P$16:$P$244) -> 65
A81: 43 | B81: ='perkelas 9'!B89 -> 7392 | C81: ='perkelas 9'!C89 -> DIAS SYIFA ARYANI | D81: ='perkelas 9'!D89 -> 9-B | E81: ='perkelas 9'!E89 -> 72 | F81: ='perkelas 9'!F89 -> 73 | G81: ='perkelas 9'!G89 -> 77 | H81: ='perkelas 9'!H89 -> 57 | I81: ='perkelas 9'!I89 -> 66 | ... O81: ='perkelas 9'!O89 -> 85 | P81: =SUM(E81:O81) -> 810 | Q81: =AVERAGE(E81:O81) -> 73.636364 | R81: =RANK(P81,$P$16:$P$244) -> 65
A82: 209 | B82: ='perkelas 9'!B411 -> 7299 | C82: ='perkelas 9'!C411 -> IZZUL NASRULLAH AIDI SYIFA | D82: ='perkelas 9'!D411 -> 9-G | E82: ='perkelas 9'!E411 -> 63 | F82: ='perkelas 9'!F411 -> 77 | G82: ='perkelas 9'!G411 -> 78 | H82: ='perkelas 9'!H411 -> 80 | I82: ='perkelas 9'!I411 -> 57 | ... O82: ='perkelas 9'!O411 -> 76 | P82: =SUM(E82:O82) -> 805 | Q82: =AVERAGE(E82:O82) -> 73.181818 | R82: =RANK(P82,$P$16:$P$244) -> 67
A83: 107 | B83: ='perkelas 9'!B215 -> 7389 | C83: ='perkelas 9'!C215 -> BERLIANA MEILANI | D83: ='perkelas 9'!D215 -> 9-D | E83: ='perkelas 9'!E215 -> 72 | F83: ='perkelas 9'!F215 -> 75 | G83: ='perkelas 9'!G215 -> 78 | H83: ='perkelas 9'!H215 -> 77 | I83: ='perkelas 9'!I215 -> 36 | ... O83: ='perkelas 9'!O215 -> 77 | P83: =SUM(E83:O83) -> 804 | Q83: =AVERAGE(E83:O83) -> 73.090909 | R83: =RANK(P83,$P$16:$P$244) -> 68
A84: 138 | B84: ='perkelas 9'!B278 -> 7422 | C84: ='perkelas 9'!C278 -> AYIS FARA OFTIVIA | D84: ='perkelas 9'!D278 -> 9-E | E84: ='perkelas 9'!E278 -> 65 | F84: ='perkelas 9'!F278 -> 73 | G84: ='perkelas 9'!G278 -> 78 | H84: ='perkelas 9'!H278 -> 75 | I84: ='perkelas 9'!I278 -> 61 | ... O84: ='perkelas 9'!O278 -> 76 | P84: =SUM(E84:O84) -> 803 | Q84: =AVERAGE(E84:O84) -> 73 | R84: =RANK(P84,$P$16:$P$244) -> 69
A85: 69 | B85: ='perkelas 9'!B146 -> 7354 | C85: ='perkelas 9'!C146 -> ANGGRAENY BELLYA PUTRI MULYANI | D85: ='perkelas 9'!D146 -> 9-C | E85: ='perkelas 9'!E146 -> 77 | F85: ='perkelas 9'!F146 -> 75 | G85: ='perkelas 9'!G146 -> 75 | H85: ='perkelas 9'!H146 -> 53 | I85: ='perkelas 9'!I146 -> 58 | ... O85: ='perkelas 9'!O146 -> 73 | P85: =SUM(E85:O85) -> 802 | Q85: =AVERAGE(E85:O85) -> 72.909091 | R85: =RANK(P85,$P$16:$P$244) -> 70
A86: 67 | B86: ='perkelas 9'!B144 -> 7485 | C86: ='perkelas 9'!C144 -> AGUSTINA PUTRI NURHAYATI | D86: ='perkelas 9'!D144 -> 9-C | E86: ='perkelas 9'!E144 -> 68 | F86: ='perkelas 9'!F144 -> 72 | G86: ='perkelas 9'!G144 -> 77 | H86: ='perkelas 9'!H144 -> 68 | I86: ='perkelas 9'!I144 -> 52 | ... O86: ='perkelas 9'!O144 -> 82 | P86: =SUM(E86:O86) -> 797 | Q86: =AVERAGE(E86:O86) -> 72.454545 | R86: =RANK(P86,$P$16:$P$244) -> 71
A87: 16 | B87: ='perkelas 9'!B31 -> 7466 | C87: ='perkelas 9'!C31 -> LISA NUR FAUZIAH | D87: ='perkelas 9'!D31 -> 9-A | E87: ='perkelas 9'!E31 -> 70 | F87: ='perkelas 9'!F31 -> 72 | G87: ='perkelas 9'!G31 -> 68 | H87: ='perkelas 9'!H31 -> 63 | I87: ='perkelas 9'!I31 -> 72 | ... O87: ='perkelas 9'!O31 -> 88 | P87: =SUM(E87:O87) -> 796 | Q87: =AVERAGE(E87:O87) -> 72.363636 | R87: =RANK(P87,$P$16:$P$244) -> 72
A88: 123 | B88: ='perkelas 9'!B231 -> 7338 | C88: ='perkelas 9'!C231 -> NOVA WAHYU RAHMADHANTI | D88: ='perkelas 9'!D231 -> 9-D | E88: ='perkelas 9'!E231 -> 68 | F88: ='perkelas 9'!F231 -> 83 | G88: ='perkelas 9'!G231 -> 75 | H88: ='perkelas 9'!H231 -> 83 | I88: ='perkelas 9'!I231 -> 56 | ... O88: ='perkelas 9'!O231 -> 76 | P88: =SUM(E88:O88) -> 795 | Q88: =AVERAGE(E88:O88) -> 72.272727 | R88: =RANK(P88,$P$16:$P$244) -> 73
A89: 27 | B89: ='perkelas 9'!B42 -> 7479 | C89: ='perkelas 9'!C42 -> SYAFIQ TIRTO NUGROHO | D89: ='perkelas 9'!D42 -> 9-A | E89: ='perkelas 9'!E42 -> 73 | F89: ='perkelas 9'!F42 -> 72 | G89: ='perkelas 9'!G42 -> 68 | H89: ='perkelas 9'!H42 -> 57 | I89: ='perkelas 9'!I42 -> 72 | ... O89: ='perkelas 9'!O42 -> 82 | P89: =SUM(E89:O89) -> 793 | Q89: =AVERAGE(E89:O89) -> 72.090909 | R89: =RANK(P89,$P$16:$P$244) -> 74
A90: 157 | B90: ='perkelas 9'!B297 -> 7438 | C90: ='perkelas 9'!C297 -> NIKEN AYU SAFITRI | D90: ='perkelas 9'!D297 -> 9-E | E90: ='perkelas 9'!E297 -> 67 | F90: ='perkelas 9'!F297 -> 70 | G90: ='perkelas 9'!G297 -> 75 | H90: ='perkelas 9'!H297 -> 80 | I90: ='perkelas 9'!I297 -> 58 | ... O90: ='perkelas 9'!O297 -> 73 | P90: =SUM(E90:O90) -> 791 | Q90: =AVERAGE(E90:O90) -> 71.909091 | R90: =RANK(P90,$P$16:$P$244) -> 75
A91: 195 | B91: ='perkelas 9'!B366 -> 7348 | C91: ='perkelas 9'!C366 -> YASSIRLI AMRIYA | D91: ='perkelas 9'!D366 -> 9-F | E91: ='perkelas 9'!E366 -> 80 | F91: ='perkelas 9'!F366 -> 67 | G91: ='perkelas 9'!G366 -> 78 | H91: ='perkelas 9'!H366 -> 88 | I91: ='perkelas 9'!I366 -> 64 | ... O91: ='perkelas 9'!O366 -> 76 | P91: =SUM(E91:O91) -> 790 | Q91: =AVERAGE(E91:O91) -> 71.818182 | R91: =RANK(P91,$P$16:$P$244) -> 76
A92: 10 | B92: ='perkelas 9'!B25 -> 7494 | C92: ='perkelas 9'!C25 -> HANIF AKMAL MAULANA | D92: ='perkelas 9'!D25 -> 9-A | E92: ='perkelas 9'!E25 -> 72 | F92: ='perkelas 9'!F25 -> 80 | G92: ='perkelas 9'!G25 -> 67 | H92: ='perkelas 9'!H25 -> 63 | I92: ='perkelas 9'!I25 -> 66 | ... O92: ='perkelas 9'!O25 -> 83 | P92: =SUM(E92:O92) -> 787 | Q92: =AVERAGE(E92:O92) -> 71.545455 | R92: =RANK(P92,$P$16:$P$244) -> 77
A93: 89 | B93: ='perkelas 9'!B166 -> 7504 | C93: ='perkelas 9'!C166 -> NANDA FEBRIYANTI | D93: ='perkelas 9'!D166 -> 9-C | E93: ='perkelas 9'!E166 -> 82 | F93: ='perkelas 9'!F166 -> 75 | G93: ='perkelas 9'!G166 -> 72 | H93: ='perkelas 9'!H166 -> 75 | I93: ='perkelas 9'!I166 -> 46 | ... O93: ='perkelas 9'!O166 -> 76 | P93: =SUM(E93:O93) -> 787 | Q93: =AVERAGE(E93:O93) -> 71.545455 | R93: =RANK(P93,$P$16:$P$244) -> 77
A94: 121 | B94: ='perkelas 9'!B229 -> 7337 | C94: ='perkelas 9'!C229 -> NAJWA AMELIANI | D94: ='perkelas 9'!D229 -> 9-D | E94: ='perkelas 9'!E229 -> 68 | F94: ='perkelas 9'!F229 -> 79 | G94: ='perkelas 9'!G229 -> 77 | H94: ='perkelas 9'!H229 -> 70 | I94: ='perkelas 9'!I229 -> 39 | ... O94: ='perkelas 9'!O229 -> 82 | P94: =SUM(E94:O94) -> 787 | Q94: =AVERAGE(E94:O94) -> 71.545455 | R94: =RANK(P94,$P$16:$P$244) -> 77
A95: 124 | B95: ='perkelas 9'!B232 -> 7507 | C95: ='perkelas 9'!C232 -> NOVITA NUR AINI | D95: ='perkelas 9'!D232 -> 9-D | E95: ='perkelas 9'!E232 -> 82 | F95: ='perkelas 9'!F232 -> 67 | G95: ='perkelas 9'!G232 -> 80 | H95: ='perkelas 9'!H232 -> 68 | I95: ='perkelas 9'!I232 -> 46 | ... O95: ='perkelas 9'!O232 -> 76 | P95: =SUM(E95:O95) -> 786 | Q95: =AVERAGE(E95:O95) -> 71.454545 | R95: =RANK(P95,$P$16:$P$244) -> 80
A96: 156 | B96: ='perkelas 9'!B296 -> 7473 | C96: ='perkelas 9'!C296 -> NADIA AISYA FEBRIYANI | D96: ='perkelas 9'!D296 -> 9-E | E96: ='perkelas 9'!E296 -> 75 | F96: ='perkelas 9'!F296 -> 79 | G96: ='perkelas 9'!G296 -> 70 | H96: ='perkelas 9'!H296 -> 73 | I96: ='perkelas 9'!I296 -> 64 | ... O96: ='perkelas 9'!O296 -> 80 | P96: =SUM(E96:O96) -> 785 | Q96: =AVERAGE(E96:O96) -> 71.363636 | R96: =RANK(P96,$P$16:$P$244) -> 81
A97: 213 | B97: ='perkelas 9'!B415 -> 7302 | C97: ='perkelas 9'!C415 -> MU'AFFA FAHRU ROZAKY | D97: ='perkelas 9'!D415 -> 9-G | E97: ='perkelas 9'!E415 -> 65 | F97: ='perkelas 9'!F415 -> 77 | G97: ='perkelas 9'!G415 -> 78 | H97: ='perkelas 9'!H415 -> 60 | I97: ='perkelas 9'!I415 -> 34 | ... O97: ='perkelas 9'!O415 -> 80 | P97: =SUM(E97:O97) -> 784 | Q97: =AVERAGE(E97:O97) -> 71.272727 | R97: =RANK(P97,$P$16:$P$244) -> 82
A98: 145 | B98: ='perkelas 9'!B285 -> 7395 | C98: ='perkelas 9'!C285 -> FARIDATUL AMANIAH | D98: ='perkelas 9'!D285 -> 9-E | E98: ='perkelas 9'!E285 -> 72 | F98: ='perkelas 9'!F285 -> 77 | G98: ='perkelas 9'!G285 -> 77 | H98: ='perkelas 9'!H285 -> 78 | I98: ='perkelas 9'!I285 -> 49 | ... O98: ='perkelas 9'!O285 -> 73 | P98: =SUM(E98:O98) -> 781 | Q98: =AVERAGE(E98:O98) -> 71 | R98: =RANK(P98,$P$16:$P$244) -> 83
A99: 187 | B99: ='perkelas 9'!B358 -> 7435 | C99: ='perkelas 9'!C358 -> MUHAMMAD WIFQI AUFAL MAULANA | D99: ='perkelas 9'!D358 -> 9-F | E99: ='perkelas 9'!E358 -> 73 | F99: ='perkelas 9'!F358 -> 73 | G99: ='perkelas 9'!G358 -> 78 | H99: ='perkelas 9'!H358 -> 77 | I99: ='perkelas 9'!I358 -> 61 | ... O99: ='perkelas 9'!O358 -> 77 | P99: =SUM(E99:O99) -> 780 | Q99: =AVERAGE(E99:O99) -> 70.909091 | R99: =RANK(P99,$P$16:$P$244) -> 84
A100: 177 | B100: ='perkelas 9'!B348 -> 7368 | C100: ='perkelas 9'!C348 -> LATHIFAH ULFA | D100: ='perkelas 9'!D348 -> 9-F | E100: ='perkelas 9'!E348 -> 78 | F100: ='perkelas 9'!F348 -> 79 | G100: ='perkelas 9'!G348 -> 77 | H100: ='perkelas 9'!H348 -> 75 | I100: ='perkelas 9'!I348 -> 70 | ... O100: ='perkelas 9'!O348 -> 76 | P100: =SUM(E100:O100) -> 778 | Q100: =AVERAGE(E100:O100) -> 70.727273 | R100: =RANK(P100,$P$16:$P$244) -> 85
A101: 191 | B101: ='perkelas 9'!B362 -> 7441 | C101: ='perkelas 9'!C362 -> RADHITA PUTRI MAHARANI | D101: ='perkelas 9'!D362 -> 9-F | E101: ='perkelas 9'!E362 -> 67 | F101: ='perkelas 9'!F362 -> 63 | G101: ='perkelas 9'!G362 -> 75 | H101: ='perkelas 9'!H362 -> 80 | I101: ='perkelas 9'!I362 -> 64 | ... O101: ='perkelas 9'!O362 -> 78 | P101: =SUM(E101:O101) -> 776 | Q101: =AVERAGE(E101:O101) -> 70.545455 | R101: =RANK(P101,$P$16:$P$244) -> 86
A102: 113 | B102: ='perkelas 9'!B221 -> 7300 | C102: ='perkelas 9'!C221 -> JIHAN NAILA QOTRUN NADA | D102: ='perkelas 9'!D221 -> 9-D | E102: ='perkelas 9'!E221 -> 75 | F102: ='perkelas 9'!F221 -> 73 | G102: ='perkelas 9'!G221 -> 82 | H102: ='perkelas 9'!H221 -> 52 | I102: ='perkelas 9'!I221 -> 57 | ... O102: ='perkelas 9'!O221 -> 77 | P102: =SUM(E102:O102) -> 775 | Q102: =AVERAGE(E102:O102) -> 70.454545 | R102: =RANK(P102,$P$16:$P$244) -> 87
A103: 144 | B103: ='perkelas 9'!B284 -> 7293 | C103: ='perkelas 9'!C284 -> ERIKA DEWI CANDRA | D103: ='perkelas 9'!D284 -> 9-E | E103: ='perkelas 9'!E284 -> 65 | F103: ='perkelas 9'!F284 -> 75 | G103: ='perkelas 9'!G284 -> 63 | H103: ='perkelas 9'!H284 -> 65 | I103: ='perkelas 9'!I284 -> 61 | ... O103: ='perkelas 9'!O284 -> 73 | P103: =SUM(E103:O103) -> 773 | Q103: =AVERAGE(E103:O103) -> 70.272727 | R103: =RANK(P103,$P$16:$P$244) -> 88
...
